BEGIN:VCALENDAR
VERSION:2.0
PRODID:-//American Indian Family Center - ECPv6.15.17.1//NONSGML v1.0//EN
CALSCALE:GREGORIAN
METHOD:PUBLISH
X-WR-CALNAME:American Indian Family Center
X-ORIGINAL-URL:https://aifcmn.org
X-WR-CALDESC:Events for American Indian Family Center
REFRESH-INTERVAL;VALUE=DURATION:PT1H
X-Robots-Tag:noindex
X-PUBLISHED-TTL:PT1H
BEGIN:VTIMEZONE
TZID:America/Chicago
BEGIN:DAYLIGHT
TZOFFSETFROM:-0600
TZOFFSETTO:-0500
TZNAME:CDT
DTSTART:20200308T080000
END:DAYLIGHT
BEGIN:STANDARD
TZOFFSETFROM:-0500
TZOFFSETTO:-0600
TZNAME:CST
DTSTART:20201101T070000
END:STANDARD
BEGIN:DAYLIGHT
TZOFFSETFROM:-0600
TZOFFSETTO:-0500
TZNAME:CDT
DTSTART:20210314T080000
END:DAYLIGHT
BEGIN:STANDARD
TZOFFSETFROM:-0500
TZOFFSETTO:-0600
TZNAME:CST
DTSTART:20211107T070000
END:STANDARD
BEGIN:DAYLIGHT
TZOFFSETFROM:-0600
TZOFFSETTO:-0500
TZNAME:CDT
DTSTART:20220313T080000
END:DAYLIGHT
BEGIN:STANDARD
TZOFFSETFROM:-0500
TZOFFSETTO:-0600
TZNAME:CST
DTSTART:20221106T070000
END:STANDARD
END:VTIMEZONE
BEGIN:VEVENT
DTSTART;TZID=America/Chicago:20210924T170000
DTEND;TZID=America/Chicago:20210924T193000
DTSTAMP:20260420T050209
CREATED:20210916T204913Z
LAST-MODIFIED:20210916T204913Z
UID:10001068-1632502800-1632511800@aifcmn.org
SUMMARY:American Indian Community Fall Feast & Drum Blessing
DESCRIPTION:Let’s join together for an evening of song\, dance (powwow!)\, share a meal & have some fun! It has been too long\, relatives!\nWe encourage Community members to bring their regalia (dance outfit). Masks are highly encouraged (masks will be available).
URL:https://aifcmn.org/event/american-indian-community-fall-feast-drum-blessing/
LOCATION:Indian Mounds Regional Park\, Mounds Boulevard and Earl Street\, St. Paul\, MN\, Select a Country:
CATEGORIES:AIFC,Community Events,Employment Services,Family Services,Housing Services,Mental Health Services,Recovery Services,Youth Services
ATTACH;FMTTYPE=image/png:https://aifcmn.org/wp-content/uploads/2021/09/Fall-Feast-2021-Flyer.png
END:VEVENT
END:VCALENDAR