BEGIN:VCALENDAR
VERSION:2.0
PRODID:-//American Indian Family Center - ECPv6.15.17.1//NONSGML v1.0//EN
CALSCALE:GREGORIAN
METHOD:PUBLISH
X-ORIGINAL-URL:https://aifcmn.org
X-WR-CALDESC:Events for American Indian Family Center
REFRESH-INTERVAL;VALUE=DURATION:PT1H
X-Robots-Tag:noindex
X-PUBLISHED-TTL:PT1H
BEGIN:VTIMEZONE
TZID:America/Chicago
BEGIN:DAYLIGHT
TZOFFSETFROM:-0600
TZOFFSETTO:-0500
TZNAME:CDT
DTSTART:20200308T080000
END:DAYLIGHT
BEGIN:STANDARD
TZOFFSETFROM:-0500
TZOFFSETTO:-0600
TZNAME:CST
DTSTART:20201101T070000
END:STANDARD
BEGIN:DAYLIGHT
TZOFFSETFROM:-0600
TZOFFSETTO:-0500
TZNAME:CDT
DTSTART:20210314T080000
END:DAYLIGHT
BEGIN:STANDARD
TZOFFSETFROM:-0500
TZOFFSETTO:-0600
TZNAME:CST
DTSTART:20211107T070000
END:STANDARD
BEGIN:DAYLIGHT
TZOFFSETFROM:-0600
TZOFFSETTO:-0500
TZNAME:CDT
DTSTART:20220313T080000
END:DAYLIGHT
BEGIN:STANDARD
TZOFFSETFROM:-0500
TZOFFSETTO:-0600
TZNAME:CST
DTSTART:20221106T070000
END:STANDARD
END:VTIMEZONE
BEGIN:VEVENT
DTSTART;TZID=America/Chicago:20210906T180000
DTEND;TZID=America/Chicago:20210906T200000
DTSTAMP:20260425T163045
CREATED:20210606T214436Z
LAST-MODIFIED:20220902T163548Z
UID:10001011-1630951200-1630958400@aifcmn.org
SUMMARY:AIFC - [Virtual Event] Men's Support & Smudge Group
DESCRIPTION:Join American Indian Family Center’s Father & Men’s Outreach Specialist\, Rich Antell\, every other Monday for a virtual men’s smudge and support group.\n\nDon’t miss this chance to gather with other American Indian men to explore your identity\, participate in your culture\, and support each other.\n\nRegister here: https://bit.ly/3LuWlWK
URL:https://aifcmn.org/event/mens-virtual-support-smudge-group/2021-09-06/
LOCATION:Virtual Event
CATEGORIES:AIFC,Family Services
ATTACH;FMTTYPE=image/png:https://aifcmn.org/wp-content/uploads/2020/10/mens-group-FB-event-cover-5.png
ORGANIZER;CN="Ombi%E2%80%99ayaa Anishinaabe-Ininiiwug (Rise Up Original Men)":MAILTO:info@aifcmn.org
END:VEVENT
BEGIN:VEVENT
DTSTART;TZID=America/Chicago:20210913T180000
DTEND;TZID=America/Chicago:20210913T200000
DTSTAMP:20260425T163045
CREATED:20210606T214436Z
LAST-MODIFIED:20220902T163548Z
UID:10001012-1631556000-1631563200@aifcmn.org
SUMMARY:AIFC - [Virtual Event] Men's Support & Smudge Group
DESCRIPTION:Join American Indian Family Center’s Father & Men’s Outreach Specialist\, Rich Antell\, every other Monday for a virtual men’s smudge and support group.\n\nDon’t miss this chance to gather with other American Indian men to explore your identity\, participate in your culture\, and support each other.\n\nRegister here: https://bit.ly/3LuWlWK
URL:https://aifcmn.org/event/mens-virtual-support-smudge-group/2021-09-13/
LOCATION:Virtual Event
CATEGORIES:AIFC,Family Services
ATTACH;FMTTYPE=image/png:https://aifcmn.org/wp-content/uploads/2020/10/mens-group-FB-event-cover-5.png
ORGANIZER;CN="Ombi%E2%80%99ayaa Anishinaabe-Ininiiwug (Rise Up Original Men)":MAILTO:info@aifcmn.org
END:VEVENT
BEGIN:VEVENT
DTSTART;TZID=America/Chicago:20210920T180000
DTEND;TZID=America/Chicago:20210920T200000
DTSTAMP:20260425T163045
CREATED:20210606T214436Z
LAST-MODIFIED:20220902T163548Z
UID:10001013-1632160800-1632168000@aifcmn.org
SUMMARY:AIFC - [Virtual Event] Men's Support & Smudge Group
DESCRIPTION:Join American Indian Family Center’s Father & Men’s Outreach Specialist\, Rich Antell\, every other Monday for a virtual men’s smudge and support group.\n\nDon’t miss this chance to gather with other American Indian men to explore your identity\, participate in your culture\, and support each other.\n\nRegister here: https://bit.ly/3LuWlWK
URL:https://aifcmn.org/event/mens-virtual-support-smudge-group/2021-09-20/
LOCATION:Virtual Event
CATEGORIES:AIFC,Family Services
ATTACH;FMTTYPE=image/png:https://aifcmn.org/wp-content/uploads/2020/10/mens-group-FB-event-cover-5.png
ORGANIZER;CN="Ombi%E2%80%99ayaa Anishinaabe-Ininiiwug (Rise Up Original Men)":MAILTO:info@aifcmn.org
END:VEVENT
BEGIN:VEVENT
DTSTART;TZID=America/Chicago:20210924T170000
DTEND;TZID=America/Chicago:20210924T193000
DTSTAMP:20260425T163045
CREATED:20210916T204913Z
LAST-MODIFIED:20210916T204913Z
UID:10001068-1632502800-1632511800@aifcmn.org
SUMMARY:American Indian Community Fall Feast & Drum Blessing
DESCRIPTION:Let’s join together for an evening of song\, dance (powwow!)\, share a meal & have some fun! It has been too long\, relatives!\nWe encourage Community members to bring their regalia (dance outfit). Masks are highly encouraged (masks will be available).
URL:https://aifcmn.org/event/american-indian-community-fall-feast-drum-blessing/
LOCATION:Indian Mounds Regional Park\, Mounds Boulevard and Earl Street\, St. Paul\, MN\, Select a Country:
CATEGORIES:AIFC,Community Events,Employment Services,Family Services,Housing Services,Mental Health Services,Recovery Services,Youth Services
ATTACH;FMTTYPE=image/png:https://aifcmn.org/wp-content/uploads/2021/09/Fall-Feast-2021-Flyer.png
END:VEVENT
BEGIN:VEVENT
DTSTART;TZID=America/Chicago:20210927T180000
DTEND;TZID=America/Chicago:20210927T200000
DTSTAMP:20260425T163045
CREATED:20210606T214436Z
LAST-MODIFIED:20220902T163548Z
UID:10001014-1632765600-1632772800@aifcmn.org
SUMMARY:AIFC - [Virtual Event] Men's Support & Smudge Group
DESCRIPTION:Join American Indian Family Center’s Father & Men’s Outreach Specialist\, Rich Antell\, every other Monday for a virtual men’s smudge and support group.\n\nDon’t miss this chance to gather with other American Indian men to explore your identity\, participate in your culture\, and support each other.\n\nRegister here: https://bit.ly/3LuWlWK
URL:https://aifcmn.org/event/mens-virtual-support-smudge-group/2021-09-27/
LOCATION:Virtual Event
CATEGORIES:AIFC,Family Services
ATTACH;FMTTYPE=image/png:https://aifcmn.org/wp-content/uploads/2020/10/mens-group-FB-event-cover-5.png
ORGANIZER;CN="Ombi%E2%80%99ayaa Anishinaabe-Ininiiwug (Rise Up Original Men)":MAILTO:info@aifcmn.org
END:VEVENT
BEGIN:VEVENT
DTSTART;TZID=America/Chicago:20210927T180000
DTEND;TZID=America/Chicago:20210927T200000
DTSTAMP:20260425T163045
CREATED:20210927T173444Z
LAST-MODIFIED:20210927T173528Z
UID:10001072-1632765600-1632772800@aifcmn.org
SUMMARY:Men's Group Virtual Smudge & Support Group
DESCRIPTION:Join AIFC Men’s Outreach Specialist\, Rich Antell\, as he welcomes Don Coyhis\, founder of White Bison and the Wellbriety Movement\, TODAY!\n\nREGISTER FOR THE ZOOM MEETING AT https://us02web.zoom.us/j/86830684387
URL:https://aifcmn.org/event/mens-group-virtual-smudge-support-group/
LOCATION:MN
CATEGORIES:AIFC,Community Events,Family Services
ATTACH;FMTTYPE=image/png:https://aifcmn.org/wp-content/uploads/2021/09/OmbiAyaa-Anishinaabe-Ininiiwug-Rise-Up-Original-Men-Virtual-Smudge-Support-Group.png
END:VEVENT
END:VCALENDAR