BEGIN:VCALENDAR
VERSION:2.0
PRODID:-//American Indian Family Center - ECPv6.15.17.1//NONSGML v1.0//EN
CALSCALE:GREGORIAN
METHOD:PUBLISH
X-ORIGINAL-URL:https://aifcmn.org
X-WR-CALDESC:Events for American Indian Family Center
REFRESH-INTERVAL;VALUE=DURATION:PT1H
X-Robots-Tag:noindex
X-PUBLISHED-TTL:PT1H
BEGIN:VTIMEZONE
TZID:America/Chicago
BEGIN:DAYLIGHT
TZOFFSETFROM:-0600
TZOFFSETTO:-0500
TZNAME:CDT
DTSTART:20240310T080000
END:DAYLIGHT
BEGIN:STANDARD
TZOFFSETFROM:-0500
TZOFFSETTO:-0600
TZNAME:CST
DTSTART:20241103T070000
END:STANDARD
BEGIN:DAYLIGHT
TZOFFSETFROM:-0600
TZOFFSETTO:-0500
TZNAME:CDT
DTSTART:20250309T080000
END:DAYLIGHT
BEGIN:STANDARD
TZOFFSETFROM:-0500
TZOFFSETTO:-0600
TZNAME:CST
DTSTART:20251102T070000
END:STANDARD
BEGIN:DAYLIGHT
TZOFFSETFROM:-0600
TZOFFSETTO:-0500
TZNAME:CDT
DTSTART:20260308T080000
END:DAYLIGHT
BEGIN:STANDARD
TZOFFSETFROM:-0500
TZOFFSETTO:-0600
TZNAME:CST
DTSTART:20261101T070000
END:STANDARD
END:VTIMEZONE
BEGIN:VEVENT
DTSTART;TZID=America/Chicago:20250310T173000
DTEND;TZID=America/Chicago:20250310T203000
DTSTAMP:20260423T033036
CREATED:20250127T201729Z
LAST-MODIFIED:20250127T201729Z
UID:10005835-1741627800-1741638600@aifcmn.org
SUMMARY:AIFC: Ombi'ayaa Anishinaabe-Ininiiwug (Rise Up Original Men) - Men's Smudge and Support Group
DESCRIPTION:Join American Indian Family Center’s Father & Men’s Outreach Specialist\, Nate Bordeaux\, for an in-person Men’s Smudge and Support Group. \nIt will be a potluck\, so please bring a dish to share if you can! \nDon’t miss this chance to gather with other American Indian men to explore your identity\, participate in your culture\, and support each other. \nQuestions? Contact Nate Bordeaux at Nate.Bordeaux@aifcmn.org or (651) 505-6820.
URL:https://aifcmn.org/event/ombiayaa-anishinaabe-ininiiwug-rise-up-original-men-4-3-4-2/2025-03-10/
LOCATION:American Indian Family Center (AIFC)\, 579 Wells St\, Saint Paul\, MN\, 55130\, United States
CATEGORIES:AIFC,Family Services
END:VEVENT
BEGIN:VEVENT
DTSTART;TZID=America/Chicago:20250324T173000
DTEND;TZID=America/Chicago:20250324T203000
DTSTAMP:20260423T033036
CREATED:20250127T201729Z
LAST-MODIFIED:20250127T201729Z
UID:10005836-1742837400-1742848200@aifcmn.org
SUMMARY:AIFC: Ombi'ayaa Anishinaabe-Ininiiwug (Rise Up Original Men) - Men's Smudge and Support Group
DESCRIPTION:Join American Indian Family Center’s Father & Men’s Outreach Specialist\, Nate Bordeaux\, for an in-person Men’s Smudge and Support Group. \nIt will be a potluck\, so please bring a dish to share if you can! \nDon’t miss this chance to gather with other American Indian men to explore your identity\, participate in your culture\, and support each other. \nQuestions? Contact Nate Bordeaux at Nate.Bordeaux@aifcmn.org or (651) 505-6820.
URL:https://aifcmn.org/event/ombiayaa-anishinaabe-ininiiwug-rise-up-original-men-4-3-4-2/2025-03-24/
LOCATION:American Indian Family Center (AIFC)\, 579 Wells St\, Saint Paul\, MN\, 55130\, United States
CATEGORIES:AIFC,Family Services
END:VEVENT
END:VCALENDAR