BEGIN:VCALENDAR
VERSION:2.0
PRODID:-//American Indian Family Center - ECPv6.15.17.1//NONSGML v1.0//EN
CALSCALE:GREGORIAN
METHOD:PUBLISH
X-ORIGINAL-URL:https://aifcmn.org
X-WR-CALDESC:Events for American Indian Family Center
REFRESH-INTERVAL;VALUE=DURATION:PT1H
X-Robots-Tag:noindex
X-PUBLISHED-TTL:PT1H
BEGIN:VTIMEZONE
TZID:America/Chicago
BEGIN:DAYLIGHT
TZOFFSETFROM:-0600
TZOFFSETTO:-0500
TZNAME:CDT
DTSTART:20230312T080000
END:DAYLIGHT
BEGIN:STANDARD
TZOFFSETFROM:-0500
TZOFFSETTO:-0600
TZNAME:CST
DTSTART:20231105T070000
END:STANDARD
BEGIN:DAYLIGHT
TZOFFSETFROM:-0600
TZOFFSETTO:-0500
TZNAME:CDT
DTSTART:20240310T080000
END:DAYLIGHT
BEGIN:STANDARD
TZOFFSETFROM:-0500
TZOFFSETTO:-0600
TZNAME:CST
DTSTART:20241103T070000
END:STANDARD
BEGIN:DAYLIGHT
TZOFFSETFROM:-0600
TZOFFSETTO:-0500
TZNAME:CDT
DTSTART:20250309T080000
END:DAYLIGHT
BEGIN:STANDARD
TZOFFSETFROM:-0500
TZOFFSETTO:-0600
TZNAME:CST
DTSTART:20251102T070000
END:STANDARD
END:VTIMEZONE
BEGIN:VEVENT
DTSTART;TZID=America/Chicago:20241022T080000
DTEND;TZID=America/Chicago:20241022T170000
DTSTAMP:20260423T033219
CREATED:20250106T212425Z
LAST-MODIFIED:20250106T212425Z
UID:10005813-1729584000-1729616400@aifcmn.org
SUMMARY:AIFC: Ombi'ayaa Anishinaabe-Ininiiwug (Rise Up Original Men) - Circle of Security Parenting Class
DESCRIPTION:
URL:https://aifcmn.org/event/aifc-ombiayaa-anishinaabe-ininiiwug-rise-up-original-men-circle-of-security-parenting-class-3/2024-10-22/1/
LOCATION:American Indian Family Center (AIFC)\, 579 Wells St\, Saint Paul\, MN\, 55130\, United States
CATEGORIES:AIFC,Family Services
ATTACH;FMTTYPE=image/png:https://aifcmn.org/wp-content/uploads/2025/01/Circle-of-Security-Parenting-Class-Winter-2025.png
END:VEVENT
BEGIN:VEVENT
DTSTART;TZID=America/Chicago:20241022T080000
DTEND;TZID=America/Chicago:20241022T170000
DTSTAMP:20260423T033219
CREATED:20241104T195645Z
LAST-MODIFIED:20241104T195645Z
UID:10004855-1729584000-1729616400@aifcmn.org
SUMMARY:AIFC: Ombi'ayaa Anishinaabe-Ininiiwug (Rise Up Original Men) - Circle of Security Parenting Class
DESCRIPTION:
URL:https://aifcmn.org/event/aifc-ombiayaa-anishinaabe-ininiiwug-rise-up-original-men-circle-of-security-parenting-class-2/2024-10-22/1/
LOCATION:American Indian Family Center (AIFC)\, 579 Wells St\, Saint Paul\, MN\, 55130\, United States
CATEGORIES:AIFC,Family Services
ATTACH;FMTTYPE=image/png:https://aifcmn.org/wp-content/uploads/2024/11/Circle-of-Security-Parenting-Class-Fall-2024.png
END:VEVENT
BEGIN:VEVENT
DTSTART;TZID=America/Chicago:20241021T180000
DTEND;TZID=America/Chicago:20241021T200000
DTSTAMP:20260423T033219
CREATED:20240506T201928Z
LAST-MODIFIED:20240905T203753Z
UID:10002996-1729533600-1729540800@aifcmn.org
SUMMARY:AIFC: Ombi'ayaa Anishinaabe-Ininiiwug (Rise Up Original Men) - Men's Smudge and Support Group
DESCRIPTION:Join American Indian Family Center’s Father & Men’s Outreach Specialist\, Nate Bordeaux\, for an in-person Men’s Smudge and Support Group. \nIt will be a potluck\, so please bring a dish to share if you can! \nDon’t miss this chance to gather with other American Indian men to explore your identity\, participate in your culture\, and support each other. \nQuestions? Contact Nate Bordeaux at Nate.Bordeaux@aifcmn.org or (651) 505-6820.
URL:https://aifcmn.org/event/ombiayaa-anishinaabe-ininiiwug-rise-up-original-men-4-3-4/2024-10-21/
LOCATION:American Indian Family Center (AIFC)\, 579 Wells St\, Saint Paul\, MN\, 55130\, United States
CATEGORIES:AIFC,Family Services
END:VEVENT
BEGIN:VEVENT
DTSTART;TZID=America/Chicago:20241017T153000
DTEND;TZID=America/Chicago:20241017T170000
DTSTAMP:20260423T033219
CREATED:20240924T213240Z
LAST-MODIFIED:20240924T213553Z
UID:10004691-1729179000-1729184400@aifcmn.org
SUMMARY:[Virtual Event] AIFC: Soogizin Dodem (Strengthening Families)
DESCRIPTION:
URL:https://aifcmn.org/event/aifc-virtual-soogizin-dodem-strengthening-families/2024-10-17/
LOCATION:
CATEGORIES:AIFC,Family Services
ATTACH;FMTTYPE=image/png:https://aifcmn.org/wp-content/uploads/2024/09/Soogizin-Dodem-Flyer-7.png
END:VEVENT
BEGIN:VEVENT
DTSTART;TZID=America/Chicago:20241010T153000
DTEND;TZID=America/Chicago:20241010T170000
DTSTAMP:20260423T033219
CREATED:20240924T213240Z
LAST-MODIFIED:20240924T213553Z
UID:10004690-1728574200-1728579600@aifcmn.org
SUMMARY:[Virtual Event] AIFC: Soogizin Dodem (Strengthening Families)
DESCRIPTION:
URL:https://aifcmn.org/event/aifc-virtual-soogizin-dodem-strengthening-families/2024-10-10/
LOCATION:
CATEGORIES:AIFC,Family Services
ATTACH;FMTTYPE=image/png:https://aifcmn.org/wp-content/uploads/2024/09/Soogizin-Dodem-Flyer-7.png
END:VEVENT
BEGIN:VEVENT
DTSTART;TZID=America/Chicago:20241007T180000
DTEND;TZID=America/Chicago:20241007T200000
DTSTAMP:20260423T033219
CREATED:20240506T201928Z
LAST-MODIFIED:20240905T203753Z
UID:10002994-1728324000-1728331200@aifcmn.org
SUMMARY:AIFC: Ombi'ayaa Anishinaabe-Ininiiwug (Rise Up Original Men) - Men's Smudge and Support Group
DESCRIPTION:Join American Indian Family Center’s Father & Men’s Outreach Specialist\, Nate Bordeaux\, for an in-person Men’s Smudge and Support Group. \nIt will be a potluck\, so please bring a dish to share if you can! \nDon’t miss this chance to gather with other American Indian men to explore your identity\, participate in your culture\, and support each other. \nQuestions? Contact Nate Bordeaux at Nate.Bordeaux@aifcmn.org or (651) 505-6820.
URL:https://aifcmn.org/event/ombiayaa-anishinaabe-ininiiwug-rise-up-original-men-4-3-4/2024-10-07/
LOCATION:American Indian Family Center (AIFC)\, 579 Wells St\, Saint Paul\, MN\, 55130\, United States
CATEGORIES:AIFC,Family Services
END:VEVENT
BEGIN:VEVENT
DTSTART;TZID=America/Chicago:20241003T153000
DTEND;TZID=America/Chicago:20241003T170000
DTSTAMP:20260423T033219
CREATED:20240924T213240Z
LAST-MODIFIED:20240924T213553Z
UID:10004689-1727969400-1727974800@aifcmn.org
SUMMARY:[Virtual Event] AIFC: Soogizin Dodem (Strengthening Families)
DESCRIPTION:
URL:https://aifcmn.org/event/aifc-virtual-soogizin-dodem-strengthening-families/2024-10-03/
LOCATION:
CATEGORIES:AIFC,Family Services
ATTACH;FMTTYPE=image/png:https://aifcmn.org/wp-content/uploads/2024/09/Soogizin-Dodem-Flyer-7.png
END:VEVENT
BEGIN:VEVENT
DTSTART;TZID=America/Chicago:20240930T180000
DTEND;TZID=America/Chicago:20240930T200000
DTSTAMP:20260423T033219
CREATED:20240617T193749Z
LAST-MODIFIED:20241112T175317Z
UID:10004234-1727719200-1727726400@aifcmn.org
SUMMARY:AIFC: Ombi'ayaa Anishinaabe-Ininiiwug (Rise Up Original Men) - Men's Smudge and Support Group
DESCRIPTION:Join American Indian Family Center’s Father & Men’s Outreach Specialist\, Nate Bordeaux\, for an in-person Men’s Smudge and Support Group. \nIt will be a potluck\, so please bring a dish to share if you can! \nDon’t miss this chance to gather with other American Indian men to explore your identity\, participate in your culture\, and support each other. \nQuestions? Contact Nate Bordeaux at Nate.Bordeaux@aifcmn.org or (651) 505-6820.
URL:https://aifcmn.org/event/aifc-ombiayaa-anishinaabe-ininiiwug-rise-up-original-men-mens-smudge-and-support-group-3/2024-09-30/
LOCATION:Indigenous Roots Cultural Arts Center\, 788 East 7th Street\, Saint Paul\, MN\, 55106\, United States
CATEGORIES:AIFC,Family Services
END:VEVENT
BEGIN:VEVENT
DTSTART;TZID=America/Chicago:20240926T153000
DTEND;TZID=America/Chicago:20240926T170000
DTSTAMP:20260423T033219
CREATED:20240924T213240Z
LAST-MODIFIED:20240924T213553Z
UID:10004688-1727364600-1727370000@aifcmn.org
SUMMARY:[Virtual Event] AIFC: Soogizin Dodem (Strengthening Families)
DESCRIPTION:
URL:https://aifcmn.org/event/aifc-virtual-soogizin-dodem-strengthening-families/2024-09-26/
LOCATION:
CATEGORIES:AIFC,Family Services
ATTACH;FMTTYPE=image/png:https://aifcmn.org/wp-content/uploads/2024/09/Soogizin-Dodem-Flyer-7.png
END:VEVENT
BEGIN:VEVENT
DTSTART;TZID=America/Chicago:20240923T180000
DTEND;TZID=America/Chicago:20240923T200000
DTSTAMP:20260423T033219
CREATED:20240506T201928Z
LAST-MODIFIED:20240905T203753Z
UID:10002992-1727114400-1727121600@aifcmn.org
SUMMARY:AIFC: Ombi'ayaa Anishinaabe-Ininiiwug (Rise Up Original Men) - Men's Smudge and Support Group
DESCRIPTION:Join American Indian Family Center’s Father & Men’s Outreach Specialist\, Nate Bordeaux\, for an in-person Men’s Smudge and Support Group. \nIt will be a potluck\, so please bring a dish to share if you can! \nDon’t miss this chance to gather with other American Indian men to explore your identity\, participate in your culture\, and support each other. \nQuestions? Contact Nate Bordeaux at Nate.Bordeaux@aifcmn.org or (651) 505-6820.
URL:https://aifcmn.org/event/ombiayaa-anishinaabe-ininiiwug-rise-up-original-men-4-3-4/2024-09-23/
LOCATION:American Indian Family Center (AIFC)\, 579 Wells St\, Saint Paul\, MN\, 55130\, United States
CATEGORIES:AIFC,Family Services
END:VEVENT
BEGIN:VEVENT
DTSTART;TZID=America/Chicago:20240919T153000
DTEND;TZID=America/Chicago:20240919T170000
DTSTAMP:20260423T033219
CREATED:20240924T213240Z
LAST-MODIFIED:20240924T213553Z
UID:10004687-1726759800-1726765200@aifcmn.org
SUMMARY:[Virtual Event] AIFC: Soogizin Dodem (Strengthening Families)
DESCRIPTION:
URL:https://aifcmn.org/event/aifc-virtual-soogizin-dodem-strengthening-families/2024-09-19/
LOCATION:
CATEGORIES:AIFC,Family Services
ATTACH;FMTTYPE=image/png:https://aifcmn.org/wp-content/uploads/2024/09/Soogizin-Dodem-Flyer-7.png
END:VEVENT
BEGIN:VEVENT
DTSTART;TZID=America/Chicago:20240916T180000
DTEND;TZID=America/Chicago:20240916T200000
DTSTAMP:20260423T033219
CREATED:20240617T193749Z
LAST-MODIFIED:20241112T175317Z
UID:10004233-1726509600-1726516800@aifcmn.org
SUMMARY:AIFC: Ombi'ayaa Anishinaabe-Ininiiwug (Rise Up Original Men) - Men's Smudge and Support Group
DESCRIPTION:Join American Indian Family Center’s Father & Men’s Outreach Specialist\, Nate Bordeaux\, for an in-person Men’s Smudge and Support Group. \nIt will be a potluck\, so please bring a dish to share if you can! \nDon’t miss this chance to gather with other American Indian men to explore your identity\, participate in your culture\, and support each other. \nQuestions? Contact Nate Bordeaux at Nate.Bordeaux@aifcmn.org or (651) 505-6820.
URL:https://aifcmn.org/event/aifc-ombiayaa-anishinaabe-ininiiwug-rise-up-original-men-mens-smudge-and-support-group-3/2024-09-16/
LOCATION:Indigenous Roots Cultural Arts Center\, 788 East 7th Street\, Saint Paul\, MN\, 55106\, United States
CATEGORIES:AIFC,Family Services
END:VEVENT
BEGIN:VEVENT
DTSTART;TZID=America/Chicago:20240912T153000
DTEND;TZID=America/Chicago:20240912T170000
DTSTAMP:20260423T033219
CREATED:20240924T213240Z
LAST-MODIFIED:20240924T213553Z
UID:10004686-1726155000-1726160400@aifcmn.org
SUMMARY:[Virtual Event] AIFC: Soogizin Dodem (Strengthening Families)
DESCRIPTION:
URL:https://aifcmn.org/event/aifc-virtual-soogizin-dodem-strengthening-families/2024-09-12/
LOCATION:
CATEGORIES:AIFC,Family Services
ATTACH;FMTTYPE=image/png:https://aifcmn.org/wp-content/uploads/2024/09/Soogizin-Dodem-Flyer-7.png
END:VEVENT
BEGIN:VEVENT
DTSTART;TZID=America/Chicago:20240909T180000
DTEND;TZID=America/Chicago:20240909T200000
DTSTAMP:20260423T033219
CREATED:20240905T203913Z
LAST-MODIFIED:20240905T203948Z
UID:10004673-1725904800-1725912000@aifcmn.org
SUMMARY:AIFC & ADYC: Long-Hair Teachings with Zack Red Bear
DESCRIPTION:
URL:https://aifcmn.org/event/long-hair-teachings-with-zack-red-bear/
LOCATION:American Indian Family Center (AIFC)\, 579 Wells St\, Saint Paul\, MN\, 55130\, United States
CATEGORIES:AIFC,Family Services,Youth Services
ATTACH;FMTTYPE=image/png:https://aifcmn.org/wp-content/uploads/2024/09/Long-Hair-Teachings-with-Zack-Red-Bear.png
END:VEVENT
BEGIN:VEVENT
DTSTART;TZID=America/Chicago:20240902T180000
DTEND;TZID=America/Chicago:20240902T200000
DTSTAMP:20260423T033219
CREATED:20240617T193749Z
LAST-MODIFIED:20241112T175317Z
UID:10004232-1725300000-1725307200@aifcmn.org
SUMMARY:AIFC: Ombi'ayaa Anishinaabe-Ininiiwug (Rise Up Original Men) - Men's Smudge and Support Group
DESCRIPTION:Join American Indian Family Center’s Father & Men’s Outreach Specialist\, Nate Bordeaux\, for an in-person Men’s Smudge and Support Group. \nIt will be a potluck\, so please bring a dish to share if you can! \nDon’t miss this chance to gather with other American Indian men to explore your identity\, participate in your culture\, and support each other. \nQuestions? Contact Nate Bordeaux at Nate.Bordeaux@aifcmn.org or (651) 505-6820.
URL:https://aifcmn.org/event/aifc-ombiayaa-anishinaabe-ininiiwug-rise-up-original-men-mens-smudge-and-support-group-3/2024-09-02/
LOCATION:Indigenous Roots Cultural Arts Center\, 788 East 7th Street\, Saint Paul\, MN\, 55106\, United States
CATEGORIES:AIFC,Family Services
END:VEVENT
BEGIN:VEVENT
DTSTART;TZID=America/Chicago:20240827T130000
DTEND;TZID=America/Chicago:20240827T150000
DTSTAMP:20260423T033219
CREATED:20240620T202500Z
LAST-MODIFIED:20240819T191154Z
UID:10004376-1724763600-1724770800@aifcmn.org
SUMMARY:AIFC: Ombi'ayaa Anishinaabe-Ininiiwug (Rise Up Original Men) - Circle of Security Parenting Class
DESCRIPTION:
URL:https://aifcmn.org/event/aifc-ombiayaa-anishinaabe-ininiiwug-rise-up-original-men-circle-of-security-parenting-class/2024-08-27/
LOCATION:American Indian Family Center (AIFC)\, 579 Wells St\, Saint Paul\, MN\, 55130\, United States
CATEGORIES:AIFC,Family Services
ATTACH;FMTTYPE=image/png:https://aifcmn.org/wp-content/uploads/2024/06/Circle-of-Security-Parenting-Class-Summer-2024.png
END:VEVENT
BEGIN:VEVENT
DTSTART;TZID=America/Chicago:20240826T180000
DTEND;TZID=America/Chicago:20240826T200000
DTSTAMP:20260423T033219
CREATED:20240506T201928Z
LAST-MODIFIED:20240905T203753Z
UID:10002988-1724695200-1724702400@aifcmn.org
SUMMARY:AIFC: Ombi'ayaa Anishinaabe-Ininiiwug (Rise Up Original Men) - Men's Smudge and Support Group
DESCRIPTION:Join American Indian Family Center’s Father & Men’s Outreach Specialist\, Nate Bordeaux\, for an in-person Men’s Smudge and Support Group. \nIt will be a potluck\, so please bring a dish to share if you can! \nDon’t miss this chance to gather with other American Indian men to explore your identity\, participate in your culture\, and support each other. \nQuestions? Contact Nate Bordeaux at Nate.Bordeaux@aifcmn.org or (651) 505-6820.
URL:https://aifcmn.org/event/ombiayaa-anishinaabe-ininiiwug-rise-up-original-men-4-3-4/2024-08-26/
LOCATION:American Indian Family Center (AIFC)\, 579 Wells St\, Saint Paul\, MN\, 55130\, United States
CATEGORIES:AIFC,Family Services
END:VEVENT
BEGIN:VEVENT
DTSTART;TZID=America/Chicago:20240813T130000
DTEND;TZID=America/Chicago:20240813T150000
DTSTAMP:20260423T033219
CREATED:20240620T202500Z
LAST-MODIFIED:20240819T191154Z
UID:10004374-1723554000-1723561200@aifcmn.org
SUMMARY:AIFC: Ombi'ayaa Anishinaabe-Ininiiwug (Rise Up Original Men) - Circle of Security Parenting Class
DESCRIPTION:
URL:https://aifcmn.org/event/aifc-ombiayaa-anishinaabe-ininiiwug-rise-up-original-men-circle-of-security-parenting-class/2024-08-13/
LOCATION:American Indian Family Center (AIFC)\, 579 Wells St\, Saint Paul\, MN\, 55130\, United States
CATEGORIES:AIFC,Family Services
ATTACH;FMTTYPE=image/png:https://aifcmn.org/wp-content/uploads/2024/06/Circle-of-Security-Parenting-Class-Summer-2024.png
END:VEVENT
BEGIN:VEVENT
DTSTART;TZID=America/Chicago:20240812T180000
DTEND;TZID=America/Chicago:20240812T200000
DTSTAMP:20260423T033219
CREATED:20240506T201928Z
LAST-MODIFIED:20240905T203753Z
UID:10002986-1723485600-1723492800@aifcmn.org
SUMMARY:AIFC: Ombi'ayaa Anishinaabe-Ininiiwug (Rise Up Original Men) - Men's Smudge and Support Group
DESCRIPTION:Join American Indian Family Center’s Father & Men’s Outreach Specialist\, Nate Bordeaux\, for an in-person Men’s Smudge and Support Group. \nIt will be a potluck\, so please bring a dish to share if you can! \nDon’t miss this chance to gather with other American Indian men to explore your identity\, participate in your culture\, and support each other. \nQuestions? Contact Nate Bordeaux at Nate.Bordeaux@aifcmn.org or (651) 505-6820.
URL:https://aifcmn.org/event/ombiayaa-anishinaabe-ininiiwug-rise-up-original-men-4-3-4/2024-08-12/
LOCATION:American Indian Family Center (AIFC)\, 579 Wells St\, Saint Paul\, MN\, 55130\, United States
CATEGORIES:AIFC,Family Services
END:VEVENT
BEGIN:VEVENT
DTSTART;TZID=America/Chicago:20240806T130000
DTEND;TZID=America/Chicago:20240806T150000
DTSTAMP:20260423T033219
CREATED:20240620T202500Z
LAST-MODIFIED:20240819T191154Z
UID:10004373-1722949200-1722956400@aifcmn.org
SUMMARY:AIFC: Ombi'ayaa Anishinaabe-Ininiiwug (Rise Up Original Men) - Circle of Security Parenting Class
DESCRIPTION:
URL:https://aifcmn.org/event/aifc-ombiayaa-anishinaabe-ininiiwug-rise-up-original-men-circle-of-security-parenting-class/2024-08-06/
LOCATION:American Indian Family Center (AIFC)\, 579 Wells St\, Saint Paul\, MN\, 55130\, United States
CATEGORIES:AIFC,Family Services
ATTACH;FMTTYPE=image/png:https://aifcmn.org/wp-content/uploads/2024/06/Circle-of-Security-Parenting-Class-Summer-2024.png
END:VEVENT
BEGIN:VEVENT
DTSTART;TZID=America/Chicago:20240805T180000
DTEND;TZID=America/Chicago:20240805T200000
DTSTAMP:20260423T033219
CREATED:20240617T193749Z
LAST-MODIFIED:20241112T175317Z
UID:10004230-1722880800-1722888000@aifcmn.org
SUMMARY:AIFC: Ombi'ayaa Anishinaabe-Ininiiwug (Rise Up Original Men) - Men's Smudge and Support Group
DESCRIPTION:Join American Indian Family Center’s Father & Men’s Outreach Specialist\, Nate Bordeaux\, for an in-person Men’s Smudge and Support Group. \nIt will be a potluck\, so please bring a dish to share if you can! \nDon’t miss this chance to gather with other American Indian men to explore your identity\, participate in your culture\, and support each other. \nQuestions? Contact Nate Bordeaux at Nate.Bordeaux@aifcmn.org or (651) 505-6820.
URL:https://aifcmn.org/event/aifc-ombiayaa-anishinaabe-ininiiwug-rise-up-original-men-mens-smudge-and-support-group-3/2024-08-05/
LOCATION:Indigenous Roots Cultural Arts Center\, 788 East 7th Street\, Saint Paul\, MN\, 55106\, United States
CATEGORIES:AIFC,Family Services
END:VEVENT
BEGIN:VEVENT
DTSTART;TZID=America/Chicago:20240730T130000
DTEND;TZID=America/Chicago:20240730T150000
DTSTAMP:20260423T033219
CREATED:20240620T202500Z
LAST-MODIFIED:20240819T191154Z
UID:10004372-1722344400-1722351600@aifcmn.org
SUMMARY:AIFC: Ombi'ayaa Anishinaabe-Ininiiwug (Rise Up Original Men) - Circle of Security Parenting Class
DESCRIPTION:
URL:https://aifcmn.org/event/aifc-ombiayaa-anishinaabe-ininiiwug-rise-up-original-men-circle-of-security-parenting-class/2024-07-30/
LOCATION:American Indian Family Center (AIFC)\, 579 Wells St\, Saint Paul\, MN\, 55130\, United States
CATEGORIES:AIFC,Family Services
ATTACH;FMTTYPE=image/png:https://aifcmn.org/wp-content/uploads/2024/06/Circle-of-Security-Parenting-Class-Summer-2024.png
END:VEVENT
BEGIN:VEVENT
DTSTART;TZID=America/Chicago:20240729T180000
DTEND;TZID=America/Chicago:20240729T200000
DTSTAMP:20260423T033219
CREATED:20240506T201928Z
LAST-MODIFIED:20240905T203753Z
UID:10002984-1722276000-1722283200@aifcmn.org
SUMMARY:AIFC: Ombi'ayaa Anishinaabe-Ininiiwug (Rise Up Original Men) - Men's Smudge and Support Group
DESCRIPTION:Join American Indian Family Center’s Father & Men’s Outreach Specialist\, Nate Bordeaux\, for an in-person Men’s Smudge and Support Group. \nIt will be a potluck\, so please bring a dish to share if you can! \nDon’t miss this chance to gather with other American Indian men to explore your identity\, participate in your culture\, and support each other. \nQuestions? Contact Nate Bordeaux at Nate.Bordeaux@aifcmn.org or (651) 505-6820.
URL:https://aifcmn.org/event/ombiayaa-anishinaabe-ininiiwug-rise-up-original-men-4-3-4/2024-07-29/
LOCATION:American Indian Family Center (AIFC)\, 579 Wells St\, Saint Paul\, MN\, 55130\, United States
CATEGORIES:AIFC,Family Services
END:VEVENT
BEGIN:VEVENT
DTSTART;TZID=America/Chicago:20240723T130000
DTEND;TZID=America/Chicago:20240723T150000
DTSTAMP:20260423T033219
CREATED:20240620T202500Z
LAST-MODIFIED:20240819T191154Z
UID:10004371-1721739600-1721746800@aifcmn.org
SUMMARY:AIFC: Ombi'ayaa Anishinaabe-Ininiiwug (Rise Up Original Men) - Circle of Security Parenting Class
DESCRIPTION:
URL:https://aifcmn.org/event/aifc-ombiayaa-anishinaabe-ininiiwug-rise-up-original-men-circle-of-security-parenting-class/2024-07-23/
LOCATION:American Indian Family Center (AIFC)\, 579 Wells St\, Saint Paul\, MN\, 55130\, United States
CATEGORIES:AIFC,Family Services
ATTACH;FMTTYPE=image/png:https://aifcmn.org/wp-content/uploads/2024/06/Circle-of-Security-Parenting-Class-Summer-2024.png
END:VEVENT
BEGIN:VEVENT
DTSTART;TZID=America/Chicago:20240722T180000
DTEND;TZID=America/Chicago:20240722T200000
DTSTAMP:20260423T033219
CREATED:20240617T193749Z
LAST-MODIFIED:20241112T175317Z
UID:10004229-1721671200-1721678400@aifcmn.org
SUMMARY:AIFC: Ombi'ayaa Anishinaabe-Ininiiwug (Rise Up Original Men) - Men's Smudge and Support Group
DESCRIPTION:Join American Indian Family Center’s Father & Men’s Outreach Specialist\, Nate Bordeaux\, for an in-person Men’s Smudge and Support Group. \nIt will be a potluck\, so please bring a dish to share if you can! \nDon’t miss this chance to gather with other American Indian men to explore your identity\, participate in your culture\, and support each other. \nQuestions? Contact Nate Bordeaux at Nate.Bordeaux@aifcmn.org or (651) 505-6820.
URL:https://aifcmn.org/event/aifc-ombiayaa-anishinaabe-ininiiwug-rise-up-original-men-mens-smudge-and-support-group-3/2024-07-22/
LOCATION:Indigenous Roots Cultural Arts Center\, 788 East 7th Street\, Saint Paul\, MN\, 55106\, United States
CATEGORIES:AIFC,Family Services
END:VEVENT
BEGIN:VEVENT
DTSTART;TZID=America/Chicago:20240718T120000
DTEND;TZID=America/Chicago:20240718T160000
DTSTAMP:20260423T033219
CREATED:20240715T170055Z
LAST-MODIFIED:20240715T170055Z
UID:10004643-1721304000-1721318400@aifcmn.org
SUMMARY:AIFC & ADYC: Baaga'adowedaa! (Let's Play Lacrosse) Youth Camp
DESCRIPTION:Join Jerry Morgan (Leech Lake Ojibwe) for a two-day Youth camp all about learning the Creator’s game . . . Lacrosse! Jerry will share teachings\, and stories\, lead the Youth in some drills\, and play a game. \nOpen to Youth ages 5-17 (grades K-12) and their families. \nThere will be an optional Youth sweat following day two. \nFor questions or transportation requests\, contact: \nTyler Bouwens\, ADYC\, (612) 812-7041\, Zack RedBear\, ADYC\, (651) 352-1354\, -or- Nate Bordeaux\, AIFC\, (612) 567-3249
URL:https://aifcmn.org/event/aifc-adyc-baagaadowedaa-lets-play-lacrosse-youth-camp/2024-07-18/
LOCATION:Belwin Conservancy\, 1553 Stagecoach Trail South\, Afton\, MN\, 55001\, United States
CATEGORIES:AIFC,Family Services
ATTACH;FMTTYPE=image/png:https://aifcmn.org/wp-content/uploads/2024/07/Baagaadowedaa-Lets-Play-Lacrosse-Youth-Camp.png
END:VEVENT
BEGIN:VEVENT
DTSTART;TZID=America/Chicago:20240717T120000
DTEND;TZID=America/Chicago:20240717T160000
DTSTAMP:20260423T033219
CREATED:20240715T170055Z
LAST-MODIFIED:20240715T170055Z
UID:10004642-1721217600-1721232000@aifcmn.org
SUMMARY:AIFC & ADYC: Baaga'adowedaa! (Let's Play Lacrosse) Youth Camp
DESCRIPTION:Join Jerry Morgan (Leech Lake Ojibwe) for a two-day Youth camp all about learning the Creator’s game . . . Lacrosse! Jerry will share teachings\, and stories\, lead the Youth in some drills\, and play a game. \nOpen to Youth ages 5-17 (grades K-12) and their families. \nThere will be an optional Youth sweat following day two. \nFor questions or transportation requests\, contact: \nTyler Bouwens\, ADYC\, (612) 812-7041\, Zack RedBear\, ADYC\, (651) 352-1354\, -or- Nate Bordeaux\, AIFC\, (612) 567-3249
URL:https://aifcmn.org/event/aifc-adyc-baagaadowedaa-lets-play-lacrosse-youth-camp/2024-07-17/
LOCATION:Belwin Conservancy\, 1553 Stagecoach Trail South\, Afton\, MN\, 55001\, United States
CATEGORIES:AIFC,Family Services
ATTACH;FMTTYPE=image/png:https://aifcmn.org/wp-content/uploads/2024/07/Baagaadowedaa-Lets-Play-Lacrosse-Youth-Camp.png
END:VEVENT
BEGIN:VEVENT
DTSTART;TZID=America/Chicago:20240715T180000
DTEND;TZID=America/Chicago:20240715T200000
DTSTAMP:20260423T033219
CREATED:20240506T201928Z
LAST-MODIFIED:20240905T203753Z
UID:10002982-1721066400-1721073600@aifcmn.org
SUMMARY:AIFC: Ombi'ayaa Anishinaabe-Ininiiwug (Rise Up Original Men) - Men's Smudge and Support Group
DESCRIPTION:Join American Indian Family Center’s Father & Men’s Outreach Specialist\, Nate Bordeaux\, for an in-person Men’s Smudge and Support Group. \nIt will be a potluck\, so please bring a dish to share if you can! \nDon’t miss this chance to gather with other American Indian men to explore your identity\, participate in your culture\, and support each other. \nQuestions? Contact Nate Bordeaux at Nate.Bordeaux@aifcmn.org or (651) 505-6820.
URL:https://aifcmn.org/event/ombiayaa-anishinaabe-ininiiwug-rise-up-original-men-4-3-4/2024-07-15/
LOCATION:American Indian Family Center (AIFC)\, 579 Wells St\, Saint Paul\, MN\, 55130\, United States
CATEGORIES:AIFC,Family Services
END:VEVENT
BEGIN:VEVENT
DTSTART;TZID=America/Chicago:20240708T180000
DTEND;TZID=America/Chicago:20240708T200000
DTSTAMP:20260423T033219
CREATED:20240617T193749Z
LAST-MODIFIED:20241112T175317Z
UID:10004228-1720461600-1720468800@aifcmn.org
SUMMARY:AIFC: Ombi'ayaa Anishinaabe-Ininiiwug (Rise Up Original Men) - Men's Smudge and Support Group
DESCRIPTION:Join American Indian Family Center’s Father & Men’s Outreach Specialist\, Nate Bordeaux\, for an in-person Men’s Smudge and Support Group. \nIt will be a potluck\, so please bring a dish to share if you can! \nDon’t miss this chance to gather with other American Indian men to explore your identity\, participate in your culture\, and support each other. \nQuestions? Contact Nate Bordeaux at Nate.Bordeaux@aifcmn.org or (651) 505-6820.
URL:https://aifcmn.org/event/aifc-ombiayaa-anishinaabe-ininiiwug-rise-up-original-men-mens-smudge-and-support-group-3/2024-07-08/
LOCATION:Indigenous Roots Cultural Arts Center\, 788 East 7th Street\, Saint Paul\, MN\, 55106\, United States
CATEGORIES:AIFC,Family Services
END:VEVENT
BEGIN:VEVENT
DTSTART;TZID=America/Chicago:20240701T180000
DTEND;TZID=America/Chicago:20240701T200000
DTSTAMP:20260423T033219
CREATED:20240506T201928Z
LAST-MODIFIED:20240905T203753Z
UID:10002980-1719856800-1719864000@aifcmn.org
SUMMARY:AIFC: Ombi'ayaa Anishinaabe-Ininiiwug (Rise Up Original Men) - Men's Smudge and Support Group
DESCRIPTION:Join American Indian Family Center’s Father & Men’s Outreach Specialist\, Nate Bordeaux\, for an in-person Men’s Smudge and Support Group. \nIt will be a potluck\, so please bring a dish to share if you can! \nDon’t miss this chance to gather with other American Indian men to explore your identity\, participate in your culture\, and support each other. \nQuestions? Contact Nate Bordeaux at Nate.Bordeaux@aifcmn.org or (651) 505-6820.
URL:https://aifcmn.org/event/ombiayaa-anishinaabe-ininiiwug-rise-up-original-men-4-3-4/2024-07-01/
LOCATION:American Indian Family Center (AIFC)\, 579 Wells St\, Saint Paul\, MN\, 55130\, United States
CATEGORIES:AIFC,Family Services
END:VEVENT
END:VCALENDAR