BEGIN:VCALENDAR
VERSION:2.0
PRODID:-//American Indian Family Center - ECPv6.15.17.1//NONSGML v1.0//EN
CALSCALE:GREGORIAN
METHOD:PUBLISH
X-ORIGINAL-URL:https://aifcmn.org
X-WR-CALDESC:Events for American Indian Family Center
REFRESH-INTERVAL;VALUE=DURATION:PT1H
X-Robots-Tag:noindex
X-PUBLISHED-TTL:PT1H
BEGIN:VTIMEZONE
TZID:America/Chicago
BEGIN:DAYLIGHT
TZOFFSETFROM:-0600
TZOFFSETTO:-0500
TZNAME:CDT
DTSTART:20240310T080000
END:DAYLIGHT
BEGIN:STANDARD
TZOFFSETFROM:-0500
TZOFFSETTO:-0600
TZNAME:CST
DTSTART:20241103T070000
END:STANDARD
BEGIN:DAYLIGHT
TZOFFSETFROM:-0600
TZOFFSETTO:-0500
TZNAME:CDT
DTSTART:20250309T080000
END:DAYLIGHT
BEGIN:STANDARD
TZOFFSETFROM:-0500
TZOFFSETTO:-0600
TZNAME:CST
DTSTART:20251102T070000
END:STANDARD
BEGIN:DAYLIGHT
TZOFFSETFROM:-0600
TZOFFSETTO:-0500
TZNAME:CDT
DTSTART:20260308T080000
END:DAYLIGHT
BEGIN:STANDARD
TZOFFSETFROM:-0500
TZOFFSETTO:-0600
TZNAME:CST
DTSTART:20261101T070000
END:STANDARD
END:VTIMEZONE
BEGIN:VEVENT
DTSTART;TZID=America/Chicago:20250501T090000
DTEND;TZID=America/Chicago:20250501T120000
DTSTAMP:20260421T015956
CREATED:20250422T203842Z
LAST-MODIFIED:20250422T203842Z
UID:10006817-1746090000-1746100800@aifcmn.org
SUMMARY:AIFC: Thinica Owichakiyapi Thipi (Helping the Homeless Build) - Utility Days
DESCRIPTION:Join AIFC’s Housing Services\, Thinica Owichakiyapi Thipi (Helping the Homeless Build)\, on Tuesdays and Thursdays in April and May from 9:00AM – 12:00PM\, with the last sign-in accepted at 11:30AM\, for Utility Days. \nThinica Owichakiyapi Thipi (Helping the Homeless Build) will offer utilities assistance for relatives/clients who fit within the guidelines and have a current disconnection notice. The relative/client must also have: a copy of the original disconnection notice\, income verification for all household members\, and the disconnection must be in the client’s name. \nThe assistance for utilities will be on a first-come\, first-served basis\, depending on the funding and availability. \nIf you cannot attend during the walk-in hours\, you can schedule a time to meet with one of AIFC’s Housing Stability Case Managers. Pending funding is available. \nApril \n\n\n\nThursday\, April 17\, 9:00AM-12:00PM\nTuesday\, April 22\, 9:00AM-12:00PM\nThursday\, April 24\, 9:00AM-12:00PM\n\nTuesday\, April 29\, 9:00AM-12:00PM \nMay \n\n\n\nThursday\, May 1\, 9:00AM-12:00PM\nTuesday\, May 6\, 9:00AM-12:00PM\nThursday\, May 8\, 9:00AM-12:00PM\nTuesday\, May 13\, 9:00AM-12:00PM\nThursday\, May 15\, 9:00AM-12:00PM\nTuesday\, May 20\, 9:00AM-12:00PM\nThursday\, May 22\, 9:00AM-12:00PM\nTuesday\, May 27\, 9:00AM-12:00PM\nThursday\, May 29\, 9:00AM-12:00PM
URL:https://aifcmn.org/event/aifc-thinica-owichakiyapi-thipi-helping-the-homeless-build-utility-days-2/2025-05-01/
LOCATION:American Indian Family Center (AIFC)\, 579 Wells St\, Saint Paul\, MN\, 55130\, United States
CATEGORIES:AIFC,Housing Services
ATTACH;FMTTYPE=image/png:https://aifcmn.org/wp-content/uploads/2025/04/AIFC-utility-days-2025.png
END:VEVENT
BEGIN:VEVENT
DTSTART;TZID=America/Chicago:20250506T090000
DTEND;TZID=America/Chicago:20250506T120000
DTSTAMP:20260421T015956
CREATED:20250422T202924Z
LAST-MODIFIED:20250422T203541Z
UID:10006810-1746522000-1746532800@aifcmn.org
SUMMARY:AIFC: Thinica Owichakiyapi Thipi (Helping the Homeless Build) - Utility Days
DESCRIPTION:Join AIFC’s Housing Services\, Thinica Owichakiyapi Thipi (Helping the Homeless Build)\, on Tuesdays and Thursdays in April and May from 9:00AM – 12:00PM\, with the last sign-in accepted at 11:30AM\, for Utility Days. \nThinica Owichakiyapi Thipi (Helping the Homeless Build) will offer utilities assistance for relatives/clients who fit within the guidelines and have a current disconnection notice. The relative/client must also have: a copy of the original disconnection notice\, income verification for all household members\, and the disconnection must be in the client’s name. \nThe assistance for utilities will be on a first-come\, first-served basis\, depending on the funding and availability. \nIf you cannot attend during the walk-in hours\, you can schedule a time to meet with one of AIFC’s Housing Stability Case Managers. Pending funding is available. \nApril\n\n\nThursday\, April 17\, 9:00AM-12:00PM\nTuesday\, April 22\, 9:00AM-12:00PM\nThursday\, April 24\, 9:00AM-12:00PM\nTuesday\, April 29\, 9:00AM-12:00PM \nMay\n\n\nThursday\, May 1\, 9:00AM-12:00PM\nTuesday\, May 6\, 9:00AM-12:00PM\nThursday\, May 8\, 9:00AM-12:00PM\nTuesday\, May 13\, 9:00AM-12:00PM\nThursday\, May 15\, 9:00AM-12:00PM\nTuesday\, May 20\, 9:00AM-12:00PM\nThursday\, May 22\, 9:00AM-12:00PM\nTuesday\, May 27\, 9:00AM-12:00PM\nThursday\, May 29\, 9:00AM-12:00PM
URL:https://aifcmn.org/event/aifc-thinica-owichakiyapi-thipi-helping-the-homeless-build-utility-days/2025-05-06/
LOCATION:American Indian Family Center (AIFC)\, 579 Wells St\, Saint Paul\, MN\, 55130\, United States
CATEGORIES:AIFC,Housing Services
ATTACH;FMTTYPE=image/png:https://aifcmn.org/wp-content/uploads/2025/04/AIFC-utility-days-2025.png
END:VEVENT
BEGIN:VEVENT
DTSTART;TZID=America/Chicago:20250508T090000
DTEND;TZID=America/Chicago:20250508T120000
DTSTAMP:20260421T015956
CREATED:20250422T203842Z
LAST-MODIFIED:20250422T203842Z
UID:10006818-1746694800-1746705600@aifcmn.org
SUMMARY:AIFC: Thinica Owichakiyapi Thipi (Helping the Homeless Build) - Utility Days
DESCRIPTION:Join AIFC’s Housing Services\, Thinica Owichakiyapi Thipi (Helping the Homeless Build)\, on Tuesdays and Thursdays in April and May from 9:00AM – 12:00PM\, with the last sign-in accepted at 11:30AM\, for Utility Days. \nThinica Owichakiyapi Thipi (Helping the Homeless Build) will offer utilities assistance for relatives/clients who fit within the guidelines and have a current disconnection notice. The relative/client must also have: a copy of the original disconnection notice\, income verification for all household members\, and the disconnection must be in the client’s name. \nThe assistance for utilities will be on a first-come\, first-served basis\, depending on the funding and availability. \nIf you cannot attend during the walk-in hours\, you can schedule a time to meet with one of AIFC’s Housing Stability Case Managers. Pending funding is available. \nApril \n\n\n\nThursday\, April 17\, 9:00AM-12:00PM\nTuesday\, April 22\, 9:00AM-12:00PM\nThursday\, April 24\, 9:00AM-12:00PM\n\nTuesday\, April 29\, 9:00AM-12:00PM \nMay \n\n\n\nThursday\, May 1\, 9:00AM-12:00PM\nTuesday\, May 6\, 9:00AM-12:00PM\nThursday\, May 8\, 9:00AM-12:00PM\nTuesday\, May 13\, 9:00AM-12:00PM\nThursday\, May 15\, 9:00AM-12:00PM\nTuesday\, May 20\, 9:00AM-12:00PM\nThursday\, May 22\, 9:00AM-12:00PM\nTuesday\, May 27\, 9:00AM-12:00PM\nThursday\, May 29\, 9:00AM-12:00PM
URL:https://aifcmn.org/event/aifc-thinica-owichakiyapi-thipi-helping-the-homeless-build-utility-days-2/2025-05-08/
LOCATION:American Indian Family Center (AIFC)\, 579 Wells St\, Saint Paul\, MN\, 55130\, United States
CATEGORIES:AIFC,Housing Services
ATTACH;FMTTYPE=image/png:https://aifcmn.org/wp-content/uploads/2025/04/AIFC-utility-days-2025.png
END:VEVENT
BEGIN:VEVENT
DTSTART;TZID=America/Chicago:20250513T090000
DTEND;TZID=America/Chicago:20250513T120000
DTSTAMP:20260421T015956
CREATED:20250422T202924Z
LAST-MODIFIED:20250422T203541Z
UID:10006811-1747126800-1747137600@aifcmn.org
SUMMARY:AIFC: Thinica Owichakiyapi Thipi (Helping the Homeless Build) - Utility Days
DESCRIPTION:Join AIFC’s Housing Services\, Thinica Owichakiyapi Thipi (Helping the Homeless Build)\, on Tuesdays and Thursdays in April and May from 9:00AM – 12:00PM\, with the last sign-in accepted at 11:30AM\, for Utility Days. \nThinica Owichakiyapi Thipi (Helping the Homeless Build) will offer utilities assistance for relatives/clients who fit within the guidelines and have a current disconnection notice. The relative/client must also have: a copy of the original disconnection notice\, income verification for all household members\, and the disconnection must be in the client’s name. \nThe assistance for utilities will be on a first-come\, first-served basis\, depending on the funding and availability. \nIf you cannot attend during the walk-in hours\, you can schedule a time to meet with one of AIFC’s Housing Stability Case Managers. Pending funding is available. \nApril\n\n\nThursday\, April 17\, 9:00AM-12:00PM\nTuesday\, April 22\, 9:00AM-12:00PM\nThursday\, April 24\, 9:00AM-12:00PM\nTuesday\, April 29\, 9:00AM-12:00PM \nMay\n\n\nThursday\, May 1\, 9:00AM-12:00PM\nTuesday\, May 6\, 9:00AM-12:00PM\nThursday\, May 8\, 9:00AM-12:00PM\nTuesday\, May 13\, 9:00AM-12:00PM\nThursday\, May 15\, 9:00AM-12:00PM\nTuesday\, May 20\, 9:00AM-12:00PM\nThursday\, May 22\, 9:00AM-12:00PM\nTuesday\, May 27\, 9:00AM-12:00PM\nThursday\, May 29\, 9:00AM-12:00PM
URL:https://aifcmn.org/event/aifc-thinica-owichakiyapi-thipi-helping-the-homeless-build-utility-days/2025-05-13/
LOCATION:American Indian Family Center (AIFC)\, 579 Wells St\, Saint Paul\, MN\, 55130\, United States
CATEGORIES:AIFC,Housing Services
ATTACH;FMTTYPE=image/png:https://aifcmn.org/wp-content/uploads/2025/04/AIFC-utility-days-2025.png
END:VEVENT
BEGIN:VEVENT
DTSTART;TZID=America/Chicago:20250515T090000
DTEND;TZID=America/Chicago:20250515T120000
DTSTAMP:20260421T015956
CREATED:20250422T203842Z
LAST-MODIFIED:20250422T203842Z
UID:10006819-1747299600-1747310400@aifcmn.org
SUMMARY:AIFC: Thinica Owichakiyapi Thipi (Helping the Homeless Build) - Utility Days
DESCRIPTION:Join AIFC’s Housing Services\, Thinica Owichakiyapi Thipi (Helping the Homeless Build)\, on Tuesdays and Thursdays in April and May from 9:00AM – 12:00PM\, with the last sign-in accepted at 11:30AM\, for Utility Days. \nThinica Owichakiyapi Thipi (Helping the Homeless Build) will offer utilities assistance for relatives/clients who fit within the guidelines and have a current disconnection notice. The relative/client must also have: a copy of the original disconnection notice\, income verification for all household members\, and the disconnection must be in the client’s name. \nThe assistance for utilities will be on a first-come\, first-served basis\, depending on the funding and availability. \nIf you cannot attend during the walk-in hours\, you can schedule a time to meet with one of AIFC’s Housing Stability Case Managers. Pending funding is available. \nApril \n\n\n\nThursday\, April 17\, 9:00AM-12:00PM\nTuesday\, April 22\, 9:00AM-12:00PM\nThursday\, April 24\, 9:00AM-12:00PM\n\nTuesday\, April 29\, 9:00AM-12:00PM \nMay \n\n\n\nThursday\, May 1\, 9:00AM-12:00PM\nTuesday\, May 6\, 9:00AM-12:00PM\nThursday\, May 8\, 9:00AM-12:00PM\nTuesday\, May 13\, 9:00AM-12:00PM\nThursday\, May 15\, 9:00AM-12:00PM\nTuesday\, May 20\, 9:00AM-12:00PM\nThursday\, May 22\, 9:00AM-12:00PM\nTuesday\, May 27\, 9:00AM-12:00PM\nThursday\, May 29\, 9:00AM-12:00PM
URL:https://aifcmn.org/event/aifc-thinica-owichakiyapi-thipi-helping-the-homeless-build-utility-days-2/2025-05-15/
LOCATION:American Indian Family Center (AIFC)\, 579 Wells St\, Saint Paul\, MN\, 55130\, United States
CATEGORIES:AIFC,Housing Services
ATTACH;FMTTYPE=image/png:https://aifcmn.org/wp-content/uploads/2025/04/AIFC-utility-days-2025.png
END:VEVENT
BEGIN:VEVENT
DTSTART;TZID=America/Chicago:20250520T090000
DTEND;TZID=America/Chicago:20250520T120000
DTSTAMP:20260421T015956
CREATED:20250422T202924Z
LAST-MODIFIED:20250422T203541Z
UID:10006812-1747731600-1747742400@aifcmn.org
SUMMARY:AIFC: Thinica Owichakiyapi Thipi (Helping the Homeless Build) - Utility Days
DESCRIPTION:Join AIFC’s Housing Services\, Thinica Owichakiyapi Thipi (Helping the Homeless Build)\, on Tuesdays and Thursdays in April and May from 9:00AM – 12:00PM\, with the last sign-in accepted at 11:30AM\, for Utility Days. \nThinica Owichakiyapi Thipi (Helping the Homeless Build) will offer utilities assistance for relatives/clients who fit within the guidelines and have a current disconnection notice. The relative/client must also have: a copy of the original disconnection notice\, income verification for all household members\, and the disconnection must be in the client’s name. \nThe assistance for utilities will be on a first-come\, first-served basis\, depending on the funding and availability. \nIf you cannot attend during the walk-in hours\, you can schedule a time to meet with one of AIFC’s Housing Stability Case Managers. Pending funding is available. \nApril\n\n\nThursday\, April 17\, 9:00AM-12:00PM\nTuesday\, April 22\, 9:00AM-12:00PM\nThursday\, April 24\, 9:00AM-12:00PM\nTuesday\, April 29\, 9:00AM-12:00PM \nMay\n\n\nThursday\, May 1\, 9:00AM-12:00PM\nTuesday\, May 6\, 9:00AM-12:00PM\nThursday\, May 8\, 9:00AM-12:00PM\nTuesday\, May 13\, 9:00AM-12:00PM\nThursday\, May 15\, 9:00AM-12:00PM\nTuesday\, May 20\, 9:00AM-12:00PM\nThursday\, May 22\, 9:00AM-12:00PM\nTuesday\, May 27\, 9:00AM-12:00PM\nThursday\, May 29\, 9:00AM-12:00PM
URL:https://aifcmn.org/event/aifc-thinica-owichakiyapi-thipi-helping-the-homeless-build-utility-days/2025-05-20/
LOCATION:American Indian Family Center (AIFC)\, 579 Wells St\, Saint Paul\, MN\, 55130\, United States
CATEGORIES:AIFC,Housing Services
ATTACH;FMTTYPE=image/png:https://aifcmn.org/wp-content/uploads/2025/04/AIFC-utility-days-2025.png
END:VEVENT
BEGIN:VEVENT
DTSTART;TZID=America/Chicago:20250522T090000
DTEND;TZID=America/Chicago:20250522T120000
DTSTAMP:20260421T015956
CREATED:20250422T203842Z
LAST-MODIFIED:20250422T203842Z
UID:10006820-1747904400-1747915200@aifcmn.org
SUMMARY:AIFC: Thinica Owichakiyapi Thipi (Helping the Homeless Build) - Utility Days
DESCRIPTION:Join AIFC’s Housing Services\, Thinica Owichakiyapi Thipi (Helping the Homeless Build)\, on Tuesdays and Thursdays in April and May from 9:00AM – 12:00PM\, with the last sign-in accepted at 11:30AM\, for Utility Days. \nThinica Owichakiyapi Thipi (Helping the Homeless Build) will offer utilities assistance for relatives/clients who fit within the guidelines and have a current disconnection notice. The relative/client must also have: a copy of the original disconnection notice\, income verification for all household members\, and the disconnection must be in the client’s name. \nThe assistance for utilities will be on a first-come\, first-served basis\, depending on the funding and availability. \nIf you cannot attend during the walk-in hours\, you can schedule a time to meet with one of AIFC’s Housing Stability Case Managers. Pending funding is available. \nApril \n\n\n\nThursday\, April 17\, 9:00AM-12:00PM\nTuesday\, April 22\, 9:00AM-12:00PM\nThursday\, April 24\, 9:00AM-12:00PM\n\nTuesday\, April 29\, 9:00AM-12:00PM \nMay \n\n\n\nThursday\, May 1\, 9:00AM-12:00PM\nTuesday\, May 6\, 9:00AM-12:00PM\nThursday\, May 8\, 9:00AM-12:00PM\nTuesday\, May 13\, 9:00AM-12:00PM\nThursday\, May 15\, 9:00AM-12:00PM\nTuesday\, May 20\, 9:00AM-12:00PM\nThursday\, May 22\, 9:00AM-12:00PM\nTuesday\, May 27\, 9:00AM-12:00PM\nThursday\, May 29\, 9:00AM-12:00PM
URL:https://aifcmn.org/event/aifc-thinica-owichakiyapi-thipi-helping-the-homeless-build-utility-days-2/2025-05-22/
LOCATION:American Indian Family Center (AIFC)\, 579 Wells St\, Saint Paul\, MN\, 55130\, United States
CATEGORIES:AIFC,Housing Services
ATTACH;FMTTYPE=image/png:https://aifcmn.org/wp-content/uploads/2025/04/AIFC-utility-days-2025.png
END:VEVENT
BEGIN:VEVENT
DTSTART;TZID=America/Chicago:20250527T090000
DTEND;TZID=America/Chicago:20250527T120000
DTSTAMP:20260421T015956
CREATED:20250422T202924Z
LAST-MODIFIED:20250422T203541Z
UID:10006813-1748336400-1748347200@aifcmn.org
SUMMARY:AIFC: Thinica Owichakiyapi Thipi (Helping the Homeless Build) - Utility Days
DESCRIPTION:Join AIFC’s Housing Services\, Thinica Owichakiyapi Thipi (Helping the Homeless Build)\, on Tuesdays and Thursdays in April and May from 9:00AM – 12:00PM\, with the last sign-in accepted at 11:30AM\, for Utility Days. \nThinica Owichakiyapi Thipi (Helping the Homeless Build) will offer utilities assistance for relatives/clients who fit within the guidelines and have a current disconnection notice. The relative/client must also have: a copy of the original disconnection notice\, income verification for all household members\, and the disconnection must be in the client’s name. \nThe assistance for utilities will be on a first-come\, first-served basis\, depending on the funding and availability. \nIf you cannot attend during the walk-in hours\, you can schedule a time to meet with one of AIFC’s Housing Stability Case Managers. Pending funding is available. \nApril\n\n\nThursday\, April 17\, 9:00AM-12:00PM\nTuesday\, April 22\, 9:00AM-12:00PM\nThursday\, April 24\, 9:00AM-12:00PM\nTuesday\, April 29\, 9:00AM-12:00PM \nMay\n\n\nThursday\, May 1\, 9:00AM-12:00PM\nTuesday\, May 6\, 9:00AM-12:00PM\nThursday\, May 8\, 9:00AM-12:00PM\nTuesday\, May 13\, 9:00AM-12:00PM\nThursday\, May 15\, 9:00AM-12:00PM\nTuesday\, May 20\, 9:00AM-12:00PM\nThursday\, May 22\, 9:00AM-12:00PM\nTuesday\, May 27\, 9:00AM-12:00PM\nThursday\, May 29\, 9:00AM-12:00PM
URL:https://aifcmn.org/event/aifc-thinica-owichakiyapi-thipi-helping-the-homeless-build-utility-days/2025-05-27/
LOCATION:American Indian Family Center (AIFC)\, 579 Wells St\, Saint Paul\, MN\, 55130\, United States
CATEGORIES:AIFC,Housing Services
ATTACH;FMTTYPE=image/png:https://aifcmn.org/wp-content/uploads/2025/04/AIFC-utility-days-2025.png
END:VEVENT
BEGIN:VEVENT
DTSTART;TZID=America/Chicago:20250529T090000
DTEND;TZID=America/Chicago:20250529T120000
DTSTAMP:20260421T015956
CREATED:20250422T203842Z
LAST-MODIFIED:20250422T203842Z
UID:10006821-1748509200-1748520000@aifcmn.org
SUMMARY:AIFC: Thinica Owichakiyapi Thipi (Helping the Homeless Build) - Utility Days
DESCRIPTION:Join AIFC’s Housing Services\, Thinica Owichakiyapi Thipi (Helping the Homeless Build)\, on Tuesdays and Thursdays in April and May from 9:00AM – 12:00PM\, with the last sign-in accepted at 11:30AM\, for Utility Days. \nThinica Owichakiyapi Thipi (Helping the Homeless Build) will offer utilities assistance for relatives/clients who fit within the guidelines and have a current disconnection notice. The relative/client must also have: a copy of the original disconnection notice\, income verification for all household members\, and the disconnection must be in the client’s name. \nThe assistance for utilities will be on a first-come\, first-served basis\, depending on the funding and availability. \nIf you cannot attend during the walk-in hours\, you can schedule a time to meet with one of AIFC’s Housing Stability Case Managers. Pending funding is available. \nApril \n\n\n\nThursday\, April 17\, 9:00AM-12:00PM\nTuesday\, April 22\, 9:00AM-12:00PM\nThursday\, April 24\, 9:00AM-12:00PM\n\nTuesday\, April 29\, 9:00AM-12:00PM \nMay \n\n\n\nThursday\, May 1\, 9:00AM-12:00PM\nTuesday\, May 6\, 9:00AM-12:00PM\nThursday\, May 8\, 9:00AM-12:00PM\nTuesday\, May 13\, 9:00AM-12:00PM\nThursday\, May 15\, 9:00AM-12:00PM\nTuesday\, May 20\, 9:00AM-12:00PM\nThursday\, May 22\, 9:00AM-12:00PM\nTuesday\, May 27\, 9:00AM-12:00PM\nThursday\, May 29\, 9:00AM-12:00PM
URL:https://aifcmn.org/event/aifc-thinica-owichakiyapi-thipi-helping-the-homeless-build-utility-days-2/2025-05-29/
LOCATION:American Indian Family Center (AIFC)\, 579 Wells St\, Saint Paul\, MN\, 55130\, United States
CATEGORIES:AIFC,Housing Services
ATTACH;FMTTYPE=image/png:https://aifcmn.org/wp-content/uploads/2025/04/AIFC-utility-days-2025.png
END:VEVENT
END:VCALENDAR