BEGIN:VCALENDAR
VERSION:2.0
PRODID:-//American Indian Family Center - ECPv6.15.17.1//NONSGML v1.0//EN
CALSCALE:GREGORIAN
METHOD:PUBLISH
X-WR-CALNAME:American Indian Family Center
X-ORIGINAL-URL:https://aifcmn.org
X-WR-CALDESC:Events for American Indian Family Center
REFRESH-INTERVAL;VALUE=DURATION:PT1H
X-Robots-Tag:noindex
X-PUBLISHED-TTL:PT1H
BEGIN:VTIMEZONE
TZID:America/Chicago
BEGIN:DAYLIGHT
TZOFFSETFROM:-0600
TZOFFSETTO:-0500
TZNAME:CDT
DTSTART:20200308T080000
END:DAYLIGHT
BEGIN:STANDARD
TZOFFSETFROM:-0500
TZOFFSETTO:-0600
TZNAME:CST
DTSTART:20201101T070000
END:STANDARD
BEGIN:DAYLIGHT
TZOFFSETFROM:-0600
TZOFFSETTO:-0500
TZNAME:CDT
DTSTART:20210314T080000
END:DAYLIGHT
BEGIN:STANDARD
TZOFFSETFROM:-0500
TZOFFSETTO:-0600
TZNAME:CST
DTSTART:20211107T070000
END:STANDARD
BEGIN:DAYLIGHT
TZOFFSETFROM:-0600
TZOFFSETTO:-0500
TZNAME:CDT
DTSTART:20220313T080000
END:DAYLIGHT
BEGIN:STANDARD
TZOFFSETFROM:-0500
TZOFFSETTO:-0600
TZNAME:CST
DTSTART:20221106T070000
END:STANDARD
END:VTIMEZONE
BEGIN:VEVENT
DTSTART;TZID=America/Chicago:20211005T190000
DTEND;TZID=America/Chicago:20211005T200000
DTSTAMP:20260425T200337
CREATED:20201029T212111Z
LAST-MODIFIED:20250103T175831Z
UID:10000832-1633460400-1633464000@aifcmn.org
SUMMARY:[Virtual Event] AIFC: Khunsi Onikan - Well-Anon (Native American Al-Anon) Meeting
DESCRIPTION:Open to anyone wanting to learn to have healthy boundaries and healthy relationships with the other addicts/alcoholics in their lives. \nJoin us every Tuesday at 7 PM CST for help and hope. \nSuppose you have a loved one dealing with addiction. In that case\, our Khunsi Onikan Program sponsors these weekly Native American culturally-based\, one-hour meetings to help you establish healthy boundaries and relationships. \nJoin the meeting here: https://us02web.zoom.us/j/89255163167?pwd=VlI2ZlQzdnF3NmxxRytmSkVtMm14Zz09
URL:https://aifcmn.org/event/khunsi-onikan-native-american-al-anon-meeting/2021-10-05/
LOCATION:
CATEGORIES:AIFC,Recovery Services
ATTACH;FMTTYPE=image/png:https://aifcmn.org/wp-content/uploads/2020/10/Khunsi-Onikan-Facebook.png
END:VEVENT
BEGIN:VEVENT
DTSTART;TZID=America/Chicago:20211007T190000
DTEND;TZID=America/Chicago:20211007T200000
DTSTAMP:20260425T200337
CREATED:20201029T210319Z
LAST-MODIFIED:20241231T184555Z
UID:10000722-1633633200-1633636800@aifcmn.org
SUMMARY:[Virtual Event] AIFC: Khunsi Onikan - Wellbriety/Medicine Wheel 12 Steps Meeting
DESCRIPTION:Open to anyone wanting to work on recovery from any addiction. \nEvery Thursday at 7 pm CST\, AIFC’s Khunsi Onikan program will sponsor a culturally based recovery support Wellbriety/Medicine Wheel 12-step meeting for the community; anyone wanting to work on recovery from any addictions is welcome to attend. \nNo need to register in advance. \nClick here to join the meeting: https://us02web.zoom.us/j/89255163167?pwd=VlI2ZlQzdnF3NmxxRytmSkVtMm14Zz09
URL:https://aifcmn.org/event/khunsi-onikan-wellbriety-medicine-wheel-12-steps-meeting/2021-10-07/
LOCATION:
CATEGORIES:AIFC,Recovery Services
ATTACH;FMTTYPE=image/png:https://aifcmn.org/wp-content/uploads/2020/10/Khunsi-Onikan-Facebook.png
END:VEVENT
BEGIN:VEVENT
DTSTART;TZID=America/Chicago:20211012T190000
DTEND;TZID=America/Chicago:20211012T200000
DTSTAMP:20260425T200337
CREATED:20201029T212111Z
LAST-MODIFIED:20250103T175831Z
UID:10000833-1634065200-1634068800@aifcmn.org
SUMMARY:[Virtual Event] AIFC: Khunsi Onikan - Well-Anon (Native American Al-Anon) Meeting
DESCRIPTION:Open to anyone wanting to learn to have healthy boundaries and healthy relationships with the other addicts/alcoholics in their lives. \nJoin us every Tuesday at 7 PM CST for help and hope. \nSuppose you have a loved one dealing with addiction. In that case\, our Khunsi Onikan Program sponsors these weekly Native American culturally-based\, one-hour meetings to help you establish healthy boundaries and relationships. \nJoin the meeting here: https://us02web.zoom.us/j/89255163167?pwd=VlI2ZlQzdnF3NmxxRytmSkVtMm14Zz09
URL:https://aifcmn.org/event/khunsi-onikan-native-american-al-anon-meeting/2021-10-12/
LOCATION:
CATEGORIES:AIFC,Recovery Services
ATTACH;FMTTYPE=image/png:https://aifcmn.org/wp-content/uploads/2020/10/Khunsi-Onikan-Facebook.png
END:VEVENT
BEGIN:VEVENT
DTSTART;TZID=America/Chicago:20211014T190000
DTEND;TZID=America/Chicago:20211014T200000
DTSTAMP:20260425T200337
CREATED:20201029T210319Z
LAST-MODIFIED:20241231T184555Z
UID:10000723-1634238000-1634241600@aifcmn.org
SUMMARY:[Virtual Event] AIFC: Khunsi Onikan - Wellbriety/Medicine Wheel 12 Steps Meeting
DESCRIPTION:Open to anyone wanting to work on recovery from any addiction. \nEvery Thursday at 7 pm CST\, AIFC’s Khunsi Onikan program will sponsor a culturally based recovery support Wellbriety/Medicine Wheel 12-step meeting for the community; anyone wanting to work on recovery from any addictions is welcome to attend. \nNo need to register in advance. \nClick here to join the meeting: https://us02web.zoom.us/j/89255163167?pwd=VlI2ZlQzdnF3NmxxRytmSkVtMm14Zz09
URL:https://aifcmn.org/event/khunsi-onikan-wellbriety-medicine-wheel-12-steps-meeting/2021-10-14/
LOCATION:
CATEGORIES:AIFC,Recovery Services
ATTACH;FMTTYPE=image/png:https://aifcmn.org/wp-content/uploads/2020/10/Khunsi-Onikan-Facebook.png
END:VEVENT
BEGIN:VEVENT
DTSTART;TZID=America/Chicago:20211019T190000
DTEND;TZID=America/Chicago:20211019T200000
DTSTAMP:20260425T200337
CREATED:20201029T212111Z
LAST-MODIFIED:20250103T175831Z
UID:10000834-1634670000-1634673600@aifcmn.org
SUMMARY:[Virtual Event] AIFC: Khunsi Onikan - Well-Anon (Native American Al-Anon) Meeting
DESCRIPTION:Open to anyone wanting to learn to have healthy boundaries and healthy relationships with the other addicts/alcoholics in their lives. \nJoin us every Tuesday at 7 PM CST for help and hope. \nSuppose you have a loved one dealing with addiction. In that case\, our Khunsi Onikan Program sponsors these weekly Native American culturally-based\, one-hour meetings to help you establish healthy boundaries and relationships. \nJoin the meeting here: https://us02web.zoom.us/j/89255163167?pwd=VlI2ZlQzdnF3NmxxRytmSkVtMm14Zz09
URL:https://aifcmn.org/event/khunsi-onikan-native-american-al-anon-meeting/2021-10-19/
LOCATION:
CATEGORIES:AIFC,Recovery Services
ATTACH;FMTTYPE=image/png:https://aifcmn.org/wp-content/uploads/2020/10/Khunsi-Onikan-Facebook.png
END:VEVENT
BEGIN:VEVENT
DTSTART;TZID=America/Chicago:20211021T190000
DTEND;TZID=America/Chicago:20211021T200000
DTSTAMP:20260425T200337
CREATED:20201029T210319Z
LAST-MODIFIED:20241231T184555Z
UID:10000724-1634842800-1634846400@aifcmn.org
SUMMARY:[Virtual Event] AIFC: Khunsi Onikan - Wellbriety/Medicine Wheel 12 Steps Meeting
DESCRIPTION:Open to anyone wanting to work on recovery from any addiction. \nEvery Thursday at 7 pm CST\, AIFC’s Khunsi Onikan program will sponsor a culturally based recovery support Wellbriety/Medicine Wheel 12-step meeting for the community; anyone wanting to work on recovery from any addictions is welcome to attend. \nNo need to register in advance. \nClick here to join the meeting: https://us02web.zoom.us/j/89255163167?pwd=VlI2ZlQzdnF3NmxxRytmSkVtMm14Zz09
URL:https://aifcmn.org/event/khunsi-onikan-wellbriety-medicine-wheel-12-steps-meeting/2021-10-21/
LOCATION:
CATEGORIES:AIFC,Recovery Services
ATTACH;FMTTYPE=image/png:https://aifcmn.org/wp-content/uploads/2020/10/Khunsi-Onikan-Facebook.png
END:VEVENT
BEGIN:VEVENT
DTSTART;TZID=America/Chicago:20211026T190000
DTEND;TZID=America/Chicago:20211026T200000
DTSTAMP:20260425T200337
CREATED:20201029T212111Z
LAST-MODIFIED:20250103T175831Z
UID:10000835-1635274800-1635278400@aifcmn.org
SUMMARY:[Virtual Event] AIFC: Khunsi Onikan - Well-Anon (Native American Al-Anon) Meeting
DESCRIPTION:Open to anyone wanting to learn to have healthy boundaries and healthy relationships with the other addicts/alcoholics in their lives. \nJoin us every Tuesday at 7 PM CST for help and hope. \nSuppose you have a loved one dealing with addiction. In that case\, our Khunsi Onikan Program sponsors these weekly Native American culturally-based\, one-hour meetings to help you establish healthy boundaries and relationships. \nJoin the meeting here: https://us02web.zoom.us/j/89255163167?pwd=VlI2ZlQzdnF3NmxxRytmSkVtMm14Zz09
URL:https://aifcmn.org/event/khunsi-onikan-native-american-al-anon-meeting/2021-10-26/
LOCATION:
CATEGORIES:AIFC,Recovery Services
ATTACH;FMTTYPE=image/png:https://aifcmn.org/wp-content/uploads/2020/10/Khunsi-Onikan-Facebook.png
END:VEVENT
BEGIN:VEVENT
DTSTART;TZID=America/Chicago:20211028T190000
DTEND;TZID=America/Chicago:20211028T200000
DTSTAMP:20260425T200337
CREATED:20201029T210319Z
LAST-MODIFIED:20241231T184555Z
UID:10000725-1635447600-1635451200@aifcmn.org
SUMMARY:[Virtual Event] AIFC: Khunsi Onikan - Wellbriety/Medicine Wheel 12 Steps Meeting
DESCRIPTION:Open to anyone wanting to work on recovery from any addiction. \nEvery Thursday at 7 pm CST\, AIFC’s Khunsi Onikan program will sponsor a culturally based recovery support Wellbriety/Medicine Wheel 12-step meeting for the community; anyone wanting to work on recovery from any addictions is welcome to attend. \nNo need to register in advance. \nClick here to join the meeting: https://us02web.zoom.us/j/89255163167?pwd=VlI2ZlQzdnF3NmxxRytmSkVtMm14Zz09
URL:https://aifcmn.org/event/khunsi-onikan-wellbriety-medicine-wheel-12-steps-meeting/2021-10-28/
LOCATION:
CATEGORIES:AIFC,Recovery Services
ATTACH;FMTTYPE=image/png:https://aifcmn.org/wp-content/uploads/2020/10/Khunsi-Onikan-Facebook.png
END:VEVENT
END:VCALENDAR