BEGIN:VCALENDAR
VERSION:2.0
PRODID:-//American Indian Family Center - ECPv6.15.17.1//NONSGML v1.0//EN
CALSCALE:GREGORIAN
METHOD:PUBLISH
X-WR-CALNAME:American Indian Family Center
X-ORIGINAL-URL:https://aifcmn.org
X-WR-CALDESC:Events for American Indian Family Center
REFRESH-INTERVAL;VALUE=DURATION:PT1H
X-Robots-Tag:noindex
X-PUBLISHED-TTL:PT1H
BEGIN:VTIMEZONE
TZID:America/Chicago
BEGIN:DAYLIGHT
TZOFFSETFROM:-0600
TZOFFSETTO:-0500
TZNAME:CDT
DTSTART:20210314T080000
END:DAYLIGHT
BEGIN:STANDARD
TZOFFSETFROM:-0500
TZOFFSETTO:-0600
TZNAME:CST
DTSTART:20211107T070000
END:STANDARD
BEGIN:DAYLIGHT
TZOFFSETFROM:-0600
TZOFFSETTO:-0500
TZNAME:CDT
DTSTART:20220313T080000
END:DAYLIGHT
BEGIN:STANDARD
TZOFFSETFROM:-0500
TZOFFSETTO:-0600
TZNAME:CST
DTSTART:20221106T070000
END:STANDARD
BEGIN:DAYLIGHT
TZOFFSETFROM:-0600
TZOFFSETTO:-0500
TZNAME:CDT
DTSTART:20230312T080000
END:DAYLIGHT
BEGIN:STANDARD
TZOFFSETFROM:-0500
TZOFFSETTO:-0600
TZNAME:CST
DTSTART:20231105T070000
END:STANDARD
END:VTIMEZONE
BEGIN:VEVENT
DTSTART;TZID=America/Chicago:20220201T190000
DTEND;TZID=America/Chicago:20220201T200000
DTSTAMP:20260425T143110
CREATED:20201029T212111Z
LAST-MODIFIED:20250103T175831Z
UID:10000849-1643742000-1643745600@aifcmn.org
SUMMARY:[Virtual Event] AIFC: Khunsi Onikan - Well-Anon (Native American Al-Anon) Meeting
DESCRIPTION:Open to anyone wanting to learn to have healthy boundaries and healthy relationships with the other addicts/alcoholics in their lives. \nJoin us every Tuesday at 7 PM CST for help and hope. \nSuppose you have a loved one dealing with addiction. In that case\, our Khunsi Onikan Program sponsors these weekly Native American culturally-based\, one-hour meetings to help you establish healthy boundaries and relationships. \nJoin the meeting here: https://us02web.zoom.us/j/89255163167?pwd=VlI2ZlQzdnF3NmxxRytmSkVtMm14Zz09
URL:https://aifcmn.org/event/khunsi-onikan-native-american-al-anon-meeting/2022-02-01/
LOCATION:
CATEGORIES:AIFC,Recovery Services
ATTACH;FMTTYPE=image/png:https://aifcmn.org/wp-content/uploads/2020/10/Khunsi-Onikan-Facebook.png
END:VEVENT
BEGIN:VEVENT
DTSTART;TZID=America/Chicago:20220203T190000
DTEND;TZID=America/Chicago:20220203T200000
DTSTAMP:20260425T143110
CREATED:20201029T210319Z
LAST-MODIFIED:20241231T184555Z
UID:10000739-1643914800-1643918400@aifcmn.org
SUMMARY:[Virtual Event] AIFC: Khunsi Onikan - Wellbriety/Medicine Wheel 12 Steps Meeting
DESCRIPTION:Open to anyone wanting to work on recovery from any addiction. \nEvery Thursday at 7 pm CST\, AIFC’s Khunsi Onikan program will sponsor a culturally based recovery support Wellbriety/Medicine Wheel 12-step meeting for the community; anyone wanting to work on recovery from any addictions is welcome to attend. \nNo need to register in advance. \nClick here to join the meeting: https://us02web.zoom.us/j/89255163167?pwd=VlI2ZlQzdnF3NmxxRytmSkVtMm14Zz09
URL:https://aifcmn.org/event/khunsi-onikan-wellbriety-medicine-wheel-12-steps-meeting/2022-02-03/
LOCATION:
CATEGORIES:AIFC,Recovery Services
ATTACH;FMTTYPE=image/png:https://aifcmn.org/wp-content/uploads/2020/10/Khunsi-Onikan-Facebook.png
END:VEVENT
BEGIN:VEVENT
DTSTART;TZID=America/Chicago:20220208T190000
DTEND;TZID=America/Chicago:20220208T200000
DTSTAMP:20260425T143110
CREATED:20201029T212111Z
LAST-MODIFIED:20250103T175831Z
UID:10000850-1644346800-1644350400@aifcmn.org
SUMMARY:[Virtual Event] AIFC: Khunsi Onikan - Well-Anon (Native American Al-Anon) Meeting
DESCRIPTION:Open to anyone wanting to learn to have healthy boundaries and healthy relationships with the other addicts/alcoholics in their lives. \nJoin us every Tuesday at 7 PM CST for help and hope. \nSuppose you have a loved one dealing with addiction. In that case\, our Khunsi Onikan Program sponsors these weekly Native American culturally-based\, one-hour meetings to help you establish healthy boundaries and relationships. \nJoin the meeting here: https://us02web.zoom.us/j/89255163167?pwd=VlI2ZlQzdnF3NmxxRytmSkVtMm14Zz09
URL:https://aifcmn.org/event/khunsi-onikan-native-american-al-anon-meeting/2022-02-08/
LOCATION:
CATEGORIES:AIFC,Recovery Services
ATTACH;FMTTYPE=image/png:https://aifcmn.org/wp-content/uploads/2020/10/Khunsi-Onikan-Facebook.png
END:VEVENT
BEGIN:VEVENT
DTSTART;TZID=America/Chicago:20220210T190000
DTEND;TZID=America/Chicago:20220210T200000
DTSTAMP:20260425T143110
CREATED:20201029T210319Z
LAST-MODIFIED:20241231T184555Z
UID:10000740-1644519600-1644523200@aifcmn.org
SUMMARY:[Virtual Event] AIFC: Khunsi Onikan - Wellbriety/Medicine Wheel 12 Steps Meeting
DESCRIPTION:Open to anyone wanting to work on recovery from any addiction. \nEvery Thursday at 7 pm CST\, AIFC’s Khunsi Onikan program will sponsor a culturally based recovery support Wellbriety/Medicine Wheel 12-step meeting for the community; anyone wanting to work on recovery from any addictions is welcome to attend. \nNo need to register in advance. \nClick here to join the meeting: https://us02web.zoom.us/j/89255163167?pwd=VlI2ZlQzdnF3NmxxRytmSkVtMm14Zz09
URL:https://aifcmn.org/event/khunsi-onikan-wellbriety-medicine-wheel-12-steps-meeting/2022-02-10/
LOCATION:
CATEGORIES:AIFC,Recovery Services
ATTACH;FMTTYPE=image/png:https://aifcmn.org/wp-content/uploads/2020/10/Khunsi-Onikan-Facebook.png
END:VEVENT
BEGIN:VEVENT
DTSTART;TZID=America/Chicago:20220215T190000
DTEND;TZID=America/Chicago:20220215T200000
DTSTAMP:20260425T143110
CREATED:20201029T212111Z
LAST-MODIFIED:20250103T175831Z
UID:10000851-1644951600-1644955200@aifcmn.org
SUMMARY:[Virtual Event] AIFC: Khunsi Onikan - Well-Anon (Native American Al-Anon) Meeting
DESCRIPTION:Open to anyone wanting to learn to have healthy boundaries and healthy relationships with the other addicts/alcoholics in their lives. \nJoin us every Tuesday at 7 PM CST for help and hope. \nSuppose you have a loved one dealing with addiction. In that case\, our Khunsi Onikan Program sponsors these weekly Native American culturally-based\, one-hour meetings to help you establish healthy boundaries and relationships. \nJoin the meeting here: https://us02web.zoom.us/j/89255163167?pwd=VlI2ZlQzdnF3NmxxRytmSkVtMm14Zz09
URL:https://aifcmn.org/event/khunsi-onikan-native-american-al-anon-meeting/2022-02-15/
LOCATION:
CATEGORIES:AIFC,Recovery Services
ATTACH;FMTTYPE=image/png:https://aifcmn.org/wp-content/uploads/2020/10/Khunsi-Onikan-Facebook.png
END:VEVENT
BEGIN:VEVENT
DTSTART;TZID=America/Chicago:20220217T190000
DTEND;TZID=America/Chicago:20220217T200000
DTSTAMP:20260425T143110
CREATED:20201029T210319Z
LAST-MODIFIED:20241231T184555Z
UID:10000741-1645124400-1645128000@aifcmn.org
SUMMARY:[Virtual Event] AIFC: Khunsi Onikan - Wellbriety/Medicine Wheel 12 Steps Meeting
DESCRIPTION:Open to anyone wanting to work on recovery from any addiction. \nEvery Thursday at 7 pm CST\, AIFC’s Khunsi Onikan program will sponsor a culturally based recovery support Wellbriety/Medicine Wheel 12-step meeting for the community; anyone wanting to work on recovery from any addictions is welcome to attend. \nNo need to register in advance. \nClick here to join the meeting: https://us02web.zoom.us/j/89255163167?pwd=VlI2ZlQzdnF3NmxxRytmSkVtMm14Zz09
URL:https://aifcmn.org/event/khunsi-onikan-wellbriety-medicine-wheel-12-steps-meeting/2022-02-17/
LOCATION:
CATEGORIES:AIFC,Recovery Services
ATTACH;FMTTYPE=image/png:https://aifcmn.org/wp-content/uploads/2020/10/Khunsi-Onikan-Facebook.png
END:VEVENT
BEGIN:VEVENT
DTSTART;TZID=America/Chicago:20220222T190000
DTEND;TZID=America/Chicago:20220222T200000
DTSTAMP:20260425T143110
CREATED:20201029T212111Z
LAST-MODIFIED:20250103T175831Z
UID:10000852-1645556400-1645560000@aifcmn.org
SUMMARY:[Virtual Event] AIFC: Khunsi Onikan - Well-Anon (Native American Al-Anon) Meeting
DESCRIPTION:Open to anyone wanting to learn to have healthy boundaries and healthy relationships with the other addicts/alcoholics in their lives. \nJoin us every Tuesday at 7 PM CST for help and hope. \nSuppose you have a loved one dealing with addiction. In that case\, our Khunsi Onikan Program sponsors these weekly Native American culturally-based\, one-hour meetings to help you establish healthy boundaries and relationships. \nJoin the meeting here: https://us02web.zoom.us/j/89255163167?pwd=VlI2ZlQzdnF3NmxxRytmSkVtMm14Zz09
URL:https://aifcmn.org/event/khunsi-onikan-native-american-al-anon-meeting/2022-02-22/
LOCATION:
CATEGORIES:AIFC,Recovery Services
ATTACH;FMTTYPE=image/png:https://aifcmn.org/wp-content/uploads/2020/10/Khunsi-Onikan-Facebook.png
END:VEVENT
BEGIN:VEVENT
DTSTART;TZID=America/Chicago:20220224T190000
DTEND;TZID=America/Chicago:20220224T200000
DTSTAMP:20260425T143110
CREATED:20201029T210319Z
LAST-MODIFIED:20241231T184555Z
UID:10000742-1645729200-1645732800@aifcmn.org
SUMMARY:[Virtual Event] AIFC: Khunsi Onikan - Wellbriety/Medicine Wheel 12 Steps Meeting
DESCRIPTION:Open to anyone wanting to work on recovery from any addiction. \nEvery Thursday at 7 pm CST\, AIFC’s Khunsi Onikan program will sponsor a culturally based recovery support Wellbriety/Medicine Wheel 12-step meeting for the community; anyone wanting to work on recovery from any addictions is welcome to attend. \nNo need to register in advance. \nClick here to join the meeting: https://us02web.zoom.us/j/89255163167?pwd=VlI2ZlQzdnF3NmxxRytmSkVtMm14Zz09
URL:https://aifcmn.org/event/khunsi-onikan-wellbriety-medicine-wheel-12-steps-meeting/2022-02-24/
LOCATION:
CATEGORIES:AIFC,Recovery Services
ATTACH;FMTTYPE=image/png:https://aifcmn.org/wp-content/uploads/2020/10/Khunsi-Onikan-Facebook.png
END:VEVENT
END:VCALENDAR