BEGIN:VCALENDAR
VERSION:2.0
PRODID:-//American Indian Family Center - ECPv6.15.17.1//NONSGML v1.0//EN
CALSCALE:GREGORIAN
METHOD:PUBLISH
X-ORIGINAL-URL:https://aifcmn.org
X-WR-CALDESC:Events for American Indian Family Center
REFRESH-INTERVAL;VALUE=DURATION:PT1H
X-Robots-Tag:noindex
X-PUBLISHED-TTL:PT1H
BEGIN:VTIMEZONE
TZID:America/Chicago
BEGIN:DAYLIGHT
TZOFFSETFROM:-0600
TZOFFSETTO:-0500
TZNAME:CDT
DTSTART:20240310T080000
END:DAYLIGHT
BEGIN:STANDARD
TZOFFSETFROM:-0500
TZOFFSETTO:-0600
TZNAME:CST
DTSTART:20241103T070000
END:STANDARD
BEGIN:DAYLIGHT
TZOFFSETFROM:-0600
TZOFFSETTO:-0500
TZNAME:CDT
DTSTART:20250309T080000
END:DAYLIGHT
BEGIN:STANDARD
TZOFFSETFROM:-0500
TZOFFSETTO:-0600
TZNAME:CST
DTSTART:20251102T070000
END:STANDARD
BEGIN:DAYLIGHT
TZOFFSETFROM:-0600
TZOFFSETTO:-0500
TZNAME:CDT
DTSTART:20260308T080000
END:DAYLIGHT
BEGIN:STANDARD
TZOFFSETFROM:-0500
TZOFFSETTO:-0600
TZNAME:CST
DTSTART:20261101T070000
END:STANDARD
END:VTIMEZONE
BEGIN:VEVENT
DTSTART;TZID=America/Chicago:20250401T190000
DTEND;TZID=America/Chicago:20250401T200000
DTSTAMP:20260423T062547
CREATED:20201029T212111Z
LAST-MODIFIED:20250103T175831Z
UID:10005563-1743534000-1743537600@aifcmn.org
SUMMARY:[Virtual Event] AIFC: Khunsi Onikan - Well-Anon (Native American Al-Anon) Meeting
DESCRIPTION:Open to anyone wanting to learn to have healthy boundaries and healthy relationships with the other addicts/alcoholics in their lives. \nJoin us every Tuesday at 7 PM CST for help and hope. \nSuppose you have a loved one dealing with addiction. In that case\, our Khunsi Onikan Program sponsors these weekly Native American culturally-based\, one-hour meetings to help you establish healthy boundaries and relationships. \nJoin the meeting here: https://us02web.zoom.us/j/89255163167?pwd=VlI2ZlQzdnF3NmxxRytmSkVtMm14Zz09
URL:https://aifcmn.org/event/khunsi-onikan-native-american-al-anon-meeting/2025-04-01/
LOCATION:
CATEGORIES:AIFC,Recovery Services
ATTACH;FMTTYPE=image/png:https://aifcmn.org/wp-content/uploads/2020/10/Khunsi-Onikan-Facebook.png
END:VEVENT
BEGIN:VEVENT
DTSTART;TZID=America/Chicago:20250403T190000
DTEND;TZID=America/Chicago:20250403T200000
DTSTAMP:20260423T062547
CREATED:20201029T210319Z
LAST-MODIFIED:20241231T184555Z
UID:10005301-1743706800-1743710400@aifcmn.org
SUMMARY:[Virtual Event] AIFC: Khunsi Onikan - Wellbriety/Medicine Wheel 12 Steps Meeting
DESCRIPTION:Open to anyone wanting to work on recovery from any addiction. \nEvery Thursday at 7 pm CST\, AIFC’s Khunsi Onikan program will sponsor a culturally based recovery support Wellbriety/Medicine Wheel 12-step meeting for the community; anyone wanting to work on recovery from any addictions is welcome to attend. \nNo need to register in advance. \nClick here to join the meeting: https://us02web.zoom.us/j/89255163167?pwd=VlI2ZlQzdnF3NmxxRytmSkVtMm14Zz09
URL:https://aifcmn.org/event/khunsi-onikan-wellbriety-medicine-wheel-12-steps-meeting/2025-04-03/
LOCATION:
CATEGORIES:AIFC,Recovery Services
ATTACH;FMTTYPE=image/png:https://aifcmn.org/wp-content/uploads/2020/10/Khunsi-Onikan-Facebook.png
END:VEVENT
BEGIN:VEVENT
DTSTART;TZID=America/Chicago:20250408T190000
DTEND;TZID=America/Chicago:20250408T200000
DTSTAMP:20260423T062547
CREATED:20201029T212111Z
LAST-MODIFIED:20250103T175831Z
UID:10005564-1744138800-1744142400@aifcmn.org
SUMMARY:[Virtual Event] AIFC: Khunsi Onikan - Well-Anon (Native American Al-Anon) Meeting
DESCRIPTION:Open to anyone wanting to learn to have healthy boundaries and healthy relationships with the other addicts/alcoholics in their lives. \nJoin us every Tuesday at 7 PM CST for help and hope. \nSuppose you have a loved one dealing with addiction. In that case\, our Khunsi Onikan Program sponsors these weekly Native American culturally-based\, one-hour meetings to help you establish healthy boundaries and relationships. \nJoin the meeting here: https://us02web.zoom.us/j/89255163167?pwd=VlI2ZlQzdnF3NmxxRytmSkVtMm14Zz09
URL:https://aifcmn.org/event/khunsi-onikan-native-american-al-anon-meeting/2025-04-08/
LOCATION:
CATEGORIES:AIFC,Recovery Services
ATTACH;FMTTYPE=image/png:https://aifcmn.org/wp-content/uploads/2020/10/Khunsi-Onikan-Facebook.png
END:VEVENT
BEGIN:VEVENT
DTSTART;TZID=America/Chicago:20250410T190000
DTEND;TZID=America/Chicago:20250410T200000
DTSTAMP:20260423T062547
CREATED:20201029T210319Z
LAST-MODIFIED:20241231T184555Z
UID:10005302-1744311600-1744315200@aifcmn.org
SUMMARY:[Virtual Event] AIFC: Khunsi Onikan - Wellbriety/Medicine Wheel 12 Steps Meeting
DESCRIPTION:Open to anyone wanting to work on recovery from any addiction. \nEvery Thursday at 7 pm CST\, AIFC’s Khunsi Onikan program will sponsor a culturally based recovery support Wellbriety/Medicine Wheel 12-step meeting for the community; anyone wanting to work on recovery from any addictions is welcome to attend. \nNo need to register in advance. \nClick here to join the meeting: https://us02web.zoom.us/j/89255163167?pwd=VlI2ZlQzdnF3NmxxRytmSkVtMm14Zz09
URL:https://aifcmn.org/event/khunsi-onikan-wellbriety-medicine-wheel-12-steps-meeting/2025-04-10/
LOCATION:
CATEGORIES:AIFC,Recovery Services
ATTACH;FMTTYPE=image/png:https://aifcmn.org/wp-content/uploads/2020/10/Khunsi-Onikan-Facebook.png
END:VEVENT
BEGIN:VEVENT
DTSTART;TZID=America/Chicago:20250415T190000
DTEND;TZID=America/Chicago:20250415T200000
DTSTAMP:20260423T062547
CREATED:20201029T212111Z
LAST-MODIFIED:20250103T175831Z
UID:10005565-1744743600-1744747200@aifcmn.org
SUMMARY:[Virtual Event] AIFC: Khunsi Onikan - Well-Anon (Native American Al-Anon) Meeting
DESCRIPTION:Open to anyone wanting to learn to have healthy boundaries and healthy relationships with the other addicts/alcoholics in their lives. \nJoin us every Tuesday at 7 PM CST for help and hope. \nSuppose you have a loved one dealing with addiction. In that case\, our Khunsi Onikan Program sponsors these weekly Native American culturally-based\, one-hour meetings to help you establish healthy boundaries and relationships. \nJoin the meeting here: https://us02web.zoom.us/j/89255163167?pwd=VlI2ZlQzdnF3NmxxRytmSkVtMm14Zz09
URL:https://aifcmn.org/event/khunsi-onikan-native-american-al-anon-meeting/2025-04-15/
LOCATION:
CATEGORIES:AIFC,Recovery Services
ATTACH;FMTTYPE=image/png:https://aifcmn.org/wp-content/uploads/2020/10/Khunsi-Onikan-Facebook.png
END:VEVENT
BEGIN:VEVENT
DTSTART;TZID=America/Chicago:20250417T190000
DTEND;TZID=America/Chicago:20250417T200000
DTSTAMP:20260423T062547
CREATED:20201029T210319Z
LAST-MODIFIED:20241231T184555Z
UID:10005303-1744916400-1744920000@aifcmn.org
SUMMARY:[Virtual Event] AIFC: Khunsi Onikan - Wellbriety/Medicine Wheel 12 Steps Meeting
DESCRIPTION:Open to anyone wanting to work on recovery from any addiction. \nEvery Thursday at 7 pm CST\, AIFC’s Khunsi Onikan program will sponsor a culturally based recovery support Wellbriety/Medicine Wheel 12-step meeting for the community; anyone wanting to work on recovery from any addictions is welcome to attend. \nNo need to register in advance. \nClick here to join the meeting: https://us02web.zoom.us/j/89255163167?pwd=VlI2ZlQzdnF3NmxxRytmSkVtMm14Zz09
URL:https://aifcmn.org/event/khunsi-onikan-wellbriety-medicine-wheel-12-steps-meeting/2025-04-17/
LOCATION:
CATEGORIES:AIFC,Recovery Services
ATTACH;FMTTYPE=image/png:https://aifcmn.org/wp-content/uploads/2020/10/Khunsi-Onikan-Facebook.png
END:VEVENT
BEGIN:VEVENT
DTSTART;TZID=America/Chicago:20250422T190000
DTEND;TZID=America/Chicago:20250422T200000
DTSTAMP:20260423T062547
CREATED:20201029T212111Z
LAST-MODIFIED:20250103T175831Z
UID:10005566-1745348400-1745352000@aifcmn.org
SUMMARY:[Virtual Event] AIFC: Khunsi Onikan - Well-Anon (Native American Al-Anon) Meeting
DESCRIPTION:Open to anyone wanting to learn to have healthy boundaries and healthy relationships with the other addicts/alcoholics in their lives. \nJoin us every Tuesday at 7 PM CST for help and hope. \nSuppose you have a loved one dealing with addiction. In that case\, our Khunsi Onikan Program sponsors these weekly Native American culturally-based\, one-hour meetings to help you establish healthy boundaries and relationships. \nJoin the meeting here: https://us02web.zoom.us/j/89255163167?pwd=VlI2ZlQzdnF3NmxxRytmSkVtMm14Zz09
URL:https://aifcmn.org/event/khunsi-onikan-native-american-al-anon-meeting/2025-04-22/
LOCATION:
CATEGORIES:AIFC,Recovery Services
ATTACH;FMTTYPE=image/png:https://aifcmn.org/wp-content/uploads/2020/10/Khunsi-Onikan-Facebook.png
END:VEVENT
BEGIN:VEVENT
DTSTART;TZID=America/Chicago:20250424T190000
DTEND;TZID=America/Chicago:20250424T200000
DTSTAMP:20260423T062547
CREATED:20201029T210319Z
LAST-MODIFIED:20241231T184555Z
UID:10005304-1745521200-1745524800@aifcmn.org
SUMMARY:[Virtual Event] AIFC: Khunsi Onikan - Wellbriety/Medicine Wheel 12 Steps Meeting
DESCRIPTION:Open to anyone wanting to work on recovery from any addiction. \nEvery Thursday at 7 pm CST\, AIFC’s Khunsi Onikan program will sponsor a culturally based recovery support Wellbriety/Medicine Wheel 12-step meeting for the community; anyone wanting to work on recovery from any addictions is welcome to attend. \nNo need to register in advance. \nClick here to join the meeting: https://us02web.zoom.us/j/89255163167?pwd=VlI2ZlQzdnF3NmxxRytmSkVtMm14Zz09
URL:https://aifcmn.org/event/khunsi-onikan-wellbriety-medicine-wheel-12-steps-meeting/2025-04-24/
LOCATION:
CATEGORIES:AIFC,Recovery Services
ATTACH;FMTTYPE=image/png:https://aifcmn.org/wp-content/uploads/2020/10/Khunsi-Onikan-Facebook.png
END:VEVENT
BEGIN:VEVENT
DTSTART;TZID=America/Chicago:20250429T190000
DTEND;TZID=America/Chicago:20250429T200000
DTSTAMP:20260423T062547
CREATED:20201029T212111Z
LAST-MODIFIED:20250103T175831Z
UID:10005567-1745953200-1745956800@aifcmn.org
SUMMARY:[Virtual Event] AIFC: Khunsi Onikan - Well-Anon (Native American Al-Anon) Meeting
DESCRIPTION:Open to anyone wanting to learn to have healthy boundaries and healthy relationships with the other addicts/alcoholics in their lives. \nJoin us every Tuesday at 7 PM CST for help and hope. \nSuppose you have a loved one dealing with addiction. In that case\, our Khunsi Onikan Program sponsors these weekly Native American culturally-based\, one-hour meetings to help you establish healthy boundaries and relationships. \nJoin the meeting here: https://us02web.zoom.us/j/89255163167?pwd=VlI2ZlQzdnF3NmxxRytmSkVtMm14Zz09
URL:https://aifcmn.org/event/khunsi-onikan-native-american-al-anon-meeting/2025-04-29/
LOCATION:
CATEGORIES:AIFC,Recovery Services
ATTACH;FMTTYPE=image/png:https://aifcmn.org/wp-content/uploads/2020/10/Khunsi-Onikan-Facebook.png
END:VEVENT
END:VCALENDAR