BEGIN:VCALENDAR
VERSION:2.0
PRODID:-//American Indian Family Center - ECPv6.15.17.1//NONSGML v1.0//EN
CALSCALE:GREGORIAN
METHOD:PUBLISH
X-ORIGINAL-URL:https://aifcmn.org
X-WR-CALDESC:Events for American Indian Family Center
REFRESH-INTERVAL;VALUE=DURATION:PT1H
X-Robots-Tag:noindex
X-PUBLISHED-TTL:PT1H
BEGIN:VTIMEZONE
TZID:America/Chicago
BEGIN:DAYLIGHT
TZOFFSETFROM:-0600
TZOFFSETTO:-0500
TZNAME:CDT
DTSTART:20250309T080000
END:DAYLIGHT
BEGIN:STANDARD
TZOFFSETFROM:-0500
TZOFFSETTO:-0600
TZNAME:CST
DTSTART:20251102T070000
END:STANDARD
BEGIN:DAYLIGHT
TZOFFSETFROM:-0600
TZOFFSETTO:-0500
TZNAME:CDT
DTSTART:20260308T080000
END:DAYLIGHT
BEGIN:STANDARD
TZOFFSETFROM:-0500
TZOFFSETTO:-0600
TZNAME:CST
DTSTART:20261101T070000
END:STANDARD
BEGIN:DAYLIGHT
TZOFFSETFROM:-0600
TZOFFSETTO:-0500
TZNAME:CDT
DTSTART:20270314T080000
END:DAYLIGHT
BEGIN:STANDARD
TZOFFSETFROM:-0500
TZOFFSETTO:-0600
TZNAME:CST
DTSTART:20271107T070000
END:STANDARD
END:VTIMEZONE
BEGIN:VEVENT
DTSTART;TZID=America/Chicago:20260804T190000
DTEND;TZID=America/Chicago:20260804T200000
DTSTAMP:20260420T080004
CREATED:20260304T192123Z
LAST-MODIFIED:20260304T192124Z
UID:10005633-1785870000-1785873600@aifcmn.org
SUMMARY:[Virtual Event] AIFC: Khunsi Onikan - Well-Anon (Native American Al-Anon) Meeting
DESCRIPTION:Open to anyone wanting to learn to have healthy boundaries and healthy relationships with the other addicts/alcoholics in their lives. \nJoin us every Tuesday at 7PM CST for help and hope. \nSuppose you have a loved one dealing with addiction. In that case\, our Khunsi Onikan Program sponsors these weekly Native American culturally-based\, one-hour meetings to help you establish healthy boundaries and relationships. \nJoin the meeting here: https://us06web.zoom.us/j/9436209248?pwd=TG5abq5v7zPdO6BauaHvQOFaEkKvlE.1
URL:https://aifcmn.org/event/khunsi-onikan-native-american-al-anon-meeting-2/2026-08-04/
LOCATION:
CATEGORIES:AIFC,Recovery Services
ATTACH;FMTTYPE=image/png:https://aifcmn.org/wp-content/uploads/2020/10/Khunsi-Onikan-Facebook.png
END:VEVENT
BEGIN:VEVENT
DTSTART;TZID=America/Chicago:20260806T190000
DTEND;TZID=America/Chicago:20260806T200000
DTSTAMP:20260420T080004
CREATED:20260304T192323Z
LAST-MODIFIED:20260304T192324Z
UID:10005371-1786042800-1786046400@aifcmn.org
SUMMARY:[Virtual Event] AIFC: Khunsi Onikan - Wellbriety/Medicine Wheel 12 Steps Meeting
DESCRIPTION:Open to anyone wanting to work on recovery from any addiction. \nEvery Thursday at 7PM CST\, Khunsi Onikan (Grandmother’s Arms)\, AIFC Recovery Services\, will sponsor a culturally based recovery support Wellbriety/Medicine Wheel 12-step meeting for the community; anyone wanting to work on recovery from any addictions is welcome to attend. \nNo need to register in advance. \nClick here to join the meeting: https://us06web.zoom.us/j/9436209248?pwd=TG5abq5v7zPdO6BauaHvQOFaEkKvlE.1
URL:https://aifcmn.org/event/khunsi-onikan-wellbriety-medicine-wheel-12-steps-meeting-2-2/2026-08-06/
LOCATION:
CATEGORIES:AIFC,Recovery Services
ATTACH;FMTTYPE=image/png:https://aifcmn.org/wp-content/uploads/2020/10/Khunsi-Onikan-Facebook.png
END:VEVENT
BEGIN:VEVENT
DTSTART;TZID=America/Chicago:20260811T190000
DTEND;TZID=America/Chicago:20260811T200000
DTSTAMP:20260420T080004
CREATED:20260304T192123Z
LAST-MODIFIED:20260304T192124Z
UID:10005634-1786474800-1786478400@aifcmn.org
SUMMARY:[Virtual Event] AIFC: Khunsi Onikan - Well-Anon (Native American Al-Anon) Meeting
DESCRIPTION:Open to anyone wanting to learn to have healthy boundaries and healthy relationships with the other addicts/alcoholics in their lives. \nJoin us every Tuesday at 7PM CST for help and hope. \nSuppose you have a loved one dealing with addiction. In that case\, our Khunsi Onikan Program sponsors these weekly Native American culturally-based\, one-hour meetings to help you establish healthy boundaries and relationships. \nJoin the meeting here: https://us06web.zoom.us/j/9436209248?pwd=TG5abq5v7zPdO6BauaHvQOFaEkKvlE.1
URL:https://aifcmn.org/event/khunsi-onikan-native-american-al-anon-meeting-2/2026-08-11/
LOCATION:
CATEGORIES:AIFC,Recovery Services
ATTACH;FMTTYPE=image/png:https://aifcmn.org/wp-content/uploads/2020/10/Khunsi-Onikan-Facebook.png
END:VEVENT
BEGIN:VEVENT
DTSTART;TZID=America/Chicago:20260813T190000
DTEND;TZID=America/Chicago:20260813T200000
DTSTAMP:20260420T080004
CREATED:20260304T192323Z
LAST-MODIFIED:20260304T192324Z
UID:10005372-1786647600-1786651200@aifcmn.org
SUMMARY:[Virtual Event] AIFC: Khunsi Onikan - Wellbriety/Medicine Wheel 12 Steps Meeting
DESCRIPTION:Open to anyone wanting to work on recovery from any addiction. \nEvery Thursday at 7PM CST\, Khunsi Onikan (Grandmother’s Arms)\, AIFC Recovery Services\, will sponsor a culturally based recovery support Wellbriety/Medicine Wheel 12-step meeting for the community; anyone wanting to work on recovery from any addictions is welcome to attend. \nNo need to register in advance. \nClick here to join the meeting: https://us06web.zoom.us/j/9436209248?pwd=TG5abq5v7zPdO6BauaHvQOFaEkKvlE.1
URL:https://aifcmn.org/event/khunsi-onikan-wellbriety-medicine-wheel-12-steps-meeting-2-2/2026-08-13/
LOCATION:
CATEGORIES:AIFC,Recovery Services
ATTACH;FMTTYPE=image/png:https://aifcmn.org/wp-content/uploads/2020/10/Khunsi-Onikan-Facebook.png
END:VEVENT
BEGIN:VEVENT
DTSTART;TZID=America/Chicago:20260818T190000
DTEND;TZID=America/Chicago:20260818T200000
DTSTAMP:20260420T080004
CREATED:20260304T192123Z
LAST-MODIFIED:20260304T192124Z
UID:10005635-1787079600-1787083200@aifcmn.org
SUMMARY:[Virtual Event] AIFC: Khunsi Onikan - Well-Anon (Native American Al-Anon) Meeting
DESCRIPTION:Open to anyone wanting to learn to have healthy boundaries and healthy relationships with the other addicts/alcoholics in their lives. \nJoin us every Tuesday at 7PM CST for help and hope. \nSuppose you have a loved one dealing with addiction. In that case\, our Khunsi Onikan Program sponsors these weekly Native American culturally-based\, one-hour meetings to help you establish healthy boundaries and relationships. \nJoin the meeting here: https://us06web.zoom.us/j/9436209248?pwd=TG5abq5v7zPdO6BauaHvQOFaEkKvlE.1
URL:https://aifcmn.org/event/khunsi-onikan-native-american-al-anon-meeting-2/2026-08-18/
LOCATION:
CATEGORIES:AIFC,Recovery Services
ATTACH;FMTTYPE=image/png:https://aifcmn.org/wp-content/uploads/2020/10/Khunsi-Onikan-Facebook.png
END:VEVENT
BEGIN:VEVENT
DTSTART;TZID=America/Chicago:20260820T190000
DTEND;TZID=America/Chicago:20260820T200000
DTSTAMP:20260420T080004
CREATED:20260304T192323Z
LAST-MODIFIED:20260304T192324Z
UID:10005373-1787252400-1787256000@aifcmn.org
SUMMARY:[Virtual Event] AIFC: Khunsi Onikan - Wellbriety/Medicine Wheel 12 Steps Meeting
DESCRIPTION:Open to anyone wanting to work on recovery from any addiction. \nEvery Thursday at 7PM CST\, Khunsi Onikan (Grandmother’s Arms)\, AIFC Recovery Services\, will sponsor a culturally based recovery support Wellbriety/Medicine Wheel 12-step meeting for the community; anyone wanting to work on recovery from any addictions is welcome to attend. \nNo need to register in advance. \nClick here to join the meeting: https://us06web.zoom.us/j/9436209248?pwd=TG5abq5v7zPdO6BauaHvQOFaEkKvlE.1
URL:https://aifcmn.org/event/khunsi-onikan-wellbriety-medicine-wheel-12-steps-meeting-2-2/2026-08-20/
LOCATION:
CATEGORIES:AIFC,Recovery Services
ATTACH;FMTTYPE=image/png:https://aifcmn.org/wp-content/uploads/2020/10/Khunsi-Onikan-Facebook.png
END:VEVENT
BEGIN:VEVENT
DTSTART;TZID=America/Chicago:20260825T190000
DTEND;TZID=America/Chicago:20260825T200000
DTSTAMP:20260420T080004
CREATED:20260304T192123Z
LAST-MODIFIED:20260304T192124Z
UID:10005636-1787684400-1787688000@aifcmn.org
SUMMARY:[Virtual Event] AIFC: Khunsi Onikan - Well-Anon (Native American Al-Anon) Meeting
DESCRIPTION:Open to anyone wanting to learn to have healthy boundaries and healthy relationships with the other addicts/alcoholics in their lives. \nJoin us every Tuesday at 7PM CST for help and hope. \nSuppose you have a loved one dealing with addiction. In that case\, our Khunsi Onikan Program sponsors these weekly Native American culturally-based\, one-hour meetings to help you establish healthy boundaries and relationships. \nJoin the meeting here: https://us06web.zoom.us/j/9436209248?pwd=TG5abq5v7zPdO6BauaHvQOFaEkKvlE.1
URL:https://aifcmn.org/event/khunsi-onikan-native-american-al-anon-meeting-2/2026-08-25/
LOCATION:
CATEGORIES:AIFC,Recovery Services
ATTACH;FMTTYPE=image/png:https://aifcmn.org/wp-content/uploads/2020/10/Khunsi-Onikan-Facebook.png
END:VEVENT
BEGIN:VEVENT
DTSTART;TZID=America/Chicago:20260827T190000
DTEND;TZID=America/Chicago:20260827T200000
DTSTAMP:20260420T080004
CREATED:20260304T192323Z
LAST-MODIFIED:20260304T192324Z
UID:10005374-1787857200-1787860800@aifcmn.org
SUMMARY:[Virtual Event] AIFC: Khunsi Onikan - Wellbriety/Medicine Wheel 12 Steps Meeting
DESCRIPTION:Open to anyone wanting to work on recovery from any addiction. \nEvery Thursday at 7PM CST\, Khunsi Onikan (Grandmother’s Arms)\, AIFC Recovery Services\, will sponsor a culturally based recovery support Wellbriety/Medicine Wheel 12-step meeting for the community; anyone wanting to work on recovery from any addictions is welcome to attend. \nNo need to register in advance. \nClick here to join the meeting: https://us06web.zoom.us/j/9436209248?pwd=TG5abq5v7zPdO6BauaHvQOFaEkKvlE.1
URL:https://aifcmn.org/event/khunsi-onikan-wellbriety-medicine-wheel-12-steps-meeting-2-2/2026-08-27/
LOCATION:
CATEGORIES:AIFC,Recovery Services
ATTACH;FMTTYPE=image/png:https://aifcmn.org/wp-content/uploads/2020/10/Khunsi-Onikan-Facebook.png
END:VEVENT
END:VCALENDAR