BEGIN:VCALENDAR
VERSION:2.0
PRODID:-//American Indian Family Center - ECPv6.15.17.1//NONSGML v1.0//EN
CALSCALE:GREGORIAN
METHOD:PUBLISH
X-WR-CALNAME:American Indian Family Center
X-ORIGINAL-URL:https://aifcmn.org
X-WR-CALDESC:Events for American Indian Family Center
REFRESH-INTERVAL;VALUE=DURATION:PT1H
X-Robots-Tag:noindex
X-PUBLISHED-TTL:PT1H
BEGIN:VTIMEZONE
TZID:America/Chicago
BEGIN:DAYLIGHT
TZOFFSETFROM:-0600
TZOFFSETTO:-0500
TZNAME:CDT
DTSTART:20260308T080000
END:DAYLIGHT
BEGIN:STANDARD
TZOFFSETFROM:-0500
TZOFFSETTO:-0600
TZNAME:CST
DTSTART:20261101T070000
END:STANDARD
BEGIN:DAYLIGHT
TZOFFSETFROM:-0600
TZOFFSETTO:-0500
TZNAME:CDT
DTSTART:20270314T080000
END:DAYLIGHT
BEGIN:STANDARD
TZOFFSETFROM:-0500
TZOFFSETTO:-0600
TZNAME:CST
DTSTART:20271107T070000
END:STANDARD
BEGIN:DAYLIGHT
TZOFFSETFROM:-0600
TZOFFSETTO:-0500
TZNAME:CDT
DTSTART:20280312T080000
END:DAYLIGHT
BEGIN:STANDARD
TZOFFSETFROM:-0500
TZOFFSETTO:-0600
TZNAME:CST
DTSTART:20281105T070000
END:STANDARD
END:VTIMEZONE
BEGIN:VEVENT
DTSTART;TZID=America/Chicago:20271202T190000
DTEND;TZID=America/Chicago:20271202T200000
DTSTAMP:20260423T080015
CREATED:20260304T192323Z
LAST-MODIFIED:20260304T192324Z
UID:10005440-1827774000-1827777600@aifcmn.org
SUMMARY:[Virtual Event] AIFC: Khunsi Onikan - Wellbriety/Medicine Wheel 12 Steps Meeting
DESCRIPTION:Open to anyone wanting to work on recovery from any addiction. \nEvery Thursday at 7PM CST\, Khunsi Onikan (Grandmother’s Arms)\, AIFC Recovery Services\, will sponsor a culturally based recovery support Wellbriety/Medicine Wheel 12-step meeting for the community; anyone wanting to work on recovery from any addictions is welcome to attend. \nNo need to register in advance. \nClick here to join the meeting: https://us06web.zoom.us/j/9436209248?pwd=TG5abq5v7zPdO6BauaHvQOFaEkKvlE.1
URL:https://aifcmn.org/event/khunsi-onikan-wellbriety-medicine-wheel-12-steps-meeting-2-2/2027-12-02/
LOCATION:
CATEGORIES:AIFC,Recovery Services
ATTACH;FMTTYPE=image/png:https://aifcmn.org/wp-content/uploads/2020/10/Khunsi-Onikan-Facebook.png
END:VEVENT
BEGIN:VEVENT
DTSTART;TZID=America/Chicago:20271207T190000
DTEND;TZID=America/Chicago:20271207T200000
DTSTAMP:20260423T080015
CREATED:20260304T192123Z
LAST-MODIFIED:20260304T192124Z
UID:10005703-1828206000-1828209600@aifcmn.org
SUMMARY:[Virtual Event] AIFC: Khunsi Onikan - Well-Anon (Native American Al-Anon) Meeting
DESCRIPTION:Open to anyone wanting to learn to have healthy boundaries and healthy relationships with the other addicts/alcoholics in their lives. \nJoin us every Tuesday at 7PM CST for help and hope. \nSuppose you have a loved one dealing with addiction. In that case\, our Khunsi Onikan Program sponsors these weekly Native American culturally-based\, one-hour meetings to help you establish healthy boundaries and relationships. \nJoin the meeting here: https://us06web.zoom.us/j/9436209248?pwd=TG5abq5v7zPdO6BauaHvQOFaEkKvlE.1
URL:https://aifcmn.org/event/khunsi-onikan-native-american-al-anon-meeting-2/2027-12-07/
LOCATION:
CATEGORIES:AIFC,Recovery Services
ATTACH;FMTTYPE=image/png:https://aifcmn.org/wp-content/uploads/2020/10/Khunsi-Onikan-Facebook.png
END:VEVENT
BEGIN:VEVENT
DTSTART;TZID=America/Chicago:20271209T190000
DTEND;TZID=America/Chicago:20271209T200000
DTSTAMP:20260423T080015
CREATED:20260304T192323Z
LAST-MODIFIED:20260304T192324Z
UID:10005441-1828378800-1828382400@aifcmn.org
SUMMARY:[Virtual Event] AIFC: Khunsi Onikan - Wellbriety/Medicine Wheel 12 Steps Meeting
DESCRIPTION:Open to anyone wanting to work on recovery from any addiction. \nEvery Thursday at 7PM CST\, Khunsi Onikan (Grandmother’s Arms)\, AIFC Recovery Services\, will sponsor a culturally based recovery support Wellbriety/Medicine Wheel 12-step meeting for the community; anyone wanting to work on recovery from any addictions is welcome to attend. \nNo need to register in advance. \nClick here to join the meeting: https://us06web.zoom.us/j/9436209248?pwd=TG5abq5v7zPdO6BauaHvQOFaEkKvlE.1
URL:https://aifcmn.org/event/khunsi-onikan-wellbriety-medicine-wheel-12-steps-meeting-2-2/2027-12-09/
LOCATION:
CATEGORIES:AIFC,Recovery Services
ATTACH;FMTTYPE=image/png:https://aifcmn.org/wp-content/uploads/2020/10/Khunsi-Onikan-Facebook.png
END:VEVENT
BEGIN:VEVENT
DTSTART;TZID=America/Chicago:20271214T190000
DTEND;TZID=America/Chicago:20271214T200000
DTSTAMP:20260423T080015
CREATED:20260304T192123Z
LAST-MODIFIED:20260304T192124Z
UID:10005704-1828810800-1828814400@aifcmn.org
SUMMARY:[Virtual Event] AIFC: Khunsi Onikan - Well-Anon (Native American Al-Anon) Meeting
DESCRIPTION:Open to anyone wanting to learn to have healthy boundaries and healthy relationships with the other addicts/alcoholics in their lives. \nJoin us every Tuesday at 7PM CST for help and hope. \nSuppose you have a loved one dealing with addiction. In that case\, our Khunsi Onikan Program sponsors these weekly Native American culturally-based\, one-hour meetings to help you establish healthy boundaries and relationships. \nJoin the meeting here: https://us06web.zoom.us/j/9436209248?pwd=TG5abq5v7zPdO6BauaHvQOFaEkKvlE.1
URL:https://aifcmn.org/event/khunsi-onikan-native-american-al-anon-meeting-2/2027-12-14/
LOCATION:
CATEGORIES:AIFC,Recovery Services
ATTACH;FMTTYPE=image/png:https://aifcmn.org/wp-content/uploads/2020/10/Khunsi-Onikan-Facebook.png
END:VEVENT
BEGIN:VEVENT
DTSTART;TZID=America/Chicago:20271216T190000
DTEND;TZID=America/Chicago:20271216T200000
DTSTAMP:20260423T080015
CREATED:20260304T192323Z
LAST-MODIFIED:20260304T192324Z
UID:10005442-1828983600-1828987200@aifcmn.org
SUMMARY:[Virtual Event] AIFC: Khunsi Onikan - Wellbriety/Medicine Wheel 12 Steps Meeting
DESCRIPTION:Open to anyone wanting to work on recovery from any addiction. \nEvery Thursday at 7PM CST\, Khunsi Onikan (Grandmother’s Arms)\, AIFC Recovery Services\, will sponsor a culturally based recovery support Wellbriety/Medicine Wheel 12-step meeting for the community; anyone wanting to work on recovery from any addictions is welcome to attend. \nNo need to register in advance. \nClick here to join the meeting: https://us06web.zoom.us/j/9436209248?pwd=TG5abq5v7zPdO6BauaHvQOFaEkKvlE.1
URL:https://aifcmn.org/event/khunsi-onikan-wellbriety-medicine-wheel-12-steps-meeting-2-2/2027-12-16/
LOCATION:
CATEGORIES:AIFC,Recovery Services
ATTACH;FMTTYPE=image/png:https://aifcmn.org/wp-content/uploads/2020/10/Khunsi-Onikan-Facebook.png
END:VEVENT
BEGIN:VEVENT
DTSTART;TZID=America/Chicago:20271221T190000
DTEND;TZID=America/Chicago:20271221T200000
DTSTAMP:20260423T080015
CREATED:20260304T192123Z
LAST-MODIFIED:20260304T192124Z
UID:10005705-1829415600-1829419200@aifcmn.org
SUMMARY:[Virtual Event] AIFC: Khunsi Onikan - Well-Anon (Native American Al-Anon) Meeting
DESCRIPTION:Open to anyone wanting to learn to have healthy boundaries and healthy relationships with the other addicts/alcoholics in their lives. \nJoin us every Tuesday at 7PM CST for help and hope. \nSuppose you have a loved one dealing with addiction. In that case\, our Khunsi Onikan Program sponsors these weekly Native American culturally-based\, one-hour meetings to help you establish healthy boundaries and relationships. \nJoin the meeting here: https://us06web.zoom.us/j/9436209248?pwd=TG5abq5v7zPdO6BauaHvQOFaEkKvlE.1
URL:https://aifcmn.org/event/khunsi-onikan-native-american-al-anon-meeting-2/2027-12-21/
LOCATION:
CATEGORIES:AIFC,Recovery Services
ATTACH;FMTTYPE=image/png:https://aifcmn.org/wp-content/uploads/2020/10/Khunsi-Onikan-Facebook.png
END:VEVENT
BEGIN:VEVENT
DTSTART;TZID=America/Chicago:20271223T190000
DTEND;TZID=America/Chicago:20271223T200000
DTSTAMP:20260423T080015
CREATED:20260304T192323Z
LAST-MODIFIED:20260304T192324Z
UID:10005443-1829588400-1829592000@aifcmn.org
SUMMARY:[Virtual Event] AIFC: Khunsi Onikan - Wellbriety/Medicine Wheel 12 Steps Meeting
DESCRIPTION:Open to anyone wanting to work on recovery from any addiction. \nEvery Thursday at 7PM CST\, Khunsi Onikan (Grandmother’s Arms)\, AIFC Recovery Services\, will sponsor a culturally based recovery support Wellbriety/Medicine Wheel 12-step meeting for the community; anyone wanting to work on recovery from any addictions is welcome to attend. \nNo need to register in advance. \nClick here to join the meeting: https://us06web.zoom.us/j/9436209248?pwd=TG5abq5v7zPdO6BauaHvQOFaEkKvlE.1
URL:https://aifcmn.org/event/khunsi-onikan-wellbriety-medicine-wheel-12-steps-meeting-2-2/2027-12-23/
LOCATION:
CATEGORIES:AIFC,Recovery Services
ATTACH;FMTTYPE=image/png:https://aifcmn.org/wp-content/uploads/2020/10/Khunsi-Onikan-Facebook.png
END:VEVENT
BEGIN:VEVENT
DTSTART;TZID=America/Chicago:20271228T190000
DTEND;TZID=America/Chicago:20271228T200000
DTSTAMP:20260423T080015
CREATED:20260304T192123Z
LAST-MODIFIED:20260304T192124Z
UID:10005706-1830020400-1830024000@aifcmn.org
SUMMARY:[Virtual Event] AIFC: Khunsi Onikan - Well-Anon (Native American Al-Anon) Meeting
DESCRIPTION:Open to anyone wanting to learn to have healthy boundaries and healthy relationships with the other addicts/alcoholics in their lives. \nJoin us every Tuesday at 7PM CST for help and hope. \nSuppose you have a loved one dealing with addiction. In that case\, our Khunsi Onikan Program sponsors these weekly Native American culturally-based\, one-hour meetings to help you establish healthy boundaries and relationships. \nJoin the meeting here: https://us06web.zoom.us/j/9436209248?pwd=TG5abq5v7zPdO6BauaHvQOFaEkKvlE.1
URL:https://aifcmn.org/event/khunsi-onikan-native-american-al-anon-meeting-2/2027-12-28/
LOCATION:
CATEGORIES:AIFC,Recovery Services
ATTACH;FMTTYPE=image/png:https://aifcmn.org/wp-content/uploads/2020/10/Khunsi-Onikan-Facebook.png
END:VEVENT
BEGIN:VEVENT
DTSTART;TZID=America/Chicago:20271230T190000
DTEND;TZID=America/Chicago:20271230T200000
DTSTAMP:20260423T080015
CREATED:20260304T192323Z
LAST-MODIFIED:20260304T192324Z
UID:10005444-1830193200-1830196800@aifcmn.org
SUMMARY:[Virtual Event] AIFC: Khunsi Onikan - Wellbriety/Medicine Wheel 12 Steps Meeting
DESCRIPTION:Open to anyone wanting to work on recovery from any addiction. \nEvery Thursday at 7PM CST\, Khunsi Onikan (Grandmother’s Arms)\, AIFC Recovery Services\, will sponsor a culturally based recovery support Wellbriety/Medicine Wheel 12-step meeting for the community; anyone wanting to work on recovery from any addictions is welcome to attend. \nNo need to register in advance. \nClick here to join the meeting: https://us06web.zoom.us/j/9436209248?pwd=TG5abq5v7zPdO6BauaHvQOFaEkKvlE.1
URL:https://aifcmn.org/event/khunsi-onikan-wellbriety-medicine-wheel-12-steps-meeting-2-2/2027-12-30/
LOCATION:
CATEGORIES:AIFC,Recovery Services
ATTACH;FMTTYPE=image/png:https://aifcmn.org/wp-content/uploads/2020/10/Khunsi-Onikan-Facebook.png
END:VEVENT
END:VCALENDAR