BEGIN:VCALENDAR
VERSION:2.0
PRODID:-//American Indian Family Center - ECPv6.15.17.1//NONSGML v1.0//EN
CALSCALE:GREGORIAN
METHOD:PUBLISH
X-WR-CALNAME:American Indian Family Center
X-ORIGINAL-URL:https://aifcmn.org
X-WR-CALDESC:Events for American Indian Family Center
REFRESH-INTERVAL;VALUE=DURATION:PT1H
X-Robots-Tag:noindex
X-PUBLISHED-TTL:PT1H
BEGIN:VTIMEZONE
TZID:America/Chicago
BEGIN:DAYLIGHT
TZOFFSETFROM:-0600
TZOFFSETTO:-0500
TZNAME:CDT
DTSTART:20290311T080000
END:DAYLIGHT
BEGIN:STANDARD
TZOFFSETFROM:-0500
TZOFFSETTO:-0600
TZNAME:CST
DTSTART:20291104T070000
END:STANDARD
BEGIN:DAYLIGHT
TZOFFSETFROM:-0600
TZOFFSETTO:-0500
TZNAME:CDT
DTSTART:20300310T080000
END:DAYLIGHT
BEGIN:STANDARD
TZOFFSETFROM:-0500
TZOFFSETTO:-0600
TZNAME:CST
DTSTART:20301103T070000
END:STANDARD
BEGIN:DAYLIGHT
TZOFFSETFROM:-0600
TZOFFSETTO:-0500
TZNAME:CDT
DTSTART:20310309T080000
END:DAYLIGHT
BEGIN:STANDARD
TZOFFSETFROM:-0500
TZOFFSETTO:-0600
TZNAME:CST
DTSTART:20311102T070000
END:STANDARD
END:VTIMEZONE
BEGIN:VEVENT
DTSTART;TZID=America/Chicago:20300101T190000
DTEND;TZID=America/Chicago:20300101T200000
DTSTAMP:20260424T205308
CREATED:20260304T192123Z
LAST-MODIFIED:20260304T192124Z
UID:10005811-1893524400-1893528000@aifcmn.org
SUMMARY:[Virtual Event] AIFC: Khunsi Onikan - Well-Anon (Native American Al-Anon) Meeting
DESCRIPTION:Open to anyone wanting to learn to have healthy boundaries and healthy relationships with the other addicts/alcoholics in their lives. \nJoin us every Tuesday at 7PM CST for help and hope. \nSuppose you have a loved one dealing with addiction. In that case\, our Khunsi Onikan Program sponsors these weekly Native American culturally-based\, one-hour meetings to help you establish healthy boundaries and relationships. \nJoin the meeting here: https://us06web.zoom.us/j/9436209248?pwd=TG5abq5v7zPdO6BauaHvQOFaEkKvlE.1
URL:https://aifcmn.org/event/khunsi-onikan-native-american-al-anon-meeting-2/2030-01-01/
LOCATION:
CATEGORIES:AIFC,Recovery Services
ATTACH;FMTTYPE=image/png:https://aifcmn.org/wp-content/uploads/2020/10/Khunsi-Onikan-Facebook.png
END:VEVENT
BEGIN:VEVENT
DTSTART;TZID=America/Chicago:20300103T190000
DTEND;TZID=America/Chicago:20300103T200000
DTSTAMP:20260424T205308
CREATED:20260304T192323Z
LAST-MODIFIED:20260304T192324Z
UID:10007404-1893697200-1893700800@aifcmn.org
SUMMARY:[Virtual Event] AIFC: Khunsi Onikan - Wellbriety/Medicine Wheel 12 Steps Meeting
DESCRIPTION:Open to anyone wanting to work on recovery from any addiction. \nEvery Thursday at 7PM CST\, Khunsi Onikan (Grandmother’s Arms)\, AIFC Recovery Services\, will sponsor a culturally based recovery support Wellbriety/Medicine Wheel 12-step meeting for the community; anyone wanting to work on recovery from any addictions is welcome to attend. \nNo need to register in advance. \nClick here to join the meeting: https://us06web.zoom.us/j/9436209248?pwd=TG5abq5v7zPdO6BauaHvQOFaEkKvlE.1
URL:https://aifcmn.org/event/khunsi-onikan-wellbriety-medicine-wheel-12-steps-meeting-2-2/2030-01-03/
LOCATION:
CATEGORIES:AIFC,Recovery Services
ATTACH;FMTTYPE=image/png:https://aifcmn.org/wp-content/uploads/2020/10/Khunsi-Onikan-Facebook.png
END:VEVENT
BEGIN:VEVENT
DTSTART;TZID=America/Chicago:20300108T190000
DTEND;TZID=America/Chicago:20300108T200000
DTSTAMP:20260424T205308
CREATED:20260304T192123Z
LAST-MODIFIED:20260304T192124Z
UID:10008382-1894129200-1894132800@aifcmn.org
SUMMARY:[Virtual Event] AIFC: Khunsi Onikan - Well-Anon (Native American Al-Anon) Meeting
DESCRIPTION:Open to anyone wanting to learn to have healthy boundaries and healthy relationships with the other addicts/alcoholics in their lives. \nJoin us every Tuesday at 7PM CST for help and hope. \nSuppose you have a loved one dealing with addiction. In that case\, our Khunsi Onikan Program sponsors these weekly Native American culturally-based\, one-hour meetings to help you establish healthy boundaries and relationships. \nJoin the meeting here: https://us06web.zoom.us/j/9436209248?pwd=TG5abq5v7zPdO6BauaHvQOFaEkKvlE.1
URL:https://aifcmn.org/event/khunsi-onikan-native-american-al-anon-meeting-2/2030-01-08/
LOCATION:
CATEGORIES:AIFC,Recovery Services
ATTACH;FMTTYPE=image/png:https://aifcmn.org/wp-content/uploads/2020/10/Khunsi-Onikan-Facebook.png
END:VEVENT
BEGIN:VEVENT
DTSTART;TZID=America/Chicago:20300110T190000
DTEND;TZID=America/Chicago:20300110T200000
DTSTAMP:20260424T205308
CREATED:20260304T192323Z
LAST-MODIFIED:20260304T192324Z
UID:10007405-1894302000-1894305600@aifcmn.org
SUMMARY:[Virtual Event] AIFC: Khunsi Onikan - Wellbriety/Medicine Wheel 12 Steps Meeting
DESCRIPTION:Open to anyone wanting to work on recovery from any addiction. \nEvery Thursday at 7PM CST\, Khunsi Onikan (Grandmother’s Arms)\, AIFC Recovery Services\, will sponsor a culturally based recovery support Wellbriety/Medicine Wheel 12-step meeting for the community; anyone wanting to work on recovery from any addictions is welcome to attend. \nNo need to register in advance. \nClick here to join the meeting: https://us06web.zoom.us/j/9436209248?pwd=TG5abq5v7zPdO6BauaHvQOFaEkKvlE.1
URL:https://aifcmn.org/event/khunsi-onikan-wellbriety-medicine-wheel-12-steps-meeting-2-2/2030-01-10/
LOCATION:
CATEGORIES:AIFC,Recovery Services
ATTACH;FMTTYPE=image/png:https://aifcmn.org/wp-content/uploads/2020/10/Khunsi-Onikan-Facebook.png
END:VEVENT
BEGIN:VEVENT
DTSTART;TZID=America/Chicago:20300115T190000
DTEND;TZID=America/Chicago:20300115T200000
DTSTAMP:20260424T205308
CREATED:20260304T192123Z
LAST-MODIFIED:20260304T192124Z
UID:10008383-1894734000-1894737600@aifcmn.org
SUMMARY:[Virtual Event] AIFC: Khunsi Onikan - Well-Anon (Native American Al-Anon) Meeting
DESCRIPTION:Open to anyone wanting to learn to have healthy boundaries and healthy relationships with the other addicts/alcoholics in their lives. \nJoin us every Tuesday at 7PM CST for help and hope. \nSuppose you have a loved one dealing with addiction. In that case\, our Khunsi Onikan Program sponsors these weekly Native American culturally-based\, one-hour meetings to help you establish healthy boundaries and relationships. \nJoin the meeting here: https://us06web.zoom.us/j/9436209248?pwd=TG5abq5v7zPdO6BauaHvQOFaEkKvlE.1
URL:https://aifcmn.org/event/khunsi-onikan-native-american-al-anon-meeting-2/2030-01-15/
LOCATION:
CATEGORIES:AIFC,Recovery Services
ATTACH;FMTTYPE=image/png:https://aifcmn.org/wp-content/uploads/2020/10/Khunsi-Onikan-Facebook.png
END:VEVENT
BEGIN:VEVENT
DTSTART;TZID=America/Chicago:20300117T190000
DTEND;TZID=America/Chicago:20300117T200000
DTSTAMP:20260424T205308
CREATED:20260304T192323Z
LAST-MODIFIED:20260304T192324Z
UID:10007406-1894906800-1894910400@aifcmn.org
SUMMARY:[Virtual Event] AIFC: Khunsi Onikan - Wellbriety/Medicine Wheel 12 Steps Meeting
DESCRIPTION:Open to anyone wanting to work on recovery from any addiction. \nEvery Thursday at 7PM CST\, Khunsi Onikan (Grandmother’s Arms)\, AIFC Recovery Services\, will sponsor a culturally based recovery support Wellbriety/Medicine Wheel 12-step meeting for the community; anyone wanting to work on recovery from any addictions is welcome to attend. \nNo need to register in advance. \nClick here to join the meeting: https://us06web.zoom.us/j/9436209248?pwd=TG5abq5v7zPdO6BauaHvQOFaEkKvlE.1
URL:https://aifcmn.org/event/khunsi-onikan-wellbriety-medicine-wheel-12-steps-meeting-2-2/2030-01-17/
LOCATION:
CATEGORIES:AIFC,Recovery Services
ATTACH;FMTTYPE=image/png:https://aifcmn.org/wp-content/uploads/2020/10/Khunsi-Onikan-Facebook.png
END:VEVENT
BEGIN:VEVENT
DTSTART;TZID=America/Chicago:20300122T190000
DTEND;TZID=America/Chicago:20300122T200000
DTSTAMP:20260424T205308
CREATED:20260304T192123Z
LAST-MODIFIED:20260304T192124Z
UID:10008384-1895338800-1895342400@aifcmn.org
SUMMARY:[Virtual Event] AIFC: Khunsi Onikan - Well-Anon (Native American Al-Anon) Meeting
DESCRIPTION:Open to anyone wanting to learn to have healthy boundaries and healthy relationships with the other addicts/alcoholics in their lives. \nJoin us every Tuesday at 7PM CST for help and hope. \nSuppose you have a loved one dealing with addiction. In that case\, our Khunsi Onikan Program sponsors these weekly Native American culturally-based\, one-hour meetings to help you establish healthy boundaries and relationships. \nJoin the meeting here: https://us06web.zoom.us/j/9436209248?pwd=TG5abq5v7zPdO6BauaHvQOFaEkKvlE.1
URL:https://aifcmn.org/event/khunsi-onikan-native-american-al-anon-meeting-2/2030-01-22/
LOCATION:
CATEGORIES:AIFC,Recovery Services
ATTACH;FMTTYPE=image/png:https://aifcmn.org/wp-content/uploads/2020/10/Khunsi-Onikan-Facebook.png
END:VEVENT
BEGIN:VEVENT
DTSTART;TZID=America/Chicago:20300124T190000
DTEND;TZID=America/Chicago:20300124T200000
DTSTAMP:20260424T205308
CREATED:20260304T192323Z
LAST-MODIFIED:20260304T192324Z
UID:10007407-1895511600-1895515200@aifcmn.org
SUMMARY:[Virtual Event] AIFC: Khunsi Onikan - Wellbriety/Medicine Wheel 12 Steps Meeting
DESCRIPTION:Open to anyone wanting to work on recovery from any addiction. \nEvery Thursday at 7PM CST\, Khunsi Onikan (Grandmother’s Arms)\, AIFC Recovery Services\, will sponsor a culturally based recovery support Wellbriety/Medicine Wheel 12-step meeting for the community; anyone wanting to work on recovery from any addictions is welcome to attend. \nNo need to register in advance. \nClick here to join the meeting: https://us06web.zoom.us/j/9436209248?pwd=TG5abq5v7zPdO6BauaHvQOFaEkKvlE.1
URL:https://aifcmn.org/event/khunsi-onikan-wellbriety-medicine-wheel-12-steps-meeting-2-2/2030-01-24/
LOCATION:
CATEGORIES:AIFC,Recovery Services
ATTACH;FMTTYPE=image/png:https://aifcmn.org/wp-content/uploads/2020/10/Khunsi-Onikan-Facebook.png
END:VEVENT
BEGIN:VEVENT
DTSTART;TZID=America/Chicago:20300129T190000
DTEND;TZID=America/Chicago:20300129T200000
DTSTAMP:20260424T205308
CREATED:20260304T192123Z
LAST-MODIFIED:20260304T192124Z
UID:10008385-1895943600-1895947200@aifcmn.org
SUMMARY:[Virtual Event] AIFC: Khunsi Onikan - Well-Anon (Native American Al-Anon) Meeting
DESCRIPTION:Open to anyone wanting to learn to have healthy boundaries and healthy relationships with the other addicts/alcoholics in their lives. \nJoin us every Tuesday at 7PM CST for help and hope. \nSuppose you have a loved one dealing with addiction. In that case\, our Khunsi Onikan Program sponsors these weekly Native American culturally-based\, one-hour meetings to help you establish healthy boundaries and relationships. \nJoin the meeting here: https://us06web.zoom.us/j/9436209248?pwd=TG5abq5v7zPdO6BauaHvQOFaEkKvlE.1
URL:https://aifcmn.org/event/khunsi-onikan-native-american-al-anon-meeting-2/2030-01-29/
LOCATION:
CATEGORIES:AIFC,Recovery Services
ATTACH;FMTTYPE=image/png:https://aifcmn.org/wp-content/uploads/2020/10/Khunsi-Onikan-Facebook.png
END:VEVENT
BEGIN:VEVENT
DTSTART;TZID=America/Chicago:20300131T190000
DTEND;TZID=America/Chicago:20300131T200000
DTSTAMP:20260424T205308
CREATED:20260304T192323Z
LAST-MODIFIED:20260304T192324Z
UID:10007408-1896116400-1896120000@aifcmn.org
SUMMARY:[Virtual Event] AIFC: Khunsi Onikan - Wellbriety/Medicine Wheel 12 Steps Meeting
DESCRIPTION:Open to anyone wanting to work on recovery from any addiction. \nEvery Thursday at 7PM CST\, Khunsi Onikan (Grandmother’s Arms)\, AIFC Recovery Services\, will sponsor a culturally based recovery support Wellbriety/Medicine Wheel 12-step meeting for the community; anyone wanting to work on recovery from any addictions is welcome to attend. \nNo need to register in advance. \nClick here to join the meeting: https://us06web.zoom.us/j/9436209248?pwd=TG5abq5v7zPdO6BauaHvQOFaEkKvlE.1
URL:https://aifcmn.org/event/khunsi-onikan-wellbriety-medicine-wheel-12-steps-meeting-2-2/2030-01-31/
LOCATION:
CATEGORIES:AIFC,Recovery Services
ATTACH;FMTTYPE=image/png:https://aifcmn.org/wp-content/uploads/2020/10/Khunsi-Onikan-Facebook.png
END:VEVENT
END:VCALENDAR