BEGIN:VCALENDAR
VERSION:2.0
PRODID:-//American Indian Family Center - ECPv6.15.17.1//NONSGML v1.0//EN
CALSCALE:GREGORIAN
METHOD:PUBLISH
X-WR-CALNAME:American Indian Family Center
X-ORIGINAL-URL:https://aifcmn.org
X-WR-CALDESC:Events for American Indian Family Center
REFRESH-INTERVAL;VALUE=DURATION:PT1H
X-Robots-Tag:noindex
X-PUBLISHED-TTL:PT1H
BEGIN:VTIMEZONE
TZID:America/Chicago
BEGIN:DAYLIGHT
TZOFFSETFROM:-0600
TZOFFSETTO:-0500
TZNAME:CDT
DTSTART:20290311T080000
END:DAYLIGHT
BEGIN:STANDARD
TZOFFSETFROM:-0500
TZOFFSETTO:-0600
TZNAME:CST
DTSTART:20291104T070000
END:STANDARD
BEGIN:DAYLIGHT
TZOFFSETFROM:-0600
TZOFFSETTO:-0500
TZNAME:CDT
DTSTART:20300310T080000
END:DAYLIGHT
BEGIN:STANDARD
TZOFFSETFROM:-0500
TZOFFSETTO:-0600
TZNAME:CST
DTSTART:20301103T070000
END:STANDARD
BEGIN:DAYLIGHT
TZOFFSETFROM:-0600
TZOFFSETTO:-0500
TZNAME:CDT
DTSTART:20310309T080000
END:DAYLIGHT
BEGIN:STANDARD
TZOFFSETFROM:-0500
TZOFFSETTO:-0600
TZNAME:CST
DTSTART:20311102T070000
END:STANDARD
END:VTIMEZONE
BEGIN:VEVENT
DTSTART;TZID=America/Chicago:20300801T190000
DTEND;TZID=America/Chicago:20300801T200000
DTSTAMP:20260425T072428
CREATED:20260304T192323Z
LAST-MODIFIED:20260304T192324Z
UID:10008039-1911841200-1911844800@aifcmn.org
SUMMARY:[Virtual Event] AIFC: Khunsi Onikan - Wellbriety/Medicine Wheel 12 Steps Meeting
DESCRIPTION:Open to anyone wanting to work on recovery from any addiction. \nEvery Thursday at 7PM CST\, Khunsi Onikan (Grandmother’s Arms)\, AIFC Recovery Services\, will sponsor a culturally based recovery support Wellbriety/Medicine Wheel 12-step meeting for the community; anyone wanting to work on recovery from any addictions is welcome to attend. \nNo need to register in advance. \nClick here to join the meeting: https://us06web.zoom.us/j/9436209248?pwd=TG5abq5v7zPdO6BauaHvQOFaEkKvlE.1
URL:https://aifcmn.org/event/khunsi-onikan-wellbriety-medicine-wheel-12-steps-meeting-2-2/2030-08-01/
LOCATION:
CATEGORIES:AIFC,Recovery Services
ATTACH;FMTTYPE=image/png:https://aifcmn.org/wp-content/uploads/2020/10/Khunsi-Onikan-Facebook.png
END:VEVENT
BEGIN:VEVENT
DTSTART;TZID=America/Chicago:20300806T190000
DTEND;TZID=America/Chicago:20300806T200000
DTSTAMP:20260425T072428
CREATED:20260304T192123Z
LAST-MODIFIED:20260304T192124Z
UID:10008412-1912273200-1912276800@aifcmn.org
SUMMARY:[Virtual Event] AIFC: Khunsi Onikan - Well-Anon (Native American Al-Anon) Meeting
DESCRIPTION:Open to anyone wanting to learn to have healthy boundaries and healthy relationships with the other addicts/alcoholics in their lives. \nJoin us every Tuesday at 7PM CST for help and hope. \nSuppose you have a loved one dealing with addiction. In that case\, our Khunsi Onikan Program sponsors these weekly Native American culturally-based\, one-hour meetings to help you establish healthy boundaries and relationships. \nJoin the meeting here: https://us06web.zoom.us/j/9436209248?pwd=TG5abq5v7zPdO6BauaHvQOFaEkKvlE.1
URL:https://aifcmn.org/event/khunsi-onikan-native-american-al-anon-meeting-2/2030-08-06/
LOCATION:
CATEGORIES:AIFC,Recovery Services
ATTACH;FMTTYPE=image/png:https://aifcmn.org/wp-content/uploads/2020/10/Khunsi-Onikan-Facebook.png
END:VEVENT
BEGIN:VEVENT
DTSTART;TZID=America/Chicago:20300808T190000
DTEND;TZID=America/Chicago:20300808T200000
DTSTAMP:20260425T072428
CREATED:20260304T192323Z
LAST-MODIFIED:20260304T192324Z
UID:10008040-1912446000-1912449600@aifcmn.org
SUMMARY:[Virtual Event] AIFC: Khunsi Onikan - Wellbriety/Medicine Wheel 12 Steps Meeting
DESCRIPTION:Open to anyone wanting to work on recovery from any addiction. \nEvery Thursday at 7PM CST\, Khunsi Onikan (Grandmother’s Arms)\, AIFC Recovery Services\, will sponsor a culturally based recovery support Wellbriety/Medicine Wheel 12-step meeting for the community; anyone wanting to work on recovery from any addictions is welcome to attend. \nNo need to register in advance. \nClick here to join the meeting: https://us06web.zoom.us/j/9436209248?pwd=TG5abq5v7zPdO6BauaHvQOFaEkKvlE.1
URL:https://aifcmn.org/event/khunsi-onikan-wellbriety-medicine-wheel-12-steps-meeting-2-2/2030-08-08/
LOCATION:
CATEGORIES:AIFC,Recovery Services
ATTACH;FMTTYPE=image/png:https://aifcmn.org/wp-content/uploads/2020/10/Khunsi-Onikan-Facebook.png
END:VEVENT
BEGIN:VEVENT
DTSTART;TZID=America/Chicago:20300813T190000
DTEND;TZID=America/Chicago:20300813T200000
DTSTAMP:20260425T072428
CREATED:20260304T192123Z
LAST-MODIFIED:20260304T192124Z
UID:10008413-1912878000-1912881600@aifcmn.org
SUMMARY:[Virtual Event] AIFC: Khunsi Onikan - Well-Anon (Native American Al-Anon) Meeting
DESCRIPTION:Open to anyone wanting to learn to have healthy boundaries and healthy relationships with the other addicts/alcoholics in their lives. \nJoin us every Tuesday at 7PM CST for help and hope. \nSuppose you have a loved one dealing with addiction. In that case\, our Khunsi Onikan Program sponsors these weekly Native American culturally-based\, one-hour meetings to help you establish healthy boundaries and relationships. \nJoin the meeting here: https://us06web.zoom.us/j/9436209248?pwd=TG5abq5v7zPdO6BauaHvQOFaEkKvlE.1
URL:https://aifcmn.org/event/khunsi-onikan-native-american-al-anon-meeting-2/2030-08-13/
LOCATION:
CATEGORIES:AIFC,Recovery Services
ATTACH;FMTTYPE=image/png:https://aifcmn.org/wp-content/uploads/2020/10/Khunsi-Onikan-Facebook.png
END:VEVENT
BEGIN:VEVENT
DTSTART;TZID=America/Chicago:20300815T190000
DTEND;TZID=America/Chicago:20300815T200000
DTSTAMP:20260425T072428
CREATED:20260304T192323Z
LAST-MODIFIED:20260304T192324Z
UID:10008041-1913050800-1913054400@aifcmn.org
SUMMARY:[Virtual Event] AIFC: Khunsi Onikan - Wellbriety/Medicine Wheel 12 Steps Meeting
DESCRIPTION:Open to anyone wanting to work on recovery from any addiction. \nEvery Thursday at 7PM CST\, Khunsi Onikan (Grandmother’s Arms)\, AIFC Recovery Services\, will sponsor a culturally based recovery support Wellbriety/Medicine Wheel 12-step meeting for the community; anyone wanting to work on recovery from any addictions is welcome to attend. \nNo need to register in advance. \nClick here to join the meeting: https://us06web.zoom.us/j/9436209248?pwd=TG5abq5v7zPdO6BauaHvQOFaEkKvlE.1
URL:https://aifcmn.org/event/khunsi-onikan-wellbriety-medicine-wheel-12-steps-meeting-2-2/2030-08-15/
LOCATION:
CATEGORIES:AIFC,Recovery Services
ATTACH;FMTTYPE=image/png:https://aifcmn.org/wp-content/uploads/2020/10/Khunsi-Onikan-Facebook.png
END:VEVENT
BEGIN:VEVENT
DTSTART;TZID=America/Chicago:20300820T190000
DTEND;TZID=America/Chicago:20300820T200000
DTSTAMP:20260425T072428
CREATED:20260304T192123Z
LAST-MODIFIED:20260304T192124Z
UID:10008414-1913482800-1913486400@aifcmn.org
SUMMARY:[Virtual Event] AIFC: Khunsi Onikan - Well-Anon (Native American Al-Anon) Meeting
DESCRIPTION:Open to anyone wanting to learn to have healthy boundaries and healthy relationships with the other addicts/alcoholics in their lives. \nJoin us every Tuesday at 7PM CST for help and hope. \nSuppose you have a loved one dealing with addiction. In that case\, our Khunsi Onikan Program sponsors these weekly Native American culturally-based\, one-hour meetings to help you establish healthy boundaries and relationships. \nJoin the meeting here: https://us06web.zoom.us/j/9436209248?pwd=TG5abq5v7zPdO6BauaHvQOFaEkKvlE.1
URL:https://aifcmn.org/event/khunsi-onikan-native-american-al-anon-meeting-2/2030-08-20/
LOCATION:
CATEGORIES:AIFC,Recovery Services
ATTACH;FMTTYPE=image/png:https://aifcmn.org/wp-content/uploads/2020/10/Khunsi-Onikan-Facebook.png
END:VEVENT
BEGIN:VEVENT
DTSTART;TZID=America/Chicago:20300822T190000
DTEND;TZID=America/Chicago:20300822T200000
DTSTAMP:20260425T072428
CREATED:20260304T192323Z
LAST-MODIFIED:20260304T192324Z
UID:10008042-1913655600-1913659200@aifcmn.org
SUMMARY:[Virtual Event] AIFC: Khunsi Onikan - Wellbriety/Medicine Wheel 12 Steps Meeting
DESCRIPTION:Open to anyone wanting to work on recovery from any addiction. \nEvery Thursday at 7PM CST\, Khunsi Onikan (Grandmother’s Arms)\, AIFC Recovery Services\, will sponsor a culturally based recovery support Wellbriety/Medicine Wheel 12-step meeting for the community; anyone wanting to work on recovery from any addictions is welcome to attend. \nNo need to register in advance. \nClick here to join the meeting: https://us06web.zoom.us/j/9436209248?pwd=TG5abq5v7zPdO6BauaHvQOFaEkKvlE.1
URL:https://aifcmn.org/event/khunsi-onikan-wellbriety-medicine-wheel-12-steps-meeting-2-2/2030-08-22/
LOCATION:
CATEGORIES:AIFC,Recovery Services
ATTACH;FMTTYPE=image/png:https://aifcmn.org/wp-content/uploads/2020/10/Khunsi-Onikan-Facebook.png
END:VEVENT
BEGIN:VEVENT
DTSTART;TZID=America/Chicago:20300827T190000
DTEND;TZID=America/Chicago:20300827T200000
DTSTAMP:20260425T072428
CREATED:20260304T192123Z
LAST-MODIFIED:20260304T192124Z
UID:10008415-1914087600-1914091200@aifcmn.org
SUMMARY:[Virtual Event] AIFC: Khunsi Onikan - Well-Anon (Native American Al-Anon) Meeting
DESCRIPTION:Open to anyone wanting to learn to have healthy boundaries and healthy relationships with the other addicts/alcoholics in their lives. \nJoin us every Tuesday at 7PM CST for help and hope. \nSuppose you have a loved one dealing with addiction. In that case\, our Khunsi Onikan Program sponsors these weekly Native American culturally-based\, one-hour meetings to help you establish healthy boundaries and relationships. \nJoin the meeting here: https://us06web.zoom.us/j/9436209248?pwd=TG5abq5v7zPdO6BauaHvQOFaEkKvlE.1
URL:https://aifcmn.org/event/khunsi-onikan-native-american-al-anon-meeting-2/2030-08-27/
LOCATION:
CATEGORIES:AIFC,Recovery Services
ATTACH;FMTTYPE=image/png:https://aifcmn.org/wp-content/uploads/2020/10/Khunsi-Onikan-Facebook.png
END:VEVENT
BEGIN:VEVENT
DTSTART;TZID=America/Chicago:20300829T190000
DTEND;TZID=America/Chicago:20300829T200000
DTSTAMP:20260425T072428
CREATED:20260304T192323Z
LAST-MODIFIED:20260304T192324Z
UID:10008043-1914260400-1914264000@aifcmn.org
SUMMARY:[Virtual Event] AIFC: Khunsi Onikan - Wellbriety/Medicine Wheel 12 Steps Meeting
DESCRIPTION:Open to anyone wanting to work on recovery from any addiction. \nEvery Thursday at 7PM CST\, Khunsi Onikan (Grandmother’s Arms)\, AIFC Recovery Services\, will sponsor a culturally based recovery support Wellbriety/Medicine Wheel 12-step meeting for the community; anyone wanting to work on recovery from any addictions is welcome to attend. \nNo need to register in advance. \nClick here to join the meeting: https://us06web.zoom.us/j/9436209248?pwd=TG5abq5v7zPdO6BauaHvQOFaEkKvlE.1
URL:https://aifcmn.org/event/khunsi-onikan-wellbriety-medicine-wheel-12-steps-meeting-2-2/2030-08-29/
LOCATION:
CATEGORIES:AIFC,Recovery Services
ATTACH;FMTTYPE=image/png:https://aifcmn.org/wp-content/uploads/2020/10/Khunsi-Onikan-Facebook.png
END:VEVENT
END:VCALENDAR