BEGIN:VCALENDAR
VERSION:2.0
PRODID:-//American Indian Family Center - ECPv6.15.17.1//NONSGML v1.0//EN
CALSCALE:GREGORIAN
METHOD:PUBLISH
X-WR-CALNAME:American Indian Family Center
X-ORIGINAL-URL:https://aifcmn.org
X-WR-CALDESC:Events for American Indian Family Center
REFRESH-INTERVAL;VALUE=DURATION:PT1H
X-Robots-Tag:noindex
X-PUBLISHED-TTL:PT1H
BEGIN:VTIMEZONE
TZID:America/Chicago
BEGIN:DAYLIGHT
TZOFFSETFROM:-0600
TZOFFSETTO:-0500
TZNAME:CDT
DTSTART:20190310T080000
END:DAYLIGHT
BEGIN:STANDARD
TZOFFSETFROM:-0500
TZOFFSETTO:-0600
TZNAME:CST
DTSTART:20191103T070000
END:STANDARD
BEGIN:DAYLIGHT
TZOFFSETFROM:-0600
TZOFFSETTO:-0500
TZNAME:CDT
DTSTART:20200308T080000
END:DAYLIGHT
BEGIN:STANDARD
TZOFFSETFROM:-0500
TZOFFSETTO:-0600
TZNAME:CST
DTSTART:20201101T070000
END:STANDARD
BEGIN:DAYLIGHT
TZOFFSETFROM:-0600
TZOFFSETTO:-0500
TZNAME:CDT
DTSTART:20210314T080000
END:DAYLIGHT
BEGIN:STANDARD
TZOFFSETFROM:-0500
TZOFFSETTO:-0600
TZNAME:CST
DTSTART:20211107T070000
END:STANDARD
END:VTIMEZONE
BEGIN:VEVENT
DTSTART;TZID=America/Chicago:20201120T180000
DTEND;TZID=America/Chicago:20201120T200000
DTSTAMP:20260425T174010
CREATED:20201103T163242Z
LAST-MODIFIED:20201103T163242Z
UID:10000922-1605895200-1605902400@aifcmn.org
SUMMARY:Family Bingo Night with Waaban Ogimaawag
DESCRIPTION:Join our Waaban Ogimaawag youth team for an intergenerational family bingo night on Zoom! Sign up in advance at the website link below and we’ll provide daubers and bingo sheets. After you register\, you’ll receive an e-mail with information about how to access the event.
URL:https://aifcmn.org/event/family-bingo-night-with-waaban-ogimaawag/
LOCATION:
CATEGORIES:Youth Services
END:VEVENT
BEGIN:VEVENT
DTSTART;TZID=America/Chicago:20201123T160000
DTEND;TZID=America/Chicago:20201123T170000
DTSTAMP:20260425T174010
CREATED:20201120T225428Z
LAST-MODIFIED:20201120T225428Z
UID:10000926-1606147200-1606150800@aifcmn.org
SUMMARY:Family Storytelling with Hope Flanagan
DESCRIPTION:You’re invited to join our Waaban Ogimaawag youth program for a virtual family storytelling event with Community Elder Hope Flanagan (Seneca). This event is limited to 15 registrants so sign up now! We are also asking attendees to participate with their cameras on (if possible) so this can be a more interactive experience. Register here: https://bit.ly/35MiYDi
URL:https://aifcmn.org/event/family-storytelling-with-hope-flanagan/
LOCATION:
CATEGORIES:Family Services,Youth Services
ATTACH;FMTTYPE=image/png:https://aifcmn.org/wp-content/uploads/2020/11/Family-Storytelling-Blog-Image.png
END:VEVENT
END:VCALENDAR