BEGIN:VCALENDAR
VERSION:2.0
PRODID:-//American Indian Family Center - ECPv6.15.17.1//NONSGML v1.0//EN
CALSCALE:GREGORIAN
METHOD:PUBLISH
X-WR-CALNAME:American Indian Family Center
X-ORIGINAL-URL:https://aifcmn.org
X-WR-CALDESC:Events for American Indian Family Center
REFRESH-INTERVAL;VALUE=DURATION:PT1H
X-Robots-Tag:noindex
X-PUBLISHED-TTL:PT1H
BEGIN:VTIMEZONE
TZID:America/Chicago
BEGIN:DAYLIGHT
TZOFFSETFROM:-0600
TZOFFSETTO:-0500
TZNAME:CDT
DTSTART:20200308T080000
END:DAYLIGHT
BEGIN:STANDARD
TZOFFSETFROM:-0500
TZOFFSETTO:-0600
TZNAME:CST
DTSTART:20201101T070000
END:STANDARD
BEGIN:DAYLIGHT
TZOFFSETFROM:-0600
TZOFFSETTO:-0500
TZNAME:CDT
DTSTART:20210314T080000
END:DAYLIGHT
BEGIN:STANDARD
TZOFFSETFROM:-0500
TZOFFSETTO:-0600
TZNAME:CST
DTSTART:20211107T070000
END:STANDARD
BEGIN:DAYLIGHT
TZOFFSETFROM:-0600
TZOFFSETTO:-0500
TZNAME:CDT
DTSTART:20220313T080000
END:DAYLIGHT
BEGIN:STANDARD
TZOFFSETFROM:-0500
TZOFFSETTO:-0600
TZNAME:CST
DTSTART:20221106T070000
END:STANDARD
END:VTIMEZONE
BEGIN:VEVENT
DTSTART;TZID=America/Chicago:20210117T130000
DTEND;TZID=America/Chicago:20210117T140000
DTSTAMP:20260425T150655
CREATED:20210114T191938Z
LAST-MODIFIED:20210114T192004Z
UID:10000959-1610888400-1610892000@aifcmn.org
SUMMARY:Mugs & Moccs Youth Talking Circle
DESCRIPTION:Bring your favorite moccasins (baby\, powwow\, whatever you want) to share and grab your favorite cozy mug to drink a hot chocolate or coffee. We want to hear from you about what types of activities and topics you’re interested in this year. All attendees will get a Waaban Ogimaawag t-shirt! Register here: https://us02web.zoom.us/meeting/register/tZIldu6trD0vHdTtcXBsSmDP6R2kyITHa5RI
URL:https://aifcmn.org/event/mugs-moccs-youth-talking-circle/
LOCATION:MN
CATEGORIES:AIFC,Youth Services
ATTACH;FMTTYPE=image/png:https://aifcmn.org/wp-content/uploads/2021/01/Copy-of-mugs-moccs.png
END:VEVENT
END:VCALENDAR