BEGIN:VCALENDAR
VERSION:2.0
PRODID:-//American Indian Family Center - ECPv6.15.17.1//NONSGML v1.0//EN
CALSCALE:GREGORIAN
METHOD:PUBLISH
X-WR-CALNAME:American Indian Family Center
X-ORIGINAL-URL:https://aifcmn.org
X-WR-CALDESC:Events for American Indian Family Center
REFRESH-INTERVAL;VALUE=DURATION:PT1H
X-Robots-Tag:noindex
X-PUBLISHED-TTL:PT1H
BEGIN:VTIMEZONE
TZID:America/Chicago
BEGIN:DAYLIGHT
TZOFFSETFROM:-0600
TZOFFSETTO:-0500
TZNAME:CDT
DTSTART:20200308T080000
END:DAYLIGHT
BEGIN:STANDARD
TZOFFSETFROM:-0500
TZOFFSETTO:-0600
TZNAME:CST
DTSTART:20201101T070000
END:STANDARD
BEGIN:DAYLIGHT
TZOFFSETFROM:-0600
TZOFFSETTO:-0500
TZNAME:CDT
DTSTART:20210314T080000
END:DAYLIGHT
BEGIN:STANDARD
TZOFFSETFROM:-0500
TZOFFSETTO:-0600
TZNAME:CST
DTSTART:20211107T070000
END:STANDARD
BEGIN:DAYLIGHT
TZOFFSETFROM:-0600
TZOFFSETTO:-0500
TZNAME:CDT
DTSTART:20220313T080000
END:DAYLIGHT
BEGIN:STANDARD
TZOFFSETFROM:-0500
TZOFFSETTO:-0600
TZNAME:CST
DTSTART:20221106T070000
END:STANDARD
END:VTIMEZONE
BEGIN:VEVENT
DTSTART;TZID=America/Chicago:20210430T130000
DTEND;TZID=America/Chicago:20210430T150000
DTSTAMP:20260425T103919
CREATED:20210426T192521Z
LAST-MODIFIED:20210427T185342Z
UID:10000993-1619787600-1619794800@aifcmn.org
SUMMARY:Scholarship Application Virtual Event for Youth
DESCRIPTION:Are you applying for colleges or a college student and want more information about how to apply for scholarships? Scholarships can be an important way to fund your education and our Waaban Ogimaawag Youth Empowerment Specialist Wakinyan LaPointe wants to help you find and apply for scholarships. \nThis virtual event is a drop-in opportunity for you to learn more about scholarships available to American Indian students. \nLearn how to make your scholarship application stand out! For more questions\, email Wakinyan.LaPointe@aifcmn.org or register here: https://us02web.zoom.us/meeting/register/tZYvf-GurTwvHtPeER6wypFPlt1xZ7i5kg2w
URL:https://aifcmn.org/event/scholarship-application-virtual-event-for-youth/
LOCATION:MN
CATEGORIES:AIFC,Youth Services
ATTACH;FMTTYPE=image/png:https://aifcmn.org/wp-content/uploads/2021/04/Youth-Career-Development-3.png
END:VEVENT
END:VCALENDAR