BEGIN:VCALENDAR
VERSION:2.0
PRODID:-//American Indian Family Center - ECPv6.15.17.1//NONSGML v1.0//EN
CALSCALE:GREGORIAN
METHOD:PUBLISH
X-WR-CALNAME:American Indian Family Center
X-ORIGINAL-URL:https://aifcmn.org
X-WR-CALDESC:Events for American Indian Family Center
REFRESH-INTERVAL;VALUE=DURATION:PT1H
X-Robots-Tag:noindex
X-PUBLISHED-TTL:PT1H
BEGIN:VTIMEZONE
TZID:America/Chicago
BEGIN:DAYLIGHT
TZOFFSETFROM:-0600
TZOFFSETTO:-0500
TZNAME:CDT
DTSTART:20200308T080000
END:DAYLIGHT
BEGIN:STANDARD
TZOFFSETFROM:-0500
TZOFFSETTO:-0600
TZNAME:CST
DTSTART:20201101T070000
END:STANDARD
BEGIN:DAYLIGHT
TZOFFSETFROM:-0600
TZOFFSETTO:-0500
TZNAME:CDT
DTSTART:20210314T080000
END:DAYLIGHT
BEGIN:STANDARD
TZOFFSETFROM:-0500
TZOFFSETTO:-0600
TZNAME:CST
DTSTART:20211107T070000
END:STANDARD
BEGIN:DAYLIGHT
TZOFFSETFROM:-0600
TZOFFSETTO:-0500
TZNAME:CDT
DTSTART:20220313T080000
END:DAYLIGHT
BEGIN:STANDARD
TZOFFSETFROM:-0500
TZOFFSETTO:-0600
TZNAME:CST
DTSTART:20221106T070000
END:STANDARD
END:VTIMEZONE
BEGIN:VEVENT
DTSTART;TZID=America/Chicago:20210721T150000
DTEND;TZID=America/Chicago:20210721T180000
DTSTAMP:20260425T060401
CREATED:20210714T032859Z
LAST-MODIFIED:20210714T032859Z
UID:10001066-1626879600-1626890400@aifcmn.org
SUMMARY:Youth Summer Lake Day
DESCRIPTION:Our youth program Waaban Ogimaawag invites you to our Youth Lake Day at Lake Phalen. Lunch will be provided. \nAll youth must be registered with Waaban Ogimaawag\, so please e-mail Madison.Smith@aifcmn.org to sign up \n 
URL:https://aifcmn.org/event/youth-summer-lake-day/
LOCATION:Lake Phalen\, 1600 Phalen Dr\, Saint Paul\, MN\, 55106\, United States
CATEGORIES:AIFC,Youth Services
ATTACH;FMTTYPE=image/png:https://aifcmn.org/wp-content/uploads/2021/07/American-indian-family-center-1.png
END:VEVENT
END:VCALENDAR