BEGIN:VCALENDAR
VERSION:2.0
PRODID:-//American Indian Family Center - ECPv6.15.17.1//NONSGML v1.0//EN
CALSCALE:GREGORIAN
METHOD:PUBLISH
X-ORIGINAL-URL:https://aifcmn.org
X-WR-CALDESC:Events for American Indian Family Center
REFRESH-INTERVAL;VALUE=DURATION:PT1H
X-Robots-Tag:noindex
X-PUBLISHED-TTL:PT1H
BEGIN:VTIMEZONE
TZID:America/Chicago
BEGIN:DAYLIGHT
TZOFFSETFROM:-0600
TZOFFSETTO:-0500
TZNAME:CDT
DTSTART:20210314T080000
END:DAYLIGHT
BEGIN:STANDARD
TZOFFSETFROM:-0500
TZOFFSETTO:-0600
TZNAME:CST
DTSTART:20211107T070000
END:STANDARD
BEGIN:DAYLIGHT
TZOFFSETFROM:-0600
TZOFFSETTO:-0500
TZNAME:CDT
DTSTART:20220313T080000
END:DAYLIGHT
BEGIN:STANDARD
TZOFFSETFROM:-0500
TZOFFSETTO:-0600
TZNAME:CST
DTSTART:20221106T070000
END:STANDARD
BEGIN:DAYLIGHT
TZOFFSETFROM:-0600
TZOFFSETTO:-0500
TZNAME:CDT
DTSTART:20230312T080000
END:DAYLIGHT
BEGIN:STANDARD
TZOFFSETFROM:-0500
TZOFFSETTO:-0600
TZNAME:CST
DTSTART:20231105T070000
END:STANDARD
END:VTIMEZONE
BEGIN:VEVENT
DTSTART;TZID=America/Chicago:20220113T173000
DTEND;TZID=America/Chicago:20220113T183000
DTSTAMP:20260424T204747
CREATED:20220106T170131Z
LAST-MODIFIED:20220204T200000Z
UID:10001079-1642095000-1642098600@aifcmn.org
SUMMARY:Youth Event: VIRTUAL Cooking Demo
DESCRIPTION:Please join AIFC’s Waaban Ogimaawag (Tomorrow’s Leaders) program\, in partnership with Dream of Wild Health\, for their Indigenous Food Sovereignty teaching on Thursday\, January 13th 2022\, at 5:30 PM-6:30pm. Youth ages 14-24 are welcome to join! \nAll ingredients and supplies will be provided and delivered by AIFC! \nYouth will receive a stipend for participating\, and can even enter a raffle to win a FREE laptop at the end of the cooking demo series! \nRegistration required. To register\, please text/call Felicia Galvan at 651-504-5969 or via e-mail at felicia.galvan@aifcmn.org
URL:https://aifcmn.org/event/youth-event-virtual-cooking-demo/
LOCATION:MN
CATEGORIES:Youth Services
END:VEVENT
END:VCALENDAR