BEGIN:VCALENDAR
VERSION:2.0
PRODID:-//American Indian Family Center - ECPv6.15.17.1//NONSGML v1.0//EN
CALSCALE:GREGORIAN
METHOD:PUBLISH
X-WR-CALNAME:American Indian Family Center
X-ORIGINAL-URL:https://aifcmn.org
X-WR-CALDESC:Events for American Indian Family Center
REFRESH-INTERVAL;VALUE=DURATION:PT1H
X-Robots-Tag:noindex
X-PUBLISHED-TTL:PT1H
BEGIN:VTIMEZONE
TZID:America/Chicago
BEGIN:DAYLIGHT
TZOFFSETFROM:-0600
TZOFFSETTO:-0500
TZNAME:CDT
DTSTART:20210314T080000
END:DAYLIGHT
BEGIN:STANDARD
TZOFFSETFROM:-0500
TZOFFSETTO:-0600
TZNAME:CST
DTSTART:20211107T070000
END:STANDARD
BEGIN:DAYLIGHT
TZOFFSETFROM:-0600
TZOFFSETTO:-0500
TZNAME:CDT
DTSTART:20220313T080000
END:DAYLIGHT
BEGIN:STANDARD
TZOFFSETFROM:-0500
TZOFFSETTO:-0600
TZNAME:CST
DTSTART:20221106T070000
END:STANDARD
BEGIN:DAYLIGHT
TZOFFSETFROM:-0600
TZOFFSETTO:-0500
TZNAME:CDT
DTSTART:20230312T080000
END:DAYLIGHT
BEGIN:STANDARD
TZOFFSETFROM:-0500
TZOFFSETTO:-0600
TZNAME:CST
DTSTART:20231105T070000
END:STANDARD
END:VTIMEZONE
BEGIN:VEVENT
DTSTART;TZID=America/Chicago:20220507T100000
DTEND;TZID=America/Chicago:20220507T100000
DTSTAMP:20260424T144505
CREATED:20220426T201840Z
LAST-MODIFIED:20220426T201840Z
UID:10001153-1651917600-1651917600@aifcmn.org
SUMMARY:AIFC Waaban Ogimaawag (Youth Services) - Elders Lodge Garden Bed Prep & Lunch
DESCRIPTION:If you’re as excited to garden as our relatives at Elders Lodge\, come join us on Saturday\, May 7\, 2022\, at 10:00 AM. \nWaaban Ogimaawag (Tomorrow’s Leaders) invites you to bring a helping hand and join us as a community to help prepare the Elders Lodge garden beds and garden boxes! \nBring a shovel if you have one\, or use one of ours as we prep the beds\, and then we will also share a meal together and eligible youth will receive stipends! \nYouth Stipends: Youth ages 14-24 and registered for Waaban Ogimaawag’s program will receive a $25 stipend! \nRSVP: Please text/call/email (651.504.5969/Felicia.Galvan@aifcmn.org) Felicia Galvan\, Youth Engagement Specialist\, to RSVP or\, if you have any questions.
URL:https://aifcmn.org/event/aifc-waaban-ogimaawag-youth-services-elders-lodge-garden-bed-prep-lunch/
LOCATION:Elders Lodge\, 1500 Magnolia Ave E\, Saint Paul\, MN\, 55106\, United States
CATEGORIES:AIFC,Celebrate American Indian Month in Minnesota,Youth Services
END:VEVENT
BEGIN:VEVENT
DTSTART;TZID=America/Chicago:20220526T170000
DTEND;TZID=America/Chicago:20220526T190000
DTSTAMP:20260424T144505
CREATED:20220516T154619Z
LAST-MODIFIED:20220516T154619Z
UID:10001177-1653584400-1653591600@aifcmn.org
SUMMARY:Four Directions Pathway Program - Parent Info Night
DESCRIPTION:
URL:https://aifcmn.org/event/four-directions-pathway-program-parent-info-night/
LOCATION:Saint Paul College\, 235 Marshall Avenue\, Saint Paul\, MN\, 55102\, United States
CATEGORIES:AIFC,Community Events,Youth Services
ATTACH;FMTTYPE=application/pdf:https://aifcmn.org/wp-content/uploads/2022/05/Four-Directions-Flyer-1.pdf
END:VEVENT
END:VCALENDAR