BEGIN:VCALENDAR
VERSION:2.0
PRODID:-//American Indian Family Center - ECPv6.15.17.1//NONSGML v1.0//EN
CALSCALE:GREGORIAN
METHOD:PUBLISH
X-WR-CALNAME:American Indian Family Center
X-ORIGINAL-URL:https://aifcmn.org
X-WR-CALDESC:Events for American Indian Family Center
REFRESH-INTERVAL;VALUE=DURATION:PT1H
X-Robots-Tag:noindex
X-PUBLISHED-TTL:PT1H
BEGIN:VTIMEZONE
TZID:America/Chicago
BEGIN:DAYLIGHT
TZOFFSETFROM:-0600
TZOFFSETTO:-0500
TZNAME:CDT
DTSTART:20210314T080000
END:DAYLIGHT
BEGIN:STANDARD
TZOFFSETFROM:-0500
TZOFFSETTO:-0600
TZNAME:CST
DTSTART:20211107T070000
END:STANDARD
BEGIN:DAYLIGHT
TZOFFSETFROM:-0600
TZOFFSETTO:-0500
TZNAME:CDT
DTSTART:20220313T080000
END:DAYLIGHT
BEGIN:STANDARD
TZOFFSETFROM:-0500
TZOFFSETTO:-0600
TZNAME:CST
DTSTART:20221106T070000
END:STANDARD
BEGIN:DAYLIGHT
TZOFFSETFROM:-0600
TZOFFSETTO:-0500
TZNAME:CDT
DTSTART:20230312T080000
END:DAYLIGHT
BEGIN:STANDARD
TZOFFSETFROM:-0500
TZOFFSETTO:-0600
TZNAME:CST
DTSTART:20231105T070000
END:STANDARD
END:VTIMEZONE
BEGIN:VEVENT
DTSTART;TZID=America/Chicago:20220811T183000
DTEND;TZID=America/Chicago:20220811T183000
DTSTAMP:20260424T103359
CREATED:20220811T163447Z
LAST-MODIFIED:20220811T192348Z
UID:10001307-1660242600-1660242600@aifcmn.org
SUMMARY:AIFC - Full Moon Ceremony
DESCRIPTION:Join us as we hold a ceremony for Nookomis Giizis (Grandmother Moon)! \nWe invite relatives who receive (and/or have ceased) their monthly menstrual cycle to join us for a Full Moon Ceremony on Thursday\, August 11th at 6:30 pm at Belwin Conservancy Creative Center (795 Indian Trail South\, Afton\, MN 55001). \n– Please wear a mask and if you have tested positive for COVID or are feeling unwell\, please wait until a future Full Moon Ceremony to attend 😊\n– Please bring a ceremonial/long skirt\, hair bundle\, watecha (containers for leftover food)\, a face mask\, weather-appropriate attire\, copper cup\, small bowl\, and spoon. We will provide a few extras just in case.\n– After the ceremony\, we will feast together\, provided by AIFC. \nFor registration and questions\, contact Felicia Galvan\, Youth Engagement Specialist at Felicia.Galvan@aifcmn.org or (651).504.5969.
URL:https://aifcmn.org/event/aifc-full-moon-ceremony/
LOCATION:Belwin Conservancy Savanna Center\, 795 Indian Trail South\, Afton\, MN\, 55001\, United States
CATEGORIES:AIFC,Youth Services
ATTACH;FMTTYPE=image/png:https://aifcmn.org/wp-content/uploads/2022/08/8.10.22.png
END:VEVENT
END:VCALENDAR