BEGIN:VCALENDAR
VERSION:2.0
PRODID:-//American Indian Family Center - ECPv6.15.17.1//NONSGML v1.0//EN
CALSCALE:GREGORIAN
METHOD:PUBLISH
X-WR-CALNAME:American Indian Family Center
X-ORIGINAL-URL:https://aifcmn.org
X-WR-CALDESC:Events for American Indian Family Center
REFRESH-INTERVAL;VALUE=DURATION:PT1H
X-Robots-Tag:noindex
X-PUBLISHED-TTL:PT1H
BEGIN:VTIMEZONE
TZID:America/Chicago
BEGIN:DAYLIGHT
TZOFFSETFROM:-0600
TZOFFSETTO:-0500
TZNAME:CDT
DTSTART:20220313T080000
END:DAYLIGHT
BEGIN:STANDARD
TZOFFSETFROM:-0500
TZOFFSETTO:-0600
TZNAME:CST
DTSTART:20221106T070000
END:STANDARD
BEGIN:DAYLIGHT
TZOFFSETFROM:-0600
TZOFFSETTO:-0500
TZNAME:CDT
DTSTART:20230312T080000
END:DAYLIGHT
BEGIN:STANDARD
TZOFFSETFROM:-0500
TZOFFSETTO:-0600
TZNAME:CST
DTSTART:20231105T070000
END:STANDARD
BEGIN:DAYLIGHT
TZOFFSETFROM:-0600
TZOFFSETTO:-0500
TZNAME:CDT
DTSTART:20240310T080000
END:DAYLIGHT
BEGIN:STANDARD
TZOFFSETFROM:-0500
TZOFFSETTO:-0600
TZNAME:CST
DTSTART:20241103T070000
END:STANDARD
END:VTIMEZONE
BEGIN:VEVENT
DTSTART;TZID=America/Chicago:20230201T180000
DTEND;TZID=America/Chicago:20230201T200000
DTSTAMP:20260422T015910
CREATED:20230103T225957Z
LAST-MODIFIED:20230424T220915Z
UID:10001646-1675274400-1675281600@aifcmn.org
SUMMARY:AIFC - Ojibwe Language Series
DESCRIPTION:Wednesday nights at AIFC from 6:00-8:00 PM\, Ojibwe Language Instructor Ken Danielson (Gibwanisi) will hold space for all-level language learners to practice speaking Ojibwe! Language sessions will alternate between free-form conversation and classroom/teaching structures. \nA light meal will be provided at each session. \nChildcare and transportation are available\, please arrange in advance with Ellie Grubb at Elise.Grubb@aifcmn.org or (651) 505-6815\, or Theo Marcil at Theodore.Marcil@aifcmn.org or (651) 505-6801.
URL:https://aifcmn.org/event/ojibwe-language-series/2023-02-01/
LOCATION:American Indian Family Center (AIFC)\, 579 Wells St\, Saint Paul\, MN\, 55130\, United States
CATEGORIES:AIFC,Youth Services
ATTACH;FMTTYPE=image/png:https://aifcmn.org/wp-content/uploads/2023/01/Ojibwe_Language_Series_Flyer_4.24.20231.png
END:VEVENT
BEGIN:VEVENT
DTSTART;TZID=America/Chicago:20230202T180000
DTEND;TZID=America/Chicago:20230202T193000
DTSTAMP:20260422T015910
CREATED:20230118T164755Z
LAST-MODIFIED:20230522T160713Z
UID:10001823-1675360800-1675366200@aifcmn.org
SUMMARY:AIFC - Dakota Language Series
DESCRIPTION:Thursday nights at AIFC from 6:00-7:30PM\, Dakota Language Instructor Katie Bendickson and Justis Brokenrope will both hold space for all-level language learners to practice speaking Dakota! Language sessions will alternate between free-form conversation and classroom/teaching structures. \nA light meal will be provided at each session. \nChildcare and transportation are available\, please arrange in advance with Ellie Grubb at Elise.Grubb@aifcmn.org or (651) 505-6815\, or Theo Marcil at Theodore.Marcil@aifcmn.org or (651) 505-6801.
URL:https://aifcmn.org/event/dakota-language-night/2023-02-02/
LOCATION:American Indian Family Center (AIFC)\, 579 Wells St\, Saint Paul\, MN\, 55130\, United States
CATEGORIES:AIFC,Youth Services
ATTACH;FMTTYPE=image/png:https://aifcmn.org/wp-content/uploads/2023/01/Dakota_Language_Series_Flyer_4.24.20231.png
END:VEVENT
BEGIN:VEVENT
DTSTART;TZID=America/Chicago:20230208T180000
DTEND;TZID=America/Chicago:20230208T200000
DTSTAMP:20260422T015910
CREATED:20230103T225957Z
LAST-MODIFIED:20230424T220915Z
UID:10001647-1675879200-1675886400@aifcmn.org
SUMMARY:AIFC - Ojibwe Language Series
DESCRIPTION:Wednesday nights at AIFC from 6:00-8:00 PM\, Ojibwe Language Instructor Ken Danielson (Gibwanisi) will hold space for all-level language learners to practice speaking Ojibwe! Language sessions will alternate between free-form conversation and classroom/teaching structures. \nA light meal will be provided at each session. \nChildcare and transportation are available\, please arrange in advance with Ellie Grubb at Elise.Grubb@aifcmn.org or (651) 505-6815\, or Theo Marcil at Theodore.Marcil@aifcmn.org or (651) 505-6801.
URL:https://aifcmn.org/event/ojibwe-language-series/2023-02-08/
LOCATION:American Indian Family Center (AIFC)\, 579 Wells St\, Saint Paul\, MN\, 55130\, United States
CATEGORIES:AIFC,Youth Services
ATTACH;FMTTYPE=image/png:https://aifcmn.org/wp-content/uploads/2023/01/Ojibwe_Language_Series_Flyer_4.24.20231.png
END:VEVENT
BEGIN:VEVENT
DTSTART;TZID=America/Chicago:20230209T180000
DTEND;TZID=America/Chicago:20230209T193000
DTSTAMP:20260422T015910
CREATED:20230118T164755Z
LAST-MODIFIED:20230522T160713Z
UID:10001824-1675965600-1675971000@aifcmn.org
SUMMARY:AIFC - Dakota Language Series
DESCRIPTION:Thursday nights at AIFC from 6:00-7:30PM\, Dakota Language Instructor Katie Bendickson and Justis Brokenrope will both hold space for all-level language learners to practice speaking Dakota! Language sessions will alternate between free-form conversation and classroom/teaching structures. \nA light meal will be provided at each session. \nChildcare and transportation are available\, please arrange in advance with Ellie Grubb at Elise.Grubb@aifcmn.org or (651) 505-6815\, or Theo Marcil at Theodore.Marcil@aifcmn.org or (651) 505-6801.
URL:https://aifcmn.org/event/dakota-language-night/2023-02-09/
LOCATION:American Indian Family Center (AIFC)\, 579 Wells St\, Saint Paul\, MN\, 55130\, United States
CATEGORIES:AIFC,Youth Services
ATTACH;FMTTYPE=image/png:https://aifcmn.org/wp-content/uploads/2023/01/Dakota_Language_Series_Flyer_4.24.20231.png
END:VEVENT
BEGIN:VEVENT
DTSTART;TZID=America/Chicago:20230215T180000
DTEND;TZID=America/Chicago:20230215T200000
DTSTAMP:20260422T015910
CREATED:20230103T225957Z
LAST-MODIFIED:20230424T220915Z
UID:10001648-1676484000-1676491200@aifcmn.org
SUMMARY:AIFC - Ojibwe Language Series
DESCRIPTION:Wednesday nights at AIFC from 6:00-8:00 PM\, Ojibwe Language Instructor Ken Danielson (Gibwanisi) will hold space for all-level language learners to practice speaking Ojibwe! Language sessions will alternate between free-form conversation and classroom/teaching structures. \nA light meal will be provided at each session. \nChildcare and transportation are available\, please arrange in advance with Ellie Grubb at Elise.Grubb@aifcmn.org or (651) 505-6815\, or Theo Marcil at Theodore.Marcil@aifcmn.org or (651) 505-6801.
URL:https://aifcmn.org/event/ojibwe-language-series/2023-02-15/
LOCATION:American Indian Family Center (AIFC)\, 579 Wells St\, Saint Paul\, MN\, 55130\, United States
CATEGORIES:AIFC,Youth Services
ATTACH;FMTTYPE=image/png:https://aifcmn.org/wp-content/uploads/2023/01/Ojibwe_Language_Series_Flyer_4.24.20231.png
END:VEVENT
BEGIN:VEVENT
DTSTART;TZID=America/Chicago:20230216T180000
DTEND;TZID=America/Chicago:20230216T193000
DTSTAMP:20260422T015910
CREATED:20230118T164755Z
LAST-MODIFIED:20230522T160713Z
UID:10001825-1676570400-1676575800@aifcmn.org
SUMMARY:AIFC - Dakota Language Series
DESCRIPTION:Thursday nights at AIFC from 6:00-7:30PM\, Dakota Language Instructor Katie Bendickson and Justis Brokenrope will both hold space for all-level language learners to practice speaking Dakota! Language sessions will alternate between free-form conversation and classroom/teaching structures. \nA light meal will be provided at each session. \nChildcare and transportation are available\, please arrange in advance with Ellie Grubb at Elise.Grubb@aifcmn.org or (651) 505-6815\, or Theo Marcil at Theodore.Marcil@aifcmn.org or (651) 505-6801.
URL:https://aifcmn.org/event/dakota-language-night/2023-02-16/
LOCATION:American Indian Family Center (AIFC)\, 579 Wells St\, Saint Paul\, MN\, 55130\, United States
CATEGORIES:AIFC,Youth Services
ATTACH;FMTTYPE=image/png:https://aifcmn.org/wp-content/uploads/2023/01/Dakota_Language_Series_Flyer_4.24.20231.png
END:VEVENT
END:VCALENDAR