BEGIN:VCALENDAR
VERSION:2.0
PRODID:-//American Indian Family Center - ECPv6.15.17.1//NONSGML v1.0//EN
CALSCALE:GREGORIAN
METHOD:PUBLISH
X-WR-CALNAME:American Indian Family Center
X-ORIGINAL-URL:https://aifcmn.org
X-WR-CALDESC:Events for American Indian Family Center
REFRESH-INTERVAL;VALUE=DURATION:PT1H
X-Robots-Tag:noindex
X-PUBLISHED-TTL:PT1H
BEGIN:VTIMEZONE
TZID:America/Chicago
BEGIN:DAYLIGHT
TZOFFSETFROM:-0600
TZOFFSETTO:-0500
TZNAME:CDT
DTSTART:20220313T080000
END:DAYLIGHT
BEGIN:STANDARD
TZOFFSETFROM:-0500
TZOFFSETTO:-0600
TZNAME:CST
DTSTART:20221106T070000
END:STANDARD
BEGIN:DAYLIGHT
TZOFFSETFROM:-0600
TZOFFSETTO:-0500
TZNAME:CDT
DTSTART:20230312T080000
END:DAYLIGHT
BEGIN:STANDARD
TZOFFSETFROM:-0500
TZOFFSETTO:-0600
TZNAME:CST
DTSTART:20231105T070000
END:STANDARD
BEGIN:DAYLIGHT
TZOFFSETFROM:-0600
TZOFFSETTO:-0500
TZNAME:CDT
DTSTART:20240310T080000
END:DAYLIGHT
BEGIN:STANDARD
TZOFFSETFROM:-0500
TZOFFSETTO:-0600
TZNAME:CST
DTSTART:20241103T070000
END:STANDARD
END:VTIMEZONE
BEGIN:VEVENT
DTSTART;TZID=America/Chicago:20230301T180000
DTEND;TZID=America/Chicago:20230301T200000
DTSTAMP:20260422T002709
CREATED:20230103T225957Z
LAST-MODIFIED:20230424T220915Z
UID:10001650-1677693600-1677700800@aifcmn.org
SUMMARY:AIFC - Ojibwe Language Series
DESCRIPTION:Wednesday nights at AIFC from 6:00-8:00 PM\, Ojibwe Language Instructor Ken Danielson (Gibwanisi) will hold space for all-level language learners to practice speaking Ojibwe! Language sessions will alternate between free-form conversation and classroom/teaching structures. \nA light meal will be provided at each session. \nChildcare and transportation are available\, please arrange in advance with Ellie Grubb at Elise.Grubb@aifcmn.org or (651) 505-6815\, or Theo Marcil at Theodore.Marcil@aifcmn.org or (651) 505-6801.
URL:https://aifcmn.org/event/ojibwe-language-series/2023-03-01/
LOCATION:American Indian Family Center (AIFC)\, 579 Wells St\, Saint Paul\, MN\, 55130\, United States
CATEGORIES:AIFC,Youth Services
ATTACH;FMTTYPE=image/png:https://aifcmn.org/wp-content/uploads/2023/01/Ojibwe_Language_Series_Flyer_4.24.20231.png
END:VEVENT
BEGIN:VEVENT
DTSTART;TZID=America/Chicago:20230302T180000
DTEND;TZID=America/Chicago:20230302T193000
DTSTAMP:20260422T002709
CREATED:20230118T164755Z
LAST-MODIFIED:20230522T160713Z
UID:10001827-1677780000-1677785400@aifcmn.org
SUMMARY:AIFC - Dakota Language Series
DESCRIPTION:Thursday nights at AIFC from 6:00-7:30PM\, Dakota Language Instructor Katie Bendickson and Justis Brokenrope will both hold space for all-level language learners to practice speaking Dakota! Language sessions will alternate between free-form conversation and classroom/teaching structures. \nA light meal will be provided at each session. \nChildcare and transportation are available\, please arrange in advance with Ellie Grubb at Elise.Grubb@aifcmn.org or (651) 505-6815\, or Theo Marcil at Theodore.Marcil@aifcmn.org or (651) 505-6801.
URL:https://aifcmn.org/event/dakota-language-night/2023-03-02/
LOCATION:American Indian Family Center (AIFC)\, 579 Wells St\, Saint Paul\, MN\, 55130\, United States
CATEGORIES:AIFC,Youth Services
ATTACH;FMTTYPE=image/png:https://aifcmn.org/wp-content/uploads/2023/01/Dakota_Language_Series_Flyer_4.24.20231.png
END:VEVENT
BEGIN:VEVENT
DTSTART;TZID=America/Chicago:20230308T180000
DTEND;TZID=America/Chicago:20230308T200000
DTSTAMP:20260422T002709
CREATED:20230103T225957Z
LAST-MODIFIED:20230424T220915Z
UID:10001651-1678298400-1678305600@aifcmn.org
SUMMARY:AIFC - Ojibwe Language Series
DESCRIPTION:Wednesday nights at AIFC from 6:00-8:00 PM\, Ojibwe Language Instructor Ken Danielson (Gibwanisi) will hold space for all-level language learners to practice speaking Ojibwe! Language sessions will alternate between free-form conversation and classroom/teaching structures. \nA light meal will be provided at each session. \nChildcare and transportation are available\, please arrange in advance with Ellie Grubb at Elise.Grubb@aifcmn.org or (651) 505-6815\, or Theo Marcil at Theodore.Marcil@aifcmn.org or (651) 505-6801.
URL:https://aifcmn.org/event/ojibwe-language-series/2023-03-08/
LOCATION:American Indian Family Center (AIFC)\, 579 Wells St\, Saint Paul\, MN\, 55130\, United States
CATEGORIES:AIFC,Youth Services
ATTACH;FMTTYPE=image/png:https://aifcmn.org/wp-content/uploads/2023/01/Ojibwe_Language_Series_Flyer_4.24.20231.png
END:VEVENT
BEGIN:VEVENT
DTSTART;TZID=America/Chicago:20230309T180000
DTEND;TZID=America/Chicago:20230309T193000
DTSTAMP:20260422T002709
CREATED:20230118T164755Z
LAST-MODIFIED:20230522T160713Z
UID:10001828-1678384800-1678390200@aifcmn.org
SUMMARY:AIFC - Dakota Language Series
DESCRIPTION:Thursday nights at AIFC from 6:00-7:30PM\, Dakota Language Instructor Katie Bendickson and Justis Brokenrope will both hold space for all-level language learners to practice speaking Dakota! Language sessions will alternate between free-form conversation and classroom/teaching structures. \nA light meal will be provided at each session. \nChildcare and transportation are available\, please arrange in advance with Ellie Grubb at Elise.Grubb@aifcmn.org or (651) 505-6815\, or Theo Marcil at Theodore.Marcil@aifcmn.org or (651) 505-6801.
URL:https://aifcmn.org/event/dakota-language-night/2023-03-09/
LOCATION:American Indian Family Center (AIFC)\, 579 Wells St\, Saint Paul\, MN\, 55130\, United States
CATEGORIES:AIFC,Youth Services
ATTACH;FMTTYPE=image/png:https://aifcmn.org/wp-content/uploads/2023/01/Dakota_Language_Series_Flyer_4.24.20231.png
END:VEVENT
BEGIN:VEVENT
DTSTART;TZID=America/Chicago:20230315T180000
DTEND;TZID=America/Chicago:20230315T200000
DTSTAMP:20260422T002709
CREATED:20230103T225957Z
LAST-MODIFIED:20230424T220915Z
UID:10001652-1678903200-1678910400@aifcmn.org
SUMMARY:AIFC - Ojibwe Language Series
DESCRIPTION:Wednesday nights at AIFC from 6:00-8:00 PM\, Ojibwe Language Instructor Ken Danielson (Gibwanisi) will hold space for all-level language learners to practice speaking Ojibwe! Language sessions will alternate between free-form conversation and classroom/teaching structures. \nA light meal will be provided at each session. \nChildcare and transportation are available\, please arrange in advance with Ellie Grubb at Elise.Grubb@aifcmn.org or (651) 505-6815\, or Theo Marcil at Theodore.Marcil@aifcmn.org or (651) 505-6801.
URL:https://aifcmn.org/event/ojibwe-language-series/2023-03-15/
LOCATION:American Indian Family Center (AIFC)\, 579 Wells St\, Saint Paul\, MN\, 55130\, United States
CATEGORIES:AIFC,Youth Services
ATTACH;FMTTYPE=image/png:https://aifcmn.org/wp-content/uploads/2023/01/Ojibwe_Language_Series_Flyer_4.24.20231.png
END:VEVENT
BEGIN:VEVENT
DTSTART;TZID=America/Chicago:20230316T180000
DTEND;TZID=America/Chicago:20230316T193000
DTSTAMP:20260422T002709
CREATED:20230118T164755Z
LAST-MODIFIED:20230522T160713Z
UID:10001829-1678989600-1678995000@aifcmn.org
SUMMARY:AIFC - Dakota Language Series
DESCRIPTION:Thursday nights at AIFC from 6:00-7:30PM\, Dakota Language Instructor Katie Bendickson and Justis Brokenrope will both hold space for all-level language learners to practice speaking Dakota! Language sessions will alternate between free-form conversation and classroom/teaching structures. \nA light meal will be provided at each session. \nChildcare and transportation are available\, please arrange in advance with Ellie Grubb at Elise.Grubb@aifcmn.org or (651) 505-6815\, or Theo Marcil at Theodore.Marcil@aifcmn.org or (651) 505-6801.
URL:https://aifcmn.org/event/dakota-language-night/2023-03-16/
LOCATION:American Indian Family Center (AIFC)\, 579 Wells St\, Saint Paul\, MN\, 55130\, United States
CATEGORIES:AIFC,Youth Services
ATTACH;FMTTYPE=image/png:https://aifcmn.org/wp-content/uploads/2023/01/Dakota_Language_Series_Flyer_4.24.20231.png
END:VEVENT
BEGIN:VEVENT
DTSTART;TZID=America/Chicago:20230322T180000
DTEND;TZID=America/Chicago:20230322T200000
DTSTAMP:20260422T002709
CREATED:20230103T225957Z
LAST-MODIFIED:20230424T220915Z
UID:10001653-1679508000-1679515200@aifcmn.org
SUMMARY:AIFC - Ojibwe Language Series
DESCRIPTION:Wednesday nights at AIFC from 6:00-8:00 PM\, Ojibwe Language Instructor Ken Danielson (Gibwanisi) will hold space for all-level language learners to practice speaking Ojibwe! Language sessions will alternate between free-form conversation and classroom/teaching structures. \nA light meal will be provided at each session. \nChildcare and transportation are available\, please arrange in advance with Ellie Grubb at Elise.Grubb@aifcmn.org or (651) 505-6815\, or Theo Marcil at Theodore.Marcil@aifcmn.org or (651) 505-6801.
URL:https://aifcmn.org/event/ojibwe-language-series/2023-03-22/
LOCATION:American Indian Family Center (AIFC)\, 579 Wells St\, Saint Paul\, MN\, 55130\, United States
CATEGORIES:AIFC,Youth Services
ATTACH;FMTTYPE=image/png:https://aifcmn.org/wp-content/uploads/2023/01/Ojibwe_Language_Series_Flyer_4.24.20231.png
END:VEVENT
BEGIN:VEVENT
DTSTART;TZID=America/Chicago:20230323T180000
DTEND;TZID=America/Chicago:20230323T193000
DTSTAMP:20260422T002709
CREATED:20230118T164755Z
LAST-MODIFIED:20230522T160713Z
UID:10001830-1679594400-1679599800@aifcmn.org
SUMMARY:AIFC - Dakota Language Series
DESCRIPTION:Thursday nights at AIFC from 6:00-7:30PM\, Dakota Language Instructor Katie Bendickson and Justis Brokenrope will both hold space for all-level language learners to practice speaking Dakota! Language sessions will alternate between free-form conversation and classroom/teaching structures. \nA light meal will be provided at each session. \nChildcare and transportation are available\, please arrange in advance with Ellie Grubb at Elise.Grubb@aifcmn.org or (651) 505-6815\, or Theo Marcil at Theodore.Marcil@aifcmn.org or (651) 505-6801.
URL:https://aifcmn.org/event/dakota-language-night/2023-03-23/
LOCATION:American Indian Family Center (AIFC)\, 579 Wells St\, Saint Paul\, MN\, 55130\, United States
CATEGORIES:AIFC,Youth Services
ATTACH;FMTTYPE=image/png:https://aifcmn.org/wp-content/uploads/2023/01/Dakota_Language_Series_Flyer_4.24.20231.png
END:VEVENT
BEGIN:VEVENT
DTSTART;TZID=America/Chicago:20230329T180000
DTEND;TZID=America/Chicago:20230329T200000
DTSTAMP:20260422T002709
CREATED:20230103T225957Z
LAST-MODIFIED:20230424T220915Z
UID:10002073-1680112800-1680120000@aifcmn.org
SUMMARY:AIFC - Ojibwe Language Series
DESCRIPTION:Wednesday nights at AIFC from 6:00-8:00 PM\, Ojibwe Language Instructor Ken Danielson (Gibwanisi) will hold space for all-level language learners to practice speaking Ojibwe! Language sessions will alternate between free-form conversation and classroom/teaching structures. \nA light meal will be provided at each session. \nChildcare and transportation are available\, please arrange in advance with Ellie Grubb at Elise.Grubb@aifcmn.org or (651) 505-6815\, or Theo Marcil at Theodore.Marcil@aifcmn.org or (651) 505-6801.
URL:https://aifcmn.org/event/ojibwe-language-series/2023-03-29/
LOCATION:American Indian Family Center (AIFC)\, 579 Wells St\, Saint Paul\, MN\, 55130\, United States
CATEGORIES:AIFC,Youth Services
ATTACH;FMTTYPE=image/png:https://aifcmn.org/wp-content/uploads/2023/01/Ojibwe_Language_Series_Flyer_4.24.20231.png
END:VEVENT
BEGIN:VEVENT
DTSTART;TZID=America/Chicago:20230330T180000
DTEND;TZID=America/Chicago:20230330T193000
DTSTAMP:20260422T002709
CREATED:20230118T164755Z
LAST-MODIFIED:20230522T160713Z
UID:10001831-1680199200-1680204600@aifcmn.org
SUMMARY:AIFC - Dakota Language Series
DESCRIPTION:Thursday nights at AIFC from 6:00-7:30PM\, Dakota Language Instructor Katie Bendickson and Justis Brokenrope will both hold space for all-level language learners to practice speaking Dakota! Language sessions will alternate between free-form conversation and classroom/teaching structures. \nA light meal will be provided at each session. \nChildcare and transportation are available\, please arrange in advance with Ellie Grubb at Elise.Grubb@aifcmn.org or (651) 505-6815\, or Theo Marcil at Theodore.Marcil@aifcmn.org or (651) 505-6801.
URL:https://aifcmn.org/event/dakota-language-night/2023-03-30/
LOCATION:American Indian Family Center (AIFC)\, 579 Wells St\, Saint Paul\, MN\, 55130\, United States
CATEGORIES:AIFC,Youth Services
ATTACH;FMTTYPE=image/png:https://aifcmn.org/wp-content/uploads/2023/01/Dakota_Language_Series_Flyer_4.24.20231.png
END:VEVENT
END:VCALENDAR