BEGIN:VCALENDAR
VERSION:2.0
PRODID:-//American Indian Family Center - ECPv6.15.17.1//NONSGML v1.0//EN
CALSCALE:GREGORIAN
METHOD:PUBLISH
X-WR-CALNAME:American Indian Family Center
X-ORIGINAL-URL:https://aifcmn.org
X-WR-CALDESC:Events for American Indian Family Center
REFRESH-INTERVAL;VALUE=DURATION:PT1H
X-Robots-Tag:noindex
X-PUBLISHED-TTL:PT1H
BEGIN:VTIMEZONE
TZID:America/Chicago
BEGIN:DAYLIGHT
TZOFFSETFROM:-0600
TZOFFSETTO:-0500
TZNAME:CDT
DTSTART:20220313T080000
END:DAYLIGHT
BEGIN:STANDARD
TZOFFSETFROM:-0500
TZOFFSETTO:-0600
TZNAME:CST
DTSTART:20221106T070000
END:STANDARD
BEGIN:DAYLIGHT
TZOFFSETFROM:-0600
TZOFFSETTO:-0500
TZNAME:CDT
DTSTART:20230312T080000
END:DAYLIGHT
BEGIN:STANDARD
TZOFFSETFROM:-0500
TZOFFSETTO:-0600
TZNAME:CST
DTSTART:20231105T070000
END:STANDARD
BEGIN:DAYLIGHT
TZOFFSETFROM:-0600
TZOFFSETTO:-0500
TZNAME:CDT
DTSTART:20240310T080000
END:DAYLIGHT
BEGIN:STANDARD
TZOFFSETFROM:-0500
TZOFFSETTO:-0600
TZNAME:CST
DTSTART:20241103T070000
END:STANDARD
END:VTIMEZONE
BEGIN:VEVENT
DTSTART;TZID=America/Chicago:20230405T180000
DTEND;TZID=America/Chicago:20230405T200000
DTSTAMP:20260421T224244
CREATED:20230103T225957Z
LAST-MODIFIED:20230424T220915Z
UID:10002074-1680717600-1680724800@aifcmn.org
SUMMARY:AIFC - Ojibwe Language Series
DESCRIPTION:Wednesday nights at AIFC from 6:00-8:00 PM\, Ojibwe Language Instructor Ken Danielson (Gibwanisi) will hold space for all-level language learners to practice speaking Ojibwe! Language sessions will alternate between free-form conversation and classroom/teaching structures. \nA light meal will be provided at each session. \nChildcare and transportation are available\, please arrange in advance with Ellie Grubb at Elise.Grubb@aifcmn.org or (651) 505-6815\, or Theo Marcil at Theodore.Marcil@aifcmn.org or (651) 505-6801.
URL:https://aifcmn.org/event/ojibwe-language-series/2023-04-05/
LOCATION:American Indian Family Center (AIFC)\, 579 Wells St\, Saint Paul\, MN\, 55130\, United States
CATEGORIES:AIFC,Youth Services
ATTACH;FMTTYPE=image/png:https://aifcmn.org/wp-content/uploads/2023/01/Ojibwe_Language_Series_Flyer_4.24.20231.png
END:VEVENT
BEGIN:VEVENT
DTSTART;TZID=America/Chicago:20230406T130000
DTEND;TZID=America/Chicago:20230406T180000
DTSTAMP:20260421T224244
CREATED:20230328T165626Z
LAST-MODIFIED:20230328T165841Z
UID:10002059-1680786000-1680804000@aifcmn.org
SUMMARY:AIFC - Digital Art and Entrepreneur Workshop with Jessica Gokey
DESCRIPTION:
URL:https://aifcmn.org/event/aifc-digital-art-and-entrepreneur-workship-with-jessica-gokey/2023-04-06/
LOCATION:American Indian Family Center (AIFC)\, 579 Wells St\, Saint Paul\, MN\, 55130\, United States
CATEGORIES:AIFC,Community Events,Youth Services
ATTACH;FMTTYPE=application/pdf:https://aifcmn.org/wp-content/uploads/2023/03/AIFC-Digital-Art-Entrepreneur-Workshop.pdf
END:VEVENT
BEGIN:VEVENT
DTSTART;TZID=America/Chicago:20230406T180000
DTEND;TZID=America/Chicago:20230406T193000
DTSTAMP:20260421T224244
CREATED:20230118T164755Z
LAST-MODIFIED:20230522T160713Z
UID:10001832-1680804000-1680809400@aifcmn.org
SUMMARY:AIFC - Dakota Language Series
DESCRIPTION:Thursday nights at AIFC from 6:00-7:30PM\, Dakota Language Instructor Katie Bendickson and Justis Brokenrope will both hold space for all-level language learners to practice speaking Dakota! Language sessions will alternate between free-form conversation and classroom/teaching structures. \nA light meal will be provided at each session. \nChildcare and transportation are available\, please arrange in advance with Ellie Grubb at Elise.Grubb@aifcmn.org or (651) 505-6815\, or Theo Marcil at Theodore.Marcil@aifcmn.org or (651) 505-6801.
URL:https://aifcmn.org/event/dakota-language-night/2023-04-06/
LOCATION:American Indian Family Center (AIFC)\, 579 Wells St\, Saint Paul\, MN\, 55130\, United States
CATEGORIES:AIFC,Youth Services
ATTACH;FMTTYPE=image/png:https://aifcmn.org/wp-content/uploads/2023/01/Dakota_Language_Series_Flyer_4.24.20231.png
END:VEVENT
BEGIN:VEVENT
DTSTART;TZID=America/Chicago:20230407T130000
DTEND;TZID=America/Chicago:20230407T180000
DTSTAMP:20260421T224244
CREATED:20230328T165626Z
LAST-MODIFIED:20230328T165841Z
UID:10002060-1680872400-1680890400@aifcmn.org
SUMMARY:AIFC - Digital Art and Entrepreneur Workshop with Jessica Gokey
DESCRIPTION:
URL:https://aifcmn.org/event/aifc-digital-art-and-entrepreneur-workship-with-jessica-gokey/2023-04-07/
LOCATION:American Indian Family Center (AIFC)\, 579 Wells St\, Saint Paul\, MN\, 55130\, United States
CATEGORIES:AIFC,Community Events,Youth Services
ATTACH;FMTTYPE=application/pdf:https://aifcmn.org/wp-content/uploads/2023/03/AIFC-Digital-Art-Entrepreneur-Workshop.pdf
END:VEVENT
BEGIN:VEVENT
DTSTART;TZID=America/Chicago:20230408T120000
DTEND;TZID=America/Chicago:20230408T170000
DTSTAMP:20260421T224244
CREATED:20230329T182507Z
LAST-MODIFIED:20230329T182507Z
UID:10002061-1680955200-1680973200@aifcmn.org
SUMMARY:AIFC - Roach Making
DESCRIPTION:
URL:https://aifcmn.org/event/aifc-roach-making/
LOCATION:American Indian Family Center (AIFC)\, 579 Wells St\, Saint Paul\, MN\, 55130\, United States
CATEGORIES:AIFC,Youth Services
ATTACH;FMTTYPE=application/pdf:https://aifcmn.org/wp-content/uploads/2023/03/Roach-Making-8.5-×-11-in.pdf
END:VEVENT
BEGIN:VEVENT
DTSTART;TZID=America/Chicago:20230412T180000
DTEND;TZID=America/Chicago:20230412T200000
DTSTAMP:20260421T224244
CREATED:20230103T225957Z
LAST-MODIFIED:20230424T220915Z
UID:10002075-1681322400-1681329600@aifcmn.org
SUMMARY:AIFC - Ojibwe Language Series
DESCRIPTION:Wednesday nights at AIFC from 6:00-8:00 PM\, Ojibwe Language Instructor Ken Danielson (Gibwanisi) will hold space for all-level language learners to practice speaking Ojibwe! Language sessions will alternate between free-form conversation and classroom/teaching structures. \nA light meal will be provided at each session. \nChildcare and transportation are available\, please arrange in advance with Ellie Grubb at Elise.Grubb@aifcmn.org or (651) 505-6815\, or Theo Marcil at Theodore.Marcil@aifcmn.org or (651) 505-6801.
URL:https://aifcmn.org/event/ojibwe-language-series/2023-04-12/
LOCATION:American Indian Family Center (AIFC)\, 579 Wells St\, Saint Paul\, MN\, 55130\, United States
CATEGORIES:AIFC,Youth Services
ATTACH;FMTTYPE=image/png:https://aifcmn.org/wp-content/uploads/2023/01/Ojibwe_Language_Series_Flyer_4.24.20231.png
END:VEVENT
BEGIN:VEVENT
DTSTART;TZID=America/Chicago:20230413T180000
DTEND;TZID=America/Chicago:20230413T193000
DTSTAMP:20260421T224244
CREATED:20230118T164755Z
LAST-MODIFIED:20230522T160713Z
UID:10001833-1681408800-1681414200@aifcmn.org
SUMMARY:AIFC - Dakota Language Series
DESCRIPTION:Thursday nights at AIFC from 6:00-7:30PM\, Dakota Language Instructor Katie Bendickson and Justis Brokenrope will both hold space for all-level language learners to practice speaking Dakota! Language sessions will alternate between free-form conversation and classroom/teaching structures. \nA light meal will be provided at each session. \nChildcare and transportation are available\, please arrange in advance with Ellie Grubb at Elise.Grubb@aifcmn.org or (651) 505-6815\, or Theo Marcil at Theodore.Marcil@aifcmn.org or (651) 505-6801.
URL:https://aifcmn.org/event/dakota-language-night/2023-04-13/
LOCATION:American Indian Family Center (AIFC)\, 579 Wells St\, Saint Paul\, MN\, 55130\, United States
CATEGORIES:AIFC,Youth Services
ATTACH;FMTTYPE=image/png:https://aifcmn.org/wp-content/uploads/2023/01/Dakota_Language_Series_Flyer_4.24.20231.png
END:VEVENT
BEGIN:VEVENT
DTSTART;TZID=America/Chicago:20230419T180000
DTEND;TZID=America/Chicago:20230419T200000
DTSTAMP:20260421T224244
CREATED:20230103T225957Z
LAST-MODIFIED:20230424T220915Z
UID:10002076-1681927200-1681934400@aifcmn.org
SUMMARY:AIFC - Ojibwe Language Series
DESCRIPTION:Wednesday nights at AIFC from 6:00-8:00 PM\, Ojibwe Language Instructor Ken Danielson (Gibwanisi) will hold space for all-level language learners to practice speaking Ojibwe! Language sessions will alternate between free-form conversation and classroom/teaching structures. \nA light meal will be provided at each session. \nChildcare and transportation are available\, please arrange in advance with Ellie Grubb at Elise.Grubb@aifcmn.org or (651) 505-6815\, or Theo Marcil at Theodore.Marcil@aifcmn.org or (651) 505-6801.
URL:https://aifcmn.org/event/ojibwe-language-series/2023-04-19/
LOCATION:American Indian Family Center (AIFC)\, 579 Wells St\, Saint Paul\, MN\, 55130\, United States
CATEGORIES:AIFC,Youth Services
ATTACH;FMTTYPE=image/png:https://aifcmn.org/wp-content/uploads/2023/01/Ojibwe_Language_Series_Flyer_4.24.20231.png
END:VEVENT
BEGIN:VEVENT
DTSTART;TZID=America/Chicago:20230420T180000
DTEND;TZID=America/Chicago:20230420T193000
DTSTAMP:20260421T224244
CREATED:20230118T164755Z
LAST-MODIFIED:20230522T160713Z
UID:10001834-1682013600-1682019000@aifcmn.org
SUMMARY:AIFC - Dakota Language Series
DESCRIPTION:Thursday nights at AIFC from 6:00-7:30PM\, Dakota Language Instructor Katie Bendickson and Justis Brokenrope will both hold space for all-level language learners to practice speaking Dakota! Language sessions will alternate between free-form conversation and classroom/teaching structures. \nA light meal will be provided at each session. \nChildcare and transportation are available\, please arrange in advance with Ellie Grubb at Elise.Grubb@aifcmn.org or (651) 505-6815\, or Theo Marcil at Theodore.Marcil@aifcmn.org or (651) 505-6801.
URL:https://aifcmn.org/event/dakota-language-night/2023-04-20/
LOCATION:American Indian Family Center (AIFC)\, 579 Wells St\, Saint Paul\, MN\, 55130\, United States
CATEGORIES:AIFC,Youth Services
ATTACH;FMTTYPE=image/png:https://aifcmn.org/wp-content/uploads/2023/01/Dakota_Language_Series_Flyer_4.24.20231.png
END:VEVENT
BEGIN:VEVENT
DTSTART;TZID=America/Chicago:20230427T180000
DTEND;TZID=America/Chicago:20230427T193000
DTSTAMP:20260421T224244
CREATED:20230118T164755Z
LAST-MODIFIED:20230522T160713Z
UID:10001835-1682618400-1682623800@aifcmn.org
SUMMARY:AIFC - Dakota Language Series
DESCRIPTION:Thursday nights at AIFC from 6:00-7:30PM\, Dakota Language Instructor Katie Bendickson and Justis Brokenrope will both hold space for all-level language learners to practice speaking Dakota! Language sessions will alternate between free-form conversation and classroom/teaching structures. \nA light meal will be provided at each session. \nChildcare and transportation are available\, please arrange in advance with Ellie Grubb at Elise.Grubb@aifcmn.org or (651) 505-6815\, or Theo Marcil at Theodore.Marcil@aifcmn.org or (651) 505-6801.
URL:https://aifcmn.org/event/dakota-language-night/2023-04-27/
LOCATION:American Indian Family Center (AIFC)\, 579 Wells St\, Saint Paul\, MN\, 55130\, United States
CATEGORIES:AIFC,Youth Services
ATTACH;FMTTYPE=image/png:https://aifcmn.org/wp-content/uploads/2023/01/Dakota_Language_Series_Flyer_4.24.20231.png
END:VEVENT
END:VCALENDAR