BEGIN:VCALENDAR
VERSION:2.0
PRODID:-//American Indian Family Center - ECPv6.15.17.1//NONSGML v1.0//EN
CALSCALE:GREGORIAN
METHOD:PUBLISH
X-WR-CALNAME:American Indian Family Center
X-ORIGINAL-URL:https://aifcmn.org
X-WR-CALDESC:Events for American Indian Family Center
REFRESH-INTERVAL;VALUE=DURATION:PT1H
X-Robots-Tag:noindex
X-PUBLISHED-TTL:PT1H
BEGIN:VTIMEZONE
TZID:America/Chicago
BEGIN:DAYLIGHT
TZOFFSETFROM:-0600
TZOFFSETTO:-0500
TZNAME:CDT
DTSTART:20220313T080000
END:DAYLIGHT
BEGIN:STANDARD
TZOFFSETFROM:-0500
TZOFFSETTO:-0600
TZNAME:CST
DTSTART:20221106T070000
END:STANDARD
BEGIN:DAYLIGHT
TZOFFSETFROM:-0600
TZOFFSETTO:-0500
TZNAME:CDT
DTSTART:20230312T080000
END:DAYLIGHT
BEGIN:STANDARD
TZOFFSETFROM:-0500
TZOFFSETTO:-0600
TZNAME:CST
DTSTART:20231105T070000
END:STANDARD
BEGIN:DAYLIGHT
TZOFFSETFROM:-0600
TZOFFSETTO:-0500
TZNAME:CDT
DTSTART:20240310T080000
END:DAYLIGHT
BEGIN:STANDARD
TZOFFSETFROM:-0500
TZOFFSETTO:-0600
TZNAME:CST
DTSTART:20241103T070000
END:STANDARD
END:VTIMEZONE
BEGIN:VEVENT
DTSTART;TZID=America/Chicago:20231127T170000
DTEND;TZID=America/Chicago:20231127T170000
DTSTAMP:20260421T114045
CREATED:20231122T192951Z
LAST-MODIFIED:20240111T220052Z
UID:10002276-1701104400-1701104400@aifcmn.org
SUMMARY:AIFC: Waaban Ogimaawag (Tomorrow’s Leaders) – Full Moon Ceremony
DESCRIPTION:AIFC invites you to join us for a Full Moon Ceremony on Thursday\, January 25\, 2024\, 4:30-7:30PM.\n\n\nWho: Relatives who receive their menstrual (moon) cycles\, have reached menopause\, and the ceremony is inclusive to Two-Spirit and trans relatives as well!\n\n\n\n\nLOCATION CHANGE: Belwin Conservancy\, Savanna Center\, 795 Indian Trail S\, Afton\, MN 55001\n\n\nPlease bring a long skirt\, copper cup\, small bowl\, spoon\, hair bundle* … extras provided as supplies last\, and a watecha bowl (Tupperware\, etc.) to take home leftovers and a dish to share with your plate\, utensils\, and serving spoon\, if you are able.\n\n\n*Hair Bundle (optional): Hair bundles are not required to participate but may be offered during the ceremony if desired. To make your own\, start collecting loose strands from brush\, shower\, or clothes!\n\n\n\n\nWe are honored to have you join us during this special time as we hold a ceremony for Grandmother Moon!\n\n\n\nFor more information\, contact Pam Gokey at Pam.Gokey@aifcmn.org\, or (651) 504-2944.\n\n\n\n\n\n: Jessica Gokey (IG: @j_leigh_gokey)
URL:https://aifcmn.org/event/aifc-waaban-ogimaawag-tomorrows-leaders-full-moon-ceremony-3/2023-11-27/
LOCATION:Belwin Conservancy Savanna Center\, 795 Indian Trail South\, Afton\, MN\, 55001\, United States
CATEGORIES:AIFC,Youth Services
ATTACH;FMTTYPE=image/png:https://aifcmn.org/wp-content/uploads/2023/11/Waaban-Ogimaawag-Full-Moon-Ceremony-Thursday-January-25-2024.png
END:VEVENT
END:VCALENDAR