BEGIN:VCALENDAR
VERSION:2.0
PRODID:-//American Indian Family Center - ECPv6.15.17.1//NONSGML v1.0//EN
CALSCALE:GREGORIAN
METHOD:PUBLISH
X-ORIGINAL-URL:https://aifcmn.org
X-WR-CALDESC:Events for American Indian Family Center
REFRESH-INTERVAL;VALUE=DURATION:PT1H
X-Robots-Tag:noindex
X-PUBLISHED-TTL:PT1H
BEGIN:VTIMEZONE
TZID:America/Chicago
BEGIN:DAYLIGHT
TZOFFSETFROM:-0600
TZOFFSETTO:-0500
TZNAME:CDT
DTSTART:20230312T080000
END:DAYLIGHT
BEGIN:STANDARD
TZOFFSETFROM:-0500
TZOFFSETTO:-0600
TZNAME:CST
DTSTART:20231105T070000
END:STANDARD
BEGIN:DAYLIGHT
TZOFFSETFROM:-0600
TZOFFSETTO:-0500
TZNAME:CDT
DTSTART:20240310T080000
END:DAYLIGHT
BEGIN:STANDARD
TZOFFSETFROM:-0500
TZOFFSETTO:-0600
TZNAME:CST
DTSTART:20241103T070000
END:STANDARD
BEGIN:DAYLIGHT
TZOFFSETFROM:-0600
TZOFFSETTO:-0500
TZNAME:CDT
DTSTART:20250309T080000
END:DAYLIGHT
BEGIN:STANDARD
TZOFFSETFROM:-0500
TZOFFSETTO:-0600
TZNAME:CST
DTSTART:20251102T070000
END:STANDARD
END:VTIMEZONE
BEGIN:VEVENT
DTSTART;TZID=America/Chicago:20240113T103000
DTEND;TZID=America/Chicago:20240113T123000
DTSTAMP:20260421T083644
CREATED:20240109T210805Z
LAST-MODIFIED:20240109T215756Z
UID:10003504-1705141800-1705149000@aifcmn.org
SUMMARY:AIFC: Waaban Ogimaawag (Tomorrow's Leaders) - Young Youth Leadership Development Session 2 (1st-3rd graders)
DESCRIPTION:Class size is limited\, so registration is required before attending. \nPlease fill out an interest form at: https://aifcmn.org/intake-form/. You may also contact Youth Outreach Specialist\, Nancy Vogt\, at Nancy.Vogt@aifcmn.org or (651) 505-6810 to register.
URL:https://aifcmn.org/event/aifc-waaban-ogimaawag-tomorrows-leaders-young-youth-leadership-development-session-2-1st-3rd-graders/2024-01-13/
LOCATION:American Indian Family Center (AIFC)\, 579 Wells St\, Saint Paul\, MN\, 55130\, United States
CATEGORIES:AIFC,Youth Services
ATTACH;FMTTYPE=image/png:https://aifcmn.org/wp-content/uploads/2024/01/Waaban-Ogimaawag-Young-Youth-Leadership-Development-Session-2.png
END:VEVENT
BEGIN:VEVENT
DTSTART;TZID=America/Chicago:20240120T100000
DTEND;TZID=America/Chicago:20240120T120000
DTSTAMP:20260421T083644
CREATED:20240109T212234Z
LAST-MODIFIED:20240109T212234Z
UID:10003349-1705744800-1705752000@aifcmn.org
SUMMARY:AIFC: Waaban Ogimaawag (Tomorrow's Leaders) - Elder Teachings with Maria Morin McCoy
DESCRIPTION:
URL:https://aifcmn.org/event/aifc-waaban-ogimaawag-tomorrows-leaders-elder-teachings-with-maria-morin-mccoy/2024-01-20/
LOCATION:American Indian Family Center (AIFC)\, 579 Wells St\, Saint Paul\, MN\, 55130\, United States
CATEGORIES:AIFC,Youth Services
ATTACH;FMTTYPE=image/png:https://aifcmn.org/wp-content/uploads/2024/01/WO-Elder-Teachings-with-Maria-Morin-McCoy.png
END:VEVENT
BEGIN:VEVENT
DTSTART;TZID=America/Chicago:20240125T163000
DTEND;TZID=America/Chicago:20240125T193000
DTSTAMP:20260421T083644
CREATED:20231122T192951Z
LAST-MODIFIED:20240111T220052Z
UID:10003509-1706200200-1706211000@aifcmn.org
SUMMARY:AIFC: Waaban Ogimaawag (Tomorrow’s Leaders) – Full Moon Ceremony
DESCRIPTION:AIFC invites you to join us for a Full Moon Ceremony on Thursday\, January 25\, 2024\, 4:30-7:30PM.\n\n\nWho: Relatives who receive their menstrual (moon) cycles\, have reached menopause\, and the ceremony is inclusive to Two-Spirit and trans relatives as well!\n\n\n\n\nLOCATION CHANGE: Belwin Conservancy\, Savanna Center\, 795 Indian Trail S\, Afton\, MN 55001\n\n\nPlease bring a long skirt\, copper cup\, small bowl\, spoon\, hair bundle* … extras provided as supplies last\, and a watecha bowl (Tupperware\, etc.) to take home leftovers and a dish to share with your plate\, utensils\, and serving spoon\, if you are able.\n\n\n*Hair Bundle (optional): Hair bundles are not required to participate but may be offered during the ceremony if desired. To make your own\, start collecting loose strands from brush\, shower\, or clothes!\n\n\n\n\nWe are honored to have you join us during this special time as we hold a ceremony for Grandmother Moon!\n\n\n\nFor more information\, contact Pam Gokey at Pam.Gokey@aifcmn.org\, or (651) 504-2944.\n\n\n\n\n\n: Jessica Gokey (IG: @j_leigh_gokey)
URL:https://aifcmn.org/event/aifc-waaban-ogimaawag-tomorrows-leaders-full-moon-ceremony-3/2024-01-25/
LOCATION:Belwin Conservancy Savanna Center\, 795 Indian Trail South\, Afton\, MN\, 55001\, United States
CATEGORIES:AIFC,Youth Services
ATTACH;FMTTYPE=image/png:https://aifcmn.org/wp-content/uploads/2023/11/Waaban-Ogimaawag-Full-Moon-Ceremony-Thursday-January-25-2024.png
END:VEVENT
BEGIN:VEVENT
DTSTART;TZID=America/Chicago:20240128T140000
DTEND;TZID=America/Chicago:20240128T140000
DTSTAMP:20260421T083644
CREATED:20240109T211638Z
LAST-MODIFIED:20240109T211638Z
UID:10003348-1706450400-1706450400@aifcmn.org
SUMMARY:Winter Storytelling with Hope Flanagan
DESCRIPTION:
URL:https://aifcmn.org/event/winter-storytelling-with-hope-flanagan/
LOCATION:Minnesota History Center\, 345 Kellogg Blvd W.\, Saint Paul\, MN\, 55102\, United States
CATEGORIES:AIFC,Youth Services
ATTACH;FMTTYPE=image/png:https://aifcmn.org/wp-content/uploads/2024/01/Winter-Storytelling-with-Hope-Flanagan-1.28.24.png
END:VEVENT
END:VCALENDAR