BEGIN:VCALENDAR
VERSION:2.0
PRODID:-//American Indian Family Center - ECPv6.15.17.1//NONSGML v1.0//EN
CALSCALE:GREGORIAN
METHOD:PUBLISH
X-WR-CALNAME:American Indian Family Center
X-ORIGINAL-URL:https://aifcmn.org
X-WR-CALDESC:Events for American Indian Family Center
REFRESH-INTERVAL;VALUE=DURATION:PT1H
X-Robots-Tag:noindex
X-PUBLISHED-TTL:PT1H
BEGIN:VTIMEZONE
TZID:America/Chicago
BEGIN:DAYLIGHT
TZOFFSETFROM:-0600
TZOFFSETTO:-0500
TZNAME:CDT
DTSTART:20230312T080000
END:DAYLIGHT
BEGIN:STANDARD
TZOFFSETFROM:-0500
TZOFFSETTO:-0600
TZNAME:CST
DTSTART:20231105T070000
END:STANDARD
BEGIN:DAYLIGHT
TZOFFSETFROM:-0600
TZOFFSETTO:-0500
TZNAME:CDT
DTSTART:20240310T080000
END:DAYLIGHT
BEGIN:STANDARD
TZOFFSETFROM:-0500
TZOFFSETTO:-0600
TZNAME:CST
DTSTART:20241103T070000
END:STANDARD
BEGIN:DAYLIGHT
TZOFFSETFROM:-0600
TZOFFSETTO:-0500
TZNAME:CDT
DTSTART:20250309T080000
END:DAYLIGHT
BEGIN:STANDARD
TZOFFSETFROM:-0500
TZOFFSETTO:-0600
TZNAME:CST
DTSTART:20251102T070000
END:STANDARD
END:VTIMEZONE
BEGIN:VEVENT
DTSTART;TZID=America/Chicago:20240504T103000
DTEND;TZID=America/Chicago:20240504T123000
DTSTAMP:20260421T021425
CREATED:20240109T210805Z
LAST-MODIFIED:20240109T215756Z
UID:10003507-1714818600-1714825800@aifcmn.org
SUMMARY:AIFC: Waaban Ogimaawag (Tomorrow's Leaders) - Young Youth Leadership Development Session 2 (1st-3rd graders)
DESCRIPTION:Class size is limited\, so registration is required before attending. \nPlease fill out an interest form at: https://aifcmn.org/intake-form/. You may also contact Youth Outreach Specialist\, Nancy Vogt\, at Nancy.Vogt@aifcmn.org or (651) 505-6810 to register.
URL:https://aifcmn.org/event/aifc-waaban-ogimaawag-tomorrows-leaders-young-youth-leadership-development-session-2-1st-3rd-graders/2024-05-04/
LOCATION:American Indian Family Center (AIFC)\, 579 Wells St\, Saint Paul\, MN\, 55130\, United States
CATEGORIES:AIFC,Youth Services
ATTACH;FMTTYPE=image/png:https://aifcmn.org/wp-content/uploads/2024/01/Waaban-Ogimaawag-Young-Youth-Leadership-Development-Session-2.png
END:VEVENT
BEGIN:VEVENT
DTSTART;TZID=America/Chicago:20240507T160000
DTEND;TZID=America/Chicago:20240507T180000
DTSTAMP:20260421T021425
CREATED:20240226T201442Z
LAST-MODIFIED:20240702T202243Z
UID:10003924-1715097600-1715104800@aifcmn.org
SUMMARY:AIFC: Waaban Ogimaawag (Tomorrow's Leaders) - Gabe-Nibwaakaa: Entrepreneurship
DESCRIPTION:
URL:https://aifcmn.org/event/aifc-waaban-ogimaawag-tomorrows-leaders-gabe-nibwaakaa-entrepreneurship-2/2024-05-07/
LOCATION:American Indian Family Center (AIFC)\, 579 Wells St\, Saint Paul\, MN\, 55130\, United States
CATEGORIES:AIFC,Youth Services
ATTACH;FMTTYPE=image/png:https://aifcmn.org/wp-content/uploads/2024/01/WO-Gabe-Nibwaakaa-Entrepreneurship-.png
END:VEVENT
BEGIN:VEVENT
DTSTART;TZID=America/Chicago:20240511T100000
DTEND;TZID=America/Chicago:20240511T120000
DTSTAMP:20260421T021425
CREATED:20240109T212234Z
LAST-MODIFIED:20240109T212234Z
UID:10003353-1715421600-1715428800@aifcmn.org
SUMMARY:AIFC: Waaban Ogimaawag (Tomorrow's Leaders) - Elder Teachings with Maria Morin McCoy
DESCRIPTION:
URL:https://aifcmn.org/event/aifc-waaban-ogimaawag-tomorrows-leaders-elder-teachings-with-maria-morin-mccoy/2024-05-11/
LOCATION:American Indian Family Center (AIFC)\, 579 Wells St\, Saint Paul\, MN\, 55130\, United States
CATEGORIES:AIFC,Youth Services
ATTACH;FMTTYPE=image/png:https://aifcmn.org/wp-content/uploads/2024/01/WO-Elder-Teachings-with-Maria-Morin-McCoy.png
END:VEVENT
BEGIN:VEVENT
DTSTART;TZID=America/Chicago:20240518T103000
DTEND;TZID=America/Chicago:20240518T123000
DTSTAMP:20260421T021425
CREATED:20240109T210805Z
LAST-MODIFIED:20240109T215756Z
UID:10003508-1716028200-1716035400@aifcmn.org
SUMMARY:AIFC: Waaban Ogimaawag (Tomorrow's Leaders) - Young Youth Leadership Development Session 2 (1st-3rd graders)
DESCRIPTION:Class size is limited\, so registration is required before attending. \nPlease fill out an interest form at: https://aifcmn.org/intake-form/. You may also contact Youth Outreach Specialist\, Nancy Vogt\, at Nancy.Vogt@aifcmn.org or (651) 505-6810 to register.
URL:https://aifcmn.org/event/aifc-waaban-ogimaawag-tomorrows-leaders-young-youth-leadership-development-session-2-1st-3rd-graders/2024-05-18/
LOCATION:American Indian Family Center (AIFC)\, 579 Wells St\, Saint Paul\, MN\, 55130\, United States
CATEGORIES:AIFC,Youth Services
ATTACH;FMTTYPE=image/png:https://aifcmn.org/wp-content/uploads/2024/01/Waaban-Ogimaawag-Young-Youth-Leadership-Development-Session-2.png
END:VEVENT
BEGIN:VEVENT
DTSTART;TZID=America/Chicago:20240521T160000
DTEND;TZID=America/Chicago:20240521T180000
DTSTAMP:20260421T021425
CREATED:20240226T201442Z
LAST-MODIFIED:20240702T202243Z
UID:10003925-1716307200-1716314400@aifcmn.org
SUMMARY:AIFC: Waaban Ogimaawag (Tomorrow's Leaders) - Gabe-Nibwaakaa: Entrepreneurship
DESCRIPTION:
URL:https://aifcmn.org/event/aifc-waaban-ogimaawag-tomorrows-leaders-gabe-nibwaakaa-entrepreneurship-2/2024-05-21/
LOCATION:American Indian Family Center (AIFC)\, 579 Wells St\, Saint Paul\, MN\, 55130\, United States
CATEGORIES:AIFC,Youth Services
ATTACH;FMTTYPE=image/png:https://aifcmn.org/wp-content/uploads/2024/01/WO-Gabe-Nibwaakaa-Entrepreneurship-.png
END:VEVENT
BEGIN:VEVENT
DTSTART;TZID=America/Chicago:20240523T183000
DTEND;TZID=America/Chicago:20240523T183000
DTSTAMP:20260421T021425
CREATED:20240423T202536Z
LAST-MODIFIED:20240423T202536Z
UID:10004089-1716489000-1716489000@aifcmn.org
SUMMARY:AIFC: Waaban Ogimaawag (Tomorrow's Leaders) - Full Moon Ceremony
DESCRIPTION:🌕 AIFC invites you to join us for a Full Moon Ceremony on Thursday\, May 23\, 2024\, at 6:30PM.\n\n\n \n\n\nWho: Relatives who receive their menstrual (moon) cycles\, or have reached menopause; the ceremony is inclusive to Two-Spirit and trans relatives as well!\n\n\n \n\n\nWhere: Belwin Conservancy Savanna Center\, 795 Indian Trail S\, Afton\, MN 55001\n\n\n \n\n\nPlease bring a long skirt\, copper cup\, small bowl\, spoon (extras provided as supplies last)\, hair bundle*\, a watecha bowl (Tupperware\, etc.) to take home leftovers\, and a dish to share if you are able.\n\n\n \n\n\n*Hair Bundle (optional): Hair bundles are not required to participate but may be offered during the ceremony if desired. To make your own\, start collecting loose strands from your brush\, shower\, or clothes!\n\n\n \n\n\nWe are honored to have you join us during this special time as we hold a ceremony for Grandmother Moon!\n\n\n \n\n\nFor more information\, contact Pam Gokey at Pam.Gokey@aifcmn.org\, or (651) 504-2944.\n\n\n \n\n\n🎨: Jessica Gokey (@j_leigh_gokey)
URL:https://aifcmn.org/event/aifc-waaban-ogimaawag-tomorrows-leaders-full-moon-ceremony-6/
LOCATION:Belwin Conservancy Savanna Center\, 795 Indian Trail South\, Afton\, MN\, 55001\, United States
CATEGORIES:AIFC,Youth Services
ATTACH;FMTTYPE=image/png:https://aifcmn.org/wp-content/uploads/2024/04/AIFC-YS-WO-Full-Moon-Ceremony-May-2024.png
END:VEVENT
BEGIN:VEVENT
DTSTART;TZID=America/Chicago:20240529T170000
DTEND;TZID=America/Chicago:20240529T190000
DTSTAMP:20260421T021425
CREATED:20240513T181107Z
LAST-MODIFIED:20240513T181107Z
UID:10004354-1717002000-1717009200@aifcmn.org
SUMMARY:AIFC: Waaban Ogimaawag (Tomorrow's Leaders) - Extended Foster Care Info Meeting
DESCRIPTION:
URL:https://aifcmn.org/event/aifc-waaban-ogimaawag-tomorrows-leaders-extended-foster-care-info-meeting/
LOCATION:American Indian Family Center (AIFC)\, 579 Wells St\, Saint Paul\, MN\, 55130\, United States
CATEGORIES:AIFC,Youth Services
ATTACH;FMTTYPE=image/png:https://aifcmn.org/wp-content/uploads/2024/05/AIFC-YSWO-Extended-Foster-Care-Info-Meeting.png
END:VEVENT
END:VCALENDAR