BEGIN:VCALENDAR
VERSION:2.0
PRODID:-//American Indian Family Center - ECPv6.15.17.1//NONSGML v1.0//EN
CALSCALE:GREGORIAN
METHOD:PUBLISH
X-ORIGINAL-URL:https://aifcmn.org
X-WR-CALDESC:Events for American Indian Family Center
REFRESH-INTERVAL;VALUE=DURATION:PT1H
X-Robots-Tag:noindex
X-PUBLISHED-TTL:PT1H
BEGIN:VTIMEZONE
TZID:America/Chicago
BEGIN:DAYLIGHT
TZOFFSETFROM:-0600
TZOFFSETTO:-0500
TZNAME:CDT
DTSTART:20230312T080000
END:DAYLIGHT
BEGIN:STANDARD
TZOFFSETFROM:-0500
TZOFFSETTO:-0600
TZNAME:CST
DTSTART:20231105T070000
END:STANDARD
BEGIN:DAYLIGHT
TZOFFSETFROM:-0600
TZOFFSETTO:-0500
TZNAME:CDT
DTSTART:20240310T080000
END:DAYLIGHT
BEGIN:STANDARD
TZOFFSETFROM:-0500
TZOFFSETTO:-0600
TZNAME:CST
DTSTART:20241103T070000
END:STANDARD
BEGIN:DAYLIGHT
TZOFFSETFROM:-0600
TZOFFSETTO:-0500
TZNAME:CDT
DTSTART:20250309T080000
END:DAYLIGHT
BEGIN:STANDARD
TZOFFSETFROM:-0500
TZOFFSETTO:-0600
TZNAME:CST
DTSTART:20251102T070000
END:STANDARD
END:VTIMEZONE
BEGIN:VEVENT
DTSTART;TZID=America/Chicago:20240604T160000
DTEND;TZID=America/Chicago:20240604T180000
DTSTAMP:20260421T004406
CREATED:20240226T201442Z
LAST-MODIFIED:20240702T202243Z
UID:10003926-1717516800-1717524000@aifcmn.org
SUMMARY:AIFC: Waaban Ogimaawag (Tomorrow's Leaders) - Gabe-Nibwaakaa: Entrepreneurship
DESCRIPTION:
URL:https://aifcmn.org/event/aifc-waaban-ogimaawag-tomorrows-leaders-gabe-nibwaakaa-entrepreneurship-2/2024-06-04/
LOCATION:American Indian Family Center (AIFC)\, 579 Wells St\, Saint Paul\, MN\, 55130\, United States
CATEGORIES:AIFC,Youth Services
ATTACH;FMTTYPE=image/png:https://aifcmn.org/wp-content/uploads/2024/01/WO-Gabe-Nibwaakaa-Entrepreneurship-.png
END:VEVENT
BEGIN:VEVENT
DTSTART;TZID=America/Chicago:20240608T100000
DTEND;TZID=America/Chicago:20240608T120000
DTSTAMP:20260421T004406
CREATED:20240109T212234Z
LAST-MODIFIED:20240109T212234Z
UID:10003354-1717840800-1717848000@aifcmn.org
SUMMARY:AIFC: Waaban Ogimaawag (Tomorrow's Leaders) - Elder Teachings with Maria Morin McCoy
DESCRIPTION:
URL:https://aifcmn.org/event/aifc-waaban-ogimaawag-tomorrows-leaders-elder-teachings-with-maria-morin-mccoy/2024-06-08/
LOCATION:American Indian Family Center (AIFC)\, 579 Wells St\, Saint Paul\, MN\, 55130\, United States
CATEGORIES:AIFC,Youth Services
ATTACH;FMTTYPE=image/png:https://aifcmn.org/wp-content/uploads/2024/01/WO-Elder-Teachings-with-Maria-Morin-McCoy.png
END:VEVENT
BEGIN:VEVENT
DTSTART;TZID=America/Chicago:20240618T160000
DTEND;TZID=America/Chicago:20240618T180000
DTSTAMP:20260421T004406
CREATED:20240226T201442Z
LAST-MODIFIED:20240702T202243Z
UID:10003927-1718726400-1718733600@aifcmn.org
SUMMARY:AIFC: Waaban Ogimaawag (Tomorrow's Leaders) - Gabe-Nibwaakaa: Entrepreneurship
DESCRIPTION:
URL:https://aifcmn.org/event/aifc-waaban-ogimaawag-tomorrows-leaders-gabe-nibwaakaa-entrepreneurship-2/2024-06-18/
LOCATION:American Indian Family Center (AIFC)\, 579 Wells St\, Saint Paul\, MN\, 55130\, United States
CATEGORIES:AIFC,Youth Services
ATTACH;FMTTYPE=image/png:https://aifcmn.org/wp-content/uploads/2024/01/WO-Gabe-Nibwaakaa-Entrepreneurship-.png
END:VEVENT
BEGIN:VEVENT
DTSTART;TZID=America/Chicago:20240620T183000
DTEND;TZID=America/Chicago:20240620T183000
DTSTAMP:20260421T004406
CREATED:20240611T204729Z
LAST-MODIFIED:20240611T204729Z
UID:10004361-1718908200-1718908200@aifcmn.org
SUMMARY:AIFC: Waaban Ogimaawag (Tomorrow's Leaders) - Full Moon Ceremony + Summer Solstice
DESCRIPTION:AIFC invites you to join us for a Full Moon Ceremony + Summer Solstice Celebration on Thursday\, June 20\, 2024\, at 6:30PM.Who: Relatives who receive their menstrual (moon) cycles\, or have reached menopause; the ceremony is inclusive to Two-Spirit and trans relatives as well!Where: Belwin Conservancy Savanna Center\, 795 Indian Trail S\, Afton\, MN 55001Please bring a long skirt\, copper cup\, small bowl\, spoon (extras provided as supplies last)\, hair bundle*\, a watecha bowl (Tupperware\, etc.) to take home leftovers\, and a dish to share if you are able.*Hair Bundle (optional): Hair bundles are not required to participate but may be offered during the ceremony if desired. To make your own\, start collecting loose strands from your brush\, shower\, or clothes!We are honored to have you join us during this special time as we hold a ceremony for Grandmother Moon!For more information\, contact Pam Gokey at Pam.Gokey@aifcmn.org\, or (651) 504-2944.: Jessica Gokey (IG: @j_leigh_gokey)
URL:https://aifcmn.org/event/aifc-waaban-ogimaawag-tomorrows-leaders-full-moon-ceremony-summer-solstice/
LOCATION:Belwin Conservancy Savanna Center\, 795 Indian Trail South\, Afton\, MN\, 55001\, United States
CATEGORIES:AIFC,Youth Services
ATTACH;FMTTYPE=image/png:https://aifcmn.org/wp-content/uploads/2024/06/CORRECTED-AIFC-YS-WO-Full-Moon-Ceremony-June-2024-Graphic.png
END:VEVENT
END:VCALENDAR