BEGIN:VCALENDAR
VERSION:2.0
PRODID:-//American Indian Family Center - ECPv6.15.17.1//NONSGML v1.0//EN
CALSCALE:GREGORIAN
METHOD:PUBLISH
X-ORIGINAL-URL:https://aifcmn.org
X-WR-CALDESC:Events for American Indian Family Center
REFRESH-INTERVAL;VALUE=DURATION:PT1H
X-Robots-Tag:noindex
X-PUBLISHED-TTL:PT1H
BEGIN:VTIMEZONE
TZID:America/Chicago
BEGIN:DAYLIGHT
TZOFFSETFROM:-0600
TZOFFSETTO:-0500
TZNAME:CDT
DTSTART:20240310T080000
END:DAYLIGHT
BEGIN:STANDARD
TZOFFSETFROM:-0500
TZOFFSETTO:-0600
TZNAME:CST
DTSTART:20241103T070000
END:STANDARD
BEGIN:DAYLIGHT
TZOFFSETFROM:-0600
TZOFFSETTO:-0500
TZNAME:CDT
DTSTART:20250309T080000
END:DAYLIGHT
BEGIN:STANDARD
TZOFFSETFROM:-0500
TZOFFSETTO:-0600
TZNAME:CST
DTSTART:20251102T070000
END:STANDARD
BEGIN:DAYLIGHT
TZOFFSETFROM:-0600
TZOFFSETTO:-0500
TZNAME:CDT
DTSTART:20260308T080000
END:DAYLIGHT
BEGIN:STANDARD
TZOFFSETFROM:-0500
TZOFFSETTO:-0600
TZNAME:CST
DTSTART:20261101T070000
END:STANDARD
END:VTIMEZONE
BEGIN:VEVENT
DTSTART;TZID=America/Chicago:20250201T130000
DTEND;TZID=America/Chicago:20250201T150000
DTSTAMP:20260420T123353
CREATED:20241001T162428Z
LAST-MODIFIED:20250507T194756Z
UID:10004705-1738414800-1738422000@aifcmn.org
SUMMARY:AIFC: Waaban Ogimaawag - Life Skills for Youth
DESCRIPTION:
URL:https://aifcmn.org/event/aifc-waaban-ogimaawag-life-skills-for-youth/2025-02-01/
LOCATION:American Indian Family Center (AIFC)\, 579 Wells St\, Saint Paul\, MN\, 55130\, United States
CATEGORIES:AIFC,Youth Services
ATTACH;FMTTYPE=image/png:https://aifcmn.org/wp-content/uploads/2024/10/WO-YS-Life-Skills-for-Youth-1.png
END:VEVENT
BEGIN:VEVENT
DTSTART;TZID=America/Chicago:20250212T170000
DTEND;TZID=America/Chicago:20250212T170000
DTSTAMP:20260420T123353
CREATED:20250210T173842Z
LAST-MODIFIED:20250210T174030Z
UID:10006242-1739379600-1739379600@aifcmn.org
SUMMARY:AIFC: Waaban Ogimaawag (Tomorrow's Leaders) - Full Moon Ceremony
DESCRIPTION:🌕 AIFC Waaban Ogimaawag (Tomorrow’s Leaders) invites you to a Full Moon Ceremony on Wednesday\, February 12\, 2025\, at 5:00PM. Elder in Residence\, Nelda Goodman (Menominee/Potawatomi Tribe of Wisconsin)\, will lead a bear bundle teaching. \n  \nWho: Relatives who receive their menstrual (moon) cycles or have reached menopause; the ceremony includes Two-Spirit and trans relatives! \n  \nWhere: Belwin Conservancy Savanna Center\, 795 Indian Trail S\, Afton\, MN 55001 \n  \nPlease bring a long skirt\, copper cup\, small bowl\, spoon (extras will be provided as supplies last)\, hair bundle*\, a watecha bowl (Tupperware\, etc.) to take home leftovers\, and a dish to share if you are able. \n  \n*Hair Bundle (optional): Hair bundles are not required to participate but may be offered during the ceremony if desired. To make your own\, start collecting loose strands from your brush\, shower\, or clothes! \n  \nWe are honored to have you join us during this special time as we hold a ceremony for Grandmother Moon! \n  \nFor more information\, contact Pam Gokey at Pam.Gokey@aifcmn.org\, or (651) 504-2944. \n  \n🎨: Jessica Gokey (@j_leigh_gokey)
URL:https://aifcmn.org/event/aifc-waaban-ogimaawag-tomorrows-leaders-full-moon-ceremony-14/
LOCATION:Belwin Conservancy Savanna Center\, 795 Indian Trail South\, Afton\, MN\, 55001\, United States
CATEGORIES:AIFC,Youth Services
ATTACH;FMTTYPE=image/png:https://aifcmn.org/wp-content/uploads/2025/02/AIFC-YS-WO-Full-Moon-Ceremony-February-2025.png
END:VEVENT
BEGIN:VEVENT
DTSTART;TZID=America/Chicago:20250215T130000
DTEND;TZID=America/Chicago:20250215T150000
DTSTAMP:20260420T123353
CREATED:20241001T162428Z
LAST-MODIFIED:20250507T194756Z
UID:10004706-1739624400-1739631600@aifcmn.org
SUMMARY:AIFC: Waaban Ogimaawag - Life Skills for Youth
DESCRIPTION:
URL:https://aifcmn.org/event/aifc-waaban-ogimaawag-life-skills-for-youth/2025-02-15/
LOCATION:American Indian Family Center (AIFC)\, 579 Wells St\, Saint Paul\, MN\, 55130\, United States
CATEGORIES:AIFC,Youth Services
ATTACH;FMTTYPE=image/png:https://aifcmn.org/wp-content/uploads/2024/10/WO-YS-Life-Skills-for-Youth-1.png
END:VEVENT
END:VCALENDAR