BEGIN:VCALENDAR
VERSION:2.0
PRODID:-//American Indian Family Center - ECPv6.15.17.1//NONSGML v1.0//EN
CALSCALE:GREGORIAN
METHOD:PUBLISH
X-WR-CALNAME:American Indian Family Center
X-ORIGINAL-URL:https://aifcmn.org
X-WR-CALDESC:Events for American Indian Family Center
REFRESH-INTERVAL;VALUE=DURATION:PT1H
X-Robots-Tag:noindex
X-PUBLISHED-TTL:PT1H
BEGIN:VTIMEZONE
TZID:America/Chicago
BEGIN:DAYLIGHT
TZOFFSETFROM:-0600
TZOFFSETTO:-0500
TZNAME:CDT
DTSTART:20240310T080000
END:DAYLIGHT
BEGIN:STANDARD
TZOFFSETFROM:-0500
TZOFFSETTO:-0600
TZNAME:CST
DTSTART:20241103T070000
END:STANDARD
BEGIN:DAYLIGHT
TZOFFSETFROM:-0600
TZOFFSETTO:-0500
TZNAME:CDT
DTSTART:20250309T080000
END:DAYLIGHT
BEGIN:STANDARD
TZOFFSETFROM:-0500
TZOFFSETTO:-0600
TZNAME:CST
DTSTART:20251102T070000
END:STANDARD
BEGIN:DAYLIGHT
TZOFFSETFROM:-0600
TZOFFSETTO:-0500
TZNAME:CDT
DTSTART:20260308T080000
END:DAYLIGHT
BEGIN:STANDARD
TZOFFSETFROM:-0500
TZOFFSETTO:-0600
TZNAME:CST
DTSTART:20261101T070000
END:STANDARD
END:VTIMEZONE
BEGIN:VEVENT
DTSTART;TZID=America/Chicago:20250510T100000
DTEND;TZID=America/Chicago:20250510T120000
DTSTAMP:20260420T075718
CREATED:20250507T194231Z
LAST-MODIFIED:20250508T211223Z
UID:10006664-1746871200-1746878400@aifcmn.org
SUMMARY:AIFC: Waaban Ogimaawag - Life Skills for Youth: Cooking Mother's Day Breakfast
DESCRIPTION:Mother’s Day is just around the corner! Come in\, join us\, and learn how to make a nice breakfast for your mom or grandma for this upcoming Mother’s Day (Sunday\, May 11\, 2025). \nTake some skills with you to make a delicious breakfast! \nAlso\, share the love and make a beautiful Mother’s Day card. \nThis will be our last Life Skills for Youth class for the spring. We will be off for the summer and start up again in the fall. \nYouth who participate will also receive a waffle iron. We also have bus and Lyft cards for those who need transportation. \nPlease RSVP to Gina Carlson\, AIFC’s Youth Empowerment Specialist\, at Gina.Carlson@aifcmn.org or (651) 505-6827 so we know how many supplies to have ready. \nWe hope to see your Youth there! \n***This workshop is geared for Youth ages 14-24***
URL:https://aifcmn.org/event/aifc-waaban-ogimaawag-life-skills-for-youth-6-2/
LOCATION:American Indian Family Center (AIFC)\, 579 Wells St\, Saint Paul\, MN\, 55130\, United States
CATEGORIES:AIFC,Youth Services
ATTACH;FMTTYPE=image/png:https://aifcmn.org/wp-content/uploads/2025/05/AIFC-WOYS-Life-Skills-for-Youth-Cooking-Mothers-Day-Breakfast-05.10.2025.png
END:VEVENT
BEGIN:VEVENT
DTSTART;TZID=America/Chicago:20250512T190000
DTEND;TZID=America/Chicago:20250512T190000
DTSTAMP:20260420T075718
CREATED:20250507T203401Z
LAST-MODIFIED:20250507T203401Z
UID:10006827-1747076400-1747076400@aifcmn.org
SUMMARY:AIFC: Waaban Ogimaawag (Tomorrow's Leaders) - Full Moon Ceremony
DESCRIPTION:🌕 AIFC Waaban Ogimaawag (Tomorrow’s Leaders) invites you to a Full Moon Ceremony on Monday\, May 12\, 2025\, at 7:00PM. \n  \nWho: Relatives who receive their menstrual (moon) cycles or have reached menopause; the ceremony includes Two-Spirit and trans relatives! \n  \nWhere: Belwin Conservancy Savanna Center\, 795 Indian Trail S\, Afton\, MN 55001 \n  \nPlease bring a long skirt\, a copper cup\, a small bowl\, a spoon (extras will be provided as supplies last)\, a hair bundle*\, a watecha bowl (Tupperware\, etc.) to take home leftovers\, and a dish to share if you can. \n  \n*Hair Bundle (optional): Hair bundles are not required to participate but may be offered during the ceremony if desired. To make your own\, start collecting loose strands from your brush\, shower\, or clothes! \n  \nWe are honored to have you join us during this special time as we hold a ceremony for Grandmother Moon! \n  \nFor more information\, contact Pam Gokey at Pam.Gokey@aifcmn.org\, or (651) 504-2944. \n  \n🎨: Jessica Gokey (@j_leigh_gokey)
URL:https://aifcmn.org/event/aifc-waaban-ogimaawag-tomorrows-leaders-full-moon-ceremony-17/
LOCATION:Belwin Conservancy Savanna Center\, 795 Indian Trail South\, Afton\, MN\, 55001\, United States
CATEGORIES:AIFC,Youth Services
ATTACH;FMTTYPE=image/png:https://aifcmn.org/wp-content/uploads/2025/05/AIFC-YS-WO-Full-Moon-Ceremony-May-2025.png
END:VEVENT
END:VCALENDAR