BEGIN:VCALENDAR
VERSION:2.0
PRODID:-//American Indian Family Center - ECPv6.15.17.1//NONSGML v1.0//EN
CALSCALE:GREGORIAN
METHOD:PUBLISH
X-ORIGINAL-URL:https://aifcmn.org
X-WR-CALDESC:Events for American Indian Family Center
REFRESH-INTERVAL;VALUE=DURATION:PT1H
X-Robots-Tag:noindex
X-PUBLISHED-TTL:PT1H
BEGIN:VTIMEZONE
TZID:America/Chicago
BEGIN:DAYLIGHT
TZOFFSETFROM:-0600
TZOFFSETTO:-0500
TZNAME:CDT
DTSTART:20220313T080000
END:DAYLIGHT
BEGIN:STANDARD
TZOFFSETFROM:-0500
TZOFFSETTO:-0600
TZNAME:CST
DTSTART:20221106T070000
END:STANDARD
BEGIN:DAYLIGHT
TZOFFSETFROM:-0600
TZOFFSETTO:-0500
TZNAME:CDT
DTSTART:20230312T080000
END:DAYLIGHT
BEGIN:STANDARD
TZOFFSETFROM:-0500
TZOFFSETTO:-0600
TZNAME:CST
DTSTART:20231105T070000
END:STANDARD
BEGIN:DAYLIGHT
TZOFFSETFROM:-0600
TZOFFSETTO:-0500
TZNAME:CDT
DTSTART:20240310T080000
END:DAYLIGHT
BEGIN:STANDARD
TZOFFSETFROM:-0500
TZOFFSETTO:-0600
TZNAME:CST
DTSTART:20241103T070000
END:STANDARD
END:VTIMEZONE
BEGIN:VEVENT
DTSTART;TZID=America/Chicago:20230501T093000
DTEND;TZID=America/Chicago:20230501T093000
DTSTAMP:20260424T011016
CREATED:20230427T205912Z
LAST-MODIFIED:20230427T205912Z
UID:10002109-1682933400-1682933400@aifcmn.org
SUMMARY:MUID - American Indian Month Kick-Off Parade
DESCRIPTION:
URL:https://aifcmn.org/event/muid-american-indian-month-kick-off-parade/
LOCATION:Cedar Avenue Field Park\, 2500 Cedar Avenue\, Minneapolis\, MN\, United States
CATEGORIES:Celebrate American Indian Month in Minnesota
ATTACH;FMTTYPE=image/png:https://aifcmn.org/wp-content/uploads/2023/04/MUID-AIM-Kick-off-Parade.png
END:VEVENT
BEGIN:VEVENT
DTSTART;TZID=America/Chicago:20230505T120000
DTEND;TZID=America/Chicago:20230505T150000
DTSTAMP:20260424T011016
CREATED:20230427T211637Z
LAST-MODIFIED:20230427T211637Z
UID:10002166-1683288000-1683298800@aifcmn.org
SUMMARY:National MMIWR Day Event
DESCRIPTION:
URL:https://aifcmn.org/event/national-mmiwr-day-event/
LOCATION:Minnesota State Capitol\, 75 Rev Dr Martin Luther King Jr. Boulevard\, Saint Paul\, MN\, 55155\, United States
CATEGORIES:Celebrate American Indian Month in Minnesota,Community Events
ATTACH;FMTTYPE=image/jpeg:https://aifcmn.org/wp-content/uploads/2023/04/National-MMIWR-Day-Event.jpg
ORGANIZER;CN="Indian Health Board (IHB)":MAILTO:info@indianhealthboard.com
END:VEVENT
BEGIN:VEVENT
DTSTART;TZID=America/Chicago:20230508T100000
DTEND;TZID=America/Chicago:20230508T130000
DTSTAMP:20260424T011016
CREATED:20230427T205350Z
LAST-MODIFIED:20230427T205350Z
UID:10002107-1683540000-1683550800@aifcmn.org
SUMMARY:American Indian OIC - Founders' Day Career Fair
DESCRIPTION:
URL:https://aifcmn.org/event/american-indian-oic-founders-day-career-fair/
LOCATION:American Indian OIC (AIOIC)\, 1845 East Franklin Avenue\, Minneapolis\, MN\, 55404\, United States
CATEGORIES:Celebrate American Indian Month in Minnesota
ATTACH;FMTTYPE=image/jpeg:https://aifcmn.org/wp-content/uploads/2023/04/AIOIC-Founders-Day-Career-Fair.jpg
ORGANIZER;CN="American Indian OIC (AIOIC)":MAILTO:info@aioic.org
END:VEVENT
BEGIN:VEVENT
DTSTART;TZID=America/Chicago:20230513T110000
DTEND;TZID=America/Chicago:20230513T150000
DTSTAMP:20260424T011016
CREATED:20230427T212528Z
LAST-MODIFIED:20230427T212528Z
UID:10002168-1683975600-1683990000@aifcmn.org
SUMMARY:Phillips Spring Welcoming & Food Sovereignty Celebration
DESCRIPTION:
URL:https://aifcmn.org/event/phillips-spring-welcoming-food-sovereignty-celebration/
LOCATION:2800 Block of 18th Avenue and Four Sisters Farm\, Minneapolis\, MN\, United States
CATEGORIES:Celebrate American Indian Month in Minnesota,Community Events
ATTACH;FMTTYPE=image/jpeg:https://aifcmn.org/wp-content/uploads/2023/04/Phillips-Spring-Welcoming-Spring-Sovereignty-Celebration.jpg
END:VEVENT
BEGIN:VEVENT
DTSTART;TZID=America/Chicago:20230519T120000
DTEND;TZID=America/Chicago:20230519T150000
DTSTAMP:20260424T011016
CREATED:20230427T205137Z
LAST-MODIFIED:20230427T205137Z
UID:10002106-1684497600-1684508400@aifcmn.org
SUMMARY:Indian Health Board - Indian Month Celebration
DESCRIPTION:
URL:https://aifcmn.org/event/indian-health-board-indian-month-celebration/
LOCATION:Indian Health Board (IHB)\, 1314 East 24th Street\, Minneapolis\, MN\, 55404\, United States
CATEGORIES:Celebrate American Indian Month in Minnesota
ATTACH;FMTTYPE=image/jpeg:https://aifcmn.org/wp-content/uploads/2023/04/IHB-Indian-Month-Celebration.jpg
ORGANIZER;CN="Indian Health Board (IHB)":MAILTO:info@indianhealthboard.com
END:VEVENT
END:VCALENDAR