BEGIN:VCALENDAR
VERSION:2.0
PRODID:-//American Indian Family Center - ECPv6.15.17.1//NONSGML v1.0//EN
CALSCALE:GREGORIAN
METHOD:PUBLISH
X-WR-CALNAME:American Indian Family Center
X-ORIGINAL-URL:https://aifcmn.org
X-WR-CALDESC:Events for American Indian Family Center
REFRESH-INTERVAL;VALUE=DURATION:PT1H
X-Robots-Tag:noindex
X-PUBLISHED-TTL:PT1H
BEGIN:VTIMEZONE
TZID:America/Chicago
BEGIN:DAYLIGHT
TZOFFSETFROM:-0600
TZOFFSETTO:-0500
TZNAME:CDT
DTSTART:20220313T080000
END:DAYLIGHT
BEGIN:STANDARD
TZOFFSETFROM:-0500
TZOFFSETTO:-0600
TZNAME:CST
DTSTART:20221106T070000
END:STANDARD
BEGIN:DAYLIGHT
TZOFFSETFROM:-0600
TZOFFSETTO:-0500
TZNAME:CDT
DTSTART:20230312T080000
END:DAYLIGHT
BEGIN:STANDARD
TZOFFSETFROM:-0500
TZOFFSETTO:-0600
TZNAME:CST
DTSTART:20231105T070000
END:STANDARD
BEGIN:DAYLIGHT
TZOFFSETFROM:-0600
TZOFFSETTO:-0500
TZNAME:CDT
DTSTART:20240310T080000
END:DAYLIGHT
BEGIN:STANDARD
TZOFFSETFROM:-0500
TZOFFSETTO:-0600
TZNAME:CST
DTSTART:20241103T070000
END:STANDARD
END:VTIMEZONE
BEGIN:VEVENT
DTSTART;TZID=America/Chicago:20230331T183000
DTEND;TZID=America/Chicago:20230331T183000
DTSTAMP:20260421T051041
CREATED:20230330T172313Z
LAST-MODIFIED:20230330T172313Z
UID:10002062-1680287400-1680287400@aifcmn.org
SUMMARY:Birchbark Books & Native Arts - Saints of the Household's Book Launch Party
DESCRIPTION:
URL:https://aifcmn.org/event/birchbark-books-native-arts-saints-of-the-households-book-launch-party/
LOCATION:Open Book Performance Hall\, 1011 S Washington Ave\, Minneapolis\, MN\, 55415\, United States
CATEGORIES:Community Events
ATTACH;FMTTYPE=image/png:https://aifcmn.org/wp-content/uploads/2023/03/Birchbark-Books-and-Native-Arts-Saints-of-the-Households-Book-Launch-Party.png
END:VEVENT
BEGIN:VEVENT
DTSTART;TZID=America/Chicago:20230325T110000
DTEND;TZID=America/Chicago:20230325T110000
DTSTAMP:20260421T051041
CREATED:20230308T204310Z
LAST-MODIFIED:20230308T204310Z
UID:10002031-1679742000-1679742000@aifcmn.org
SUMMARY:Birchbark Books - Meet Carole Lindstrom and Steph Littlebird to Celebrate "My Powerful Hair"
DESCRIPTION:
URL:https://aifcmn.org/event/birchbark-books-meet-carole-lindstrom-and-steph-littlebird-to-celebrate-my-powerful-hair/
LOCATION:Birchbark Lynx\, 1629 Hennepin Avenue #275\, Minneapolis\, MN\, 55403\, United States
CATEGORIES:Community Events
ATTACH;FMTTYPE=image/jpeg:https://aifcmn.org/wp-content/uploads/2023/03/Birchbark-Books-My-Powerful-Hair.jpg
END:VEVENT
BEGIN:VEVENT
DTSTART;TZID=America/Chicago:20230324T110000
DTEND;TZID=America/Chicago:20230324T120000
DTSTAMP:20260421T051041
CREATED:20230317T210813Z
LAST-MODIFIED:20230317T210813Z
UID:10002058-1679655600-1679659200@aifcmn.org
SUMMARY:AIFC & Birchbark Books - Book Reading & Author Visit of "My Powerful Hair"
DESCRIPTION:
URL:https://aifcmn.org/event/aifc-birchbark-books-book-reading-author-visit-of-my-powerful-hair/
LOCATION:George Latimer Central Library\, 90 W 4th Street\, Saint Paul\, MN\, 55102\, United States
CATEGORIES:AIFC,Community Events,Family Services
ATTACH;FMTTYPE=image/png:https://aifcmn.org/wp-content/uploads/2023/03/Join-AIFC-and-Birchbark-Books-1.png
END:VEVENT
END:VCALENDAR