BEGIN:VCALENDAR
VERSION:2.0
PRODID:-//American Indian Family Center - ECPv6.15.17.1//NONSGML v1.0//EN
CALSCALE:GREGORIAN
METHOD:PUBLISH
X-WR-CALNAME:American Indian Family Center
X-ORIGINAL-URL:https://aifcmn.org
X-WR-CALDESC:Events for American Indian Family Center
REFRESH-INTERVAL;VALUE=DURATION:PT1H
X-Robots-Tag:noindex
X-PUBLISHED-TTL:PT1H
BEGIN:VTIMEZONE
TZID:America/Chicago
BEGIN:DAYLIGHT
TZOFFSETFROM:-0600
TZOFFSETTO:-0500
TZNAME:CDT
DTSTART:20210314T080000
END:DAYLIGHT
BEGIN:STANDARD
TZOFFSETFROM:-0500
TZOFFSETTO:-0600
TZNAME:CST
DTSTART:20211107T070000
END:STANDARD
BEGIN:DAYLIGHT
TZOFFSETFROM:-0600
TZOFFSETTO:-0500
TZNAME:CDT
DTSTART:20220313T080000
END:DAYLIGHT
BEGIN:STANDARD
TZOFFSETFROM:-0500
TZOFFSETTO:-0600
TZNAME:CST
DTSTART:20221106T070000
END:STANDARD
BEGIN:DAYLIGHT
TZOFFSETFROM:-0600
TZOFFSETTO:-0500
TZNAME:CDT
DTSTART:20230312T080000
END:DAYLIGHT
BEGIN:STANDARD
TZOFFSETFROM:-0500
TZOFFSETTO:-0600
TZNAME:CST
DTSTART:20231105T070000
END:STANDARD
END:VTIMEZONE
BEGIN:VEVENT
DTSTART;TZID=America/Chicago:20221027T180000
DTEND;TZID=America/Chicago:20221027T200000
DTSTAMP:20260423T094410
CREATED:20221006T220442Z
LAST-MODIFIED:20221019T163948Z
UID:10001339-1666893600-1666900800@aifcmn.org
SUMMARY:[Hybrid Event] ICWA Under Attack Community Discussion
DESCRIPTION:Come learn about the case before the United States Supreme Court challenging the Indian Child Welfare Act (ICWA). Also learn about the efforts here in Minnesota to strengthen our state Minnesota Indian Family Preservation Act (MIFPA). \nThe event will be held in person at the Minnesota Indian Women’s Resource Center (2300 S 15th Ave\, Minneapolis\, MN 55404) and virtually on Zoom and Facebook Live. \nA meal will be served at 5:30 pm for those attending in person at the Minnesota Indian Women’s Resource Center. \nHosted by the Metropolitan Urban Indian Directors Family Preservation Subcommittee. \nRegister here: https://www.eventbrite.com/e/icwa-under-attack-free-hybrid-event-tickets-409907864457?aff=ebdssbdestsearch
URL:https://aifcmn.org/event/icwa-under-attack-community-discussion/
LOCATION:Minnesota Indian Women’s Resource Center (MIWRC)\, 2300 15th Avenue South\, Minneapolis\, MN\, United States
CATEGORIES:Community Events
ATTACH;FMTTYPE=image/jpeg:https://aifcmn.org/wp-content/uploads/2022/10/ICWA-Under-Attack-Community-Discussion.jpg
END:VEVENT
END:VCALENDAR