BEGIN:VCALENDAR
VERSION:2.0
PRODID:-//American Indian Family Center - ECPv6.15.17.1//NONSGML v1.0//EN
CALSCALE:GREGORIAN
METHOD:PUBLISH
X-ORIGINAL-URL:https://aifcmn.org
X-WR-CALDESC:Events for American Indian Family Center
REFRESH-INTERVAL;VALUE=DURATION:PT1H
X-Robots-Tag:noindex
X-PUBLISHED-TTL:PT1H
BEGIN:VTIMEZONE
TZID:America/Chicago
BEGIN:DAYLIGHT
TZOFFSETFROM:-0600
TZOFFSETTO:-0500
TZNAME:CDT
DTSTART:20230312T080000
END:DAYLIGHT
BEGIN:STANDARD
TZOFFSETFROM:-0500
TZOFFSETTO:-0600
TZNAME:CST
DTSTART:20231105T070000
END:STANDARD
BEGIN:DAYLIGHT
TZOFFSETFROM:-0600
TZOFFSETTO:-0500
TZNAME:CDT
DTSTART:20240310T080000
END:DAYLIGHT
BEGIN:STANDARD
TZOFFSETFROM:-0500
TZOFFSETTO:-0600
TZNAME:CST
DTSTART:20241103T070000
END:STANDARD
BEGIN:DAYLIGHT
TZOFFSETFROM:-0600
TZOFFSETTO:-0500
TZNAME:CDT
DTSTART:20250309T080000
END:DAYLIGHT
BEGIN:STANDARD
TZOFFSETFROM:-0500
TZOFFSETTO:-0600
TZNAME:CST
DTSTART:20251102T070000
END:STANDARD
END:VTIMEZONE
BEGIN:VEVENT
DTSTART;TZID=America/Chicago:20240214T110000
DTEND;TZID=America/Chicago:20240214T110000
DTSTAMP:20260420T092058
CREATED:20240123T203042Z
LAST-MODIFIED:20240123T203042Z
UID:10003513-1707908400-1707908400@aifcmn.org
SUMMARY:MMIWR 2024: Missing and Murdered Indigenous Relatives March
DESCRIPTION:
URL:https://aifcmn.org/event/mmiwr-2024-missing-and-murdered-indigenous-relatives-march/
LOCATION:East Phillips Community and Cultural Center\, 2307 17th Avenue South\, Minneapolis\, MN\, United States
CATEGORIES:Community Events
ATTACH;FMTTYPE=image/jpeg:https://aifcmn.org/wp-content/uploads/2024/01/mmiw-walk.jpg
END:VEVENT
END:VCALENDAR