BEGIN:VCALENDAR
VERSION:2.0
PRODID:-//American Indian Family Center - ECPv6.15.17.1//NONSGML v1.0//EN
CALSCALE:GREGORIAN
METHOD:PUBLISH
X-ORIGINAL-URL:https://aifcmn.org
X-WR-CALDESC:Events for American Indian Family Center
REFRESH-INTERVAL;VALUE=DURATION:PT1H
X-Robots-Tag:noindex
X-PUBLISHED-TTL:PT1H
BEGIN:VTIMEZONE
TZID:America/Chicago
BEGIN:DAYLIGHT
TZOFFSETFROM:-0600
TZOFFSETTO:-0500
TZNAME:CDT
DTSTART:20210314T080000
END:DAYLIGHT
BEGIN:STANDARD
TZOFFSETFROM:-0500
TZOFFSETTO:-0600
TZNAME:CST
DTSTART:20211107T070000
END:STANDARD
BEGIN:DAYLIGHT
TZOFFSETFROM:-0600
TZOFFSETTO:-0500
TZNAME:CDT
DTSTART:20220313T080000
END:DAYLIGHT
BEGIN:STANDARD
TZOFFSETFROM:-0500
TZOFFSETTO:-0600
TZNAME:CST
DTSTART:20221106T070000
END:STANDARD
BEGIN:DAYLIGHT
TZOFFSETFROM:-0600
TZOFFSETTO:-0500
TZNAME:CDT
DTSTART:20230312T080000
END:DAYLIGHT
BEGIN:STANDARD
TZOFFSETFROM:-0500
TZOFFSETTO:-0600
TZNAME:CST
DTSTART:20231105T070000
END:STANDARD
BEGIN:DAYLIGHT
TZOFFSETFROM:-0600
TZOFFSETTO:-0500
TZNAME:CDT
DTSTART:20240310T080000
END:DAYLIGHT
BEGIN:STANDARD
TZOFFSETFROM:-0500
TZOFFSETTO:-0600
TZNAME:CST
DTSTART:20241103T070000
END:STANDARD
BEGIN:DAYLIGHT
TZOFFSETFROM:-0600
TZOFFSETTO:-0500
TZNAME:CDT
DTSTART:20250309T080000
END:DAYLIGHT
BEGIN:STANDARD
TZOFFSETFROM:-0500
TZOFFSETTO:-0600
TZNAME:CST
DTSTART:20251102T070000
END:STANDARD
END:VTIMEZONE
BEGIN:VEVENT
DTSTART;TZID=America/Chicago:20240214T110000
DTEND;TZID=America/Chicago:20240214T110000
DTSTAMP:20260420T092942
CREATED:20240123T203042Z
LAST-MODIFIED:20240123T203042Z
UID:10003513-1707908400-1707908400@aifcmn.org
SUMMARY:MMIWR 2024: Missing and Murdered Indigenous Relatives March
DESCRIPTION:
URL:https://aifcmn.org/event/mmiwr-2024-missing-and-murdered-indigenous-relatives-march/
LOCATION:East Phillips Community and Cultural Center\, 2307 17th Avenue South\, Minneapolis\, MN\, United States
CATEGORIES:Community Events
ATTACH;FMTTYPE=image/jpeg:https://aifcmn.org/wp-content/uploads/2024/01/mmiw-walk.jpg
END:VEVENT
BEGIN:VEVENT
DTSTART;TZID=America/Chicago:20230513T110000
DTEND;TZID=America/Chicago:20230513T150000
DTSTAMP:20260420T092942
CREATED:20230427T212528Z
LAST-MODIFIED:20230427T212528Z
UID:10002168-1683975600-1683990000@aifcmn.org
SUMMARY:Phillips Spring Welcoming & Food Sovereignty Celebration
DESCRIPTION:
URL:https://aifcmn.org/event/phillips-spring-welcoming-food-sovereignty-celebration/
LOCATION:2800 Block of 18th Avenue and Four Sisters Farm\, Minneapolis\, MN\, United States
CATEGORIES:Celebrate American Indian Month in Minnesota,Community Events
ATTACH;FMTTYPE=image/jpeg:https://aifcmn.org/wp-content/uploads/2023/04/Phillips-Spring-Welcoming-Spring-Sovereignty-Celebration.jpg
END:VEVENT
BEGIN:VEVENT
DTSTART;TZID=America/Chicago:20230214T110000
DTEND;TZID=America/Chicago:20230214T110000
DTSTAMP:20260420T092942
CREATED:20230203T162617Z
LAST-MODIFIED:20230203T162617Z
UID:10001916-1676372400-1676372400@aifcmn.org
SUMMARY:MMIWR 2023: Missing & Murdered Indigenous Relatives March
DESCRIPTION:
URL:https://aifcmn.org/event/mmiwr-2023-missing-murdered-indigenous-relatives-march/
LOCATION:East Phillips Community and Cultural Center\, 2307 17th Avenue South\, Minneapolis\, MN\, United States
CATEGORIES:Community Events
ATTACH;FMTTYPE=image/jpeg:https://aifcmn.org/wp-content/uploads/2023/02/MMIWR-2023-March.jpg
END:VEVENT
BEGIN:VEVENT
DTSTART;TZID=America/Chicago:20220524T113000
DTEND;TZID=America/Chicago:20220524T143000
DTSTAMP:20260420T092942
CREATED:20220524T155931Z
LAST-MODIFIED:20220524T155931Z
UID:10001181-1653391800-1653402600@aifcmn.org
SUMMARY:AICDC\, NACDI\, & Pow Wow Grounds - Open House
DESCRIPTION:
URL:https://aifcmn.org/event/aicdc-nacdi-pow-wow-grounds-open-house/
LOCATION:Pow Wow Grounds\, 1414 East Franklin Avenue\, Minneapolis\, MN\, United States
CATEGORIES:Celebrate American Indian Month in Minnesota
ATTACH;FMTTYPE=image/jpeg:https://aifcmn.org/wp-content/uploads/2022/05/NACDI.jpg
END:VEVENT
BEGIN:VEVENT
DTSTART;TZID=America/Chicago:20220502T100000
DTEND;TZID=America/Chicago:20220502T120000
DTSTAMP:20260420T092942
CREATED:20220426T165218Z
LAST-MODIFIED:20220426T165218Z
UID:10001142-1651485600-1651492800@aifcmn.org
SUMMARY:Native American Community Development Institute (NACDI) - Community Healing and Tree Planting
DESCRIPTION:The Native American Community Development Institute (NACDI) is hosting a community healing and engagement event at Four Sisters Farm\, a new Indigenous-led urban farm and education space. \n\nMonday\, May 2\, 10 a.m. – noon\nFour Sisters Farm\, East 29th Street between 17th and 18th Avenue South\n\nEvent activities\n\nParticipate in a blessing ceremony\nMeet artist Graci Horne and share ideas for public art on the site\nMeet the farm’s new agriculture coordinator\nHelp plant trees – demonstration and materials provided by Hennepin County\n\nAbout Four Sisters Farm\nHennepin County and the Native American Community Development Institute (NACDI) are partnering to transform two vacant lots near the Midtown Greenway into Four Sisters Farm. \nNACDI will operate the farm to provide access to fresh healthy foods and a learning environment for indigenous farming\, medicine\, and lifeways. \n\n\n\nLearn more about the project.
URL:https://aifcmn.org/event/native-american-community-development-institute-nacdi-community-healing-and-tree-planting/
LOCATION:Four Sisters Farm\, East 29th Street\, Minneapolis\, MN\, United States
CATEGORIES:Celebrate American Indian Month in Minnesota
END:VEVENT
END:VCALENDAR