BEGIN:VCALENDAR
VERSION:2.0
PRODID:-//American Indian Family Center - ECPv6.15.17.1//NONSGML v1.0//EN
CALSCALE:GREGORIAN
METHOD:PUBLISH
X-ORIGINAL-URL:https://aifcmn.org
X-WR-CALDESC:Events for American Indian Family Center
REFRESH-INTERVAL;VALUE=DURATION:PT1H
X-Robots-Tag:noindex
X-PUBLISHED-TTL:PT1H
BEGIN:VTIMEZONE
TZID:America/Chicago
BEGIN:DAYLIGHT
TZOFFSETFROM:-0600
TZOFFSETTO:-0500
TZNAME:CDT
DTSTART:20210314T080000
END:DAYLIGHT
BEGIN:STANDARD
TZOFFSETFROM:-0500
TZOFFSETTO:-0600
TZNAME:CST
DTSTART:20211107T070000
END:STANDARD
BEGIN:DAYLIGHT
TZOFFSETFROM:-0600
TZOFFSETTO:-0500
TZNAME:CDT
DTSTART:20220313T080000
END:DAYLIGHT
BEGIN:STANDARD
TZOFFSETFROM:-0500
TZOFFSETTO:-0600
TZNAME:CST
DTSTART:20221106T070000
END:STANDARD
BEGIN:DAYLIGHT
TZOFFSETFROM:-0600
TZOFFSETTO:-0500
TZNAME:CDT
DTSTART:20230312T080000
END:DAYLIGHT
BEGIN:STANDARD
TZOFFSETFROM:-0500
TZOFFSETTO:-0600
TZNAME:CST
DTSTART:20231105T070000
END:STANDARD
BEGIN:DAYLIGHT
TZOFFSETFROM:-0600
TZOFFSETTO:-0500
TZNAME:CDT
DTSTART:20240310T080000
END:DAYLIGHT
BEGIN:STANDARD
TZOFFSETFROM:-0500
TZOFFSETTO:-0600
TZNAME:CST
DTSTART:20241103T070000
END:STANDARD
END:VTIMEZONE
BEGIN:VEVENT
DTSTART;TZID=America/Chicago:20230218T190000
DTEND;TZID=America/Chicago:20230218T190000
DTSTAMP:20260421T021434
CREATED:20230126T194518Z
LAST-MODIFIED:20230126T194518Z
UID:10001902-1676746800-1676746800@aifcmn.org
SUMMARY:Prairie Island Indian Community - Waniyetu Wacipi (Winter Wacipi)
DESCRIPTION:The Prairie Island Indian Community welcomes you to learn about Native American history and experience traditions at their Winter Wacipi in the Island Event Center February 17-19. Grand Entry performances will begin the celebration starting on Friday\, February 17 at 7PM\, Saturday\, February 18 at 1PM and 7PM\, and Sunday\, February 19 at 1PM. Admission to the Wacipi is free and open to all ages. \nFor more information visit prairieisland.org or facebook.com/piicwacipipowwow
URL:https://aifcmn.org/event/prairie-island-indian-community-waniyetu-wacipi-winter-wacipi/2023-02-18/2/
LOCATION:Treasure Island Resort & Casino Island Event Center\, 5734 Sturgeon Lake Road\, Welch\, MN\, 55089\, United States
CATEGORIES:Community Events
ATTACH;FMTTYPE=image/jpeg:https://aifcmn.org/wp-content/uploads/2023/01/Prairie-Island-Indian-Community-Winter-Wacipi.jpg
END:VEVENT
BEGIN:VEVENT
DTSTART;TZID=America/Chicago:20230218T130000
DTEND;TZID=America/Chicago:20230218T130000
DTSTAMP:20260421T021434
CREATED:20230126T194518Z
LAST-MODIFIED:20230126T194518Z
UID:10001901-1676725200-1676725200@aifcmn.org
SUMMARY:Prairie Island Indian Community - Waniyetu Wacipi (Winter Wacipi)
DESCRIPTION:The Prairie Island Indian Community welcomes you to learn about Native American history and experience traditions at their Winter Wacipi in the Island Event Center February 17-19. Grand Entry performances will begin the celebration starting on Friday\, February 17 at 7PM\, Saturday\, February 18 at 1PM and 7PM\, and Sunday\, February 19 at 1PM. Admission to the Wacipi is free and open to all ages. \nFor more information visit prairieisland.org or facebook.com/piicwacipipowwow
URL:https://aifcmn.org/event/prairie-island-indian-community-waniyetu-wacipi-winter-wacipi/2023-02-18/1/
LOCATION:Treasure Island Resort & Casino Island Event Center\, 5734 Sturgeon Lake Road\, Welch\, MN\, 55089\, United States
CATEGORIES:Community Events
ATTACH;FMTTYPE=image/jpeg:https://aifcmn.org/wp-content/uploads/2023/01/Prairie-Island-Indian-Community-Winter-Wacipi.jpg
END:VEVENT
BEGIN:VEVENT
DTSTART;TZID=America/Chicago:20230217T190000
DTEND;TZID=America/Chicago:20230217T190000
DTSTAMP:20260421T021434
CREATED:20230126T194518Z
LAST-MODIFIED:20230126T194518Z
UID:10001900-1676660400-1676660400@aifcmn.org
SUMMARY:Prairie Island Indian Community - Waniyetu Wacipi (Winter Wacipi)
DESCRIPTION:The Prairie Island Indian Community welcomes you to learn about Native American history and experience traditions at their Winter Wacipi in the Island Event Center February 17-19. Grand Entry performances will begin the celebration starting on Friday\, February 17 at 7PM\, Saturday\, February 18 at 1PM and 7PM\, and Sunday\, February 19 at 1PM. Admission to the Wacipi is free and open to all ages. \nFor more information visit prairieisland.org or facebook.com/piicwacipipowwow
URL:https://aifcmn.org/event/prairie-island-indian-community-waniyetu-wacipi-winter-wacipi/2023-02-17/
LOCATION:Treasure Island Resort & Casino Island Event Center\, 5734 Sturgeon Lake Road\, Welch\, MN\, 55089\, United States
CATEGORIES:Community Events
ATTACH;FMTTYPE=image/jpeg:https://aifcmn.org/wp-content/uploads/2023/01/Prairie-Island-Indian-Community-Winter-Wacipi.jpg
END:VEVENT
BEGIN:VEVENT
DTSTART;TZID=America/Chicago:20230119T130000
DTEND;TZID=America/Chicago:20230119T130000
DTSTAMP:20260421T021434
CREATED:20230126T194518Z
LAST-MODIFIED:20230126T194518Z
UID:10001899-1674133200-1674133200@aifcmn.org
SUMMARY:Prairie Island Indian Community - Waniyetu Wacipi (Winter Wacipi)
DESCRIPTION:The Prairie Island Indian Community welcomes you to learn about Native American history and experience traditions at their Winter Wacipi in the Island Event Center February 17-19. Grand Entry performances will begin the celebration starting on Friday\, February 17 at 7PM\, Saturday\, February 18 at 1PM and 7PM\, and Sunday\, February 19 at 1PM. Admission to the Wacipi is free and open to all ages. \nFor more information visit prairieisland.org or facebook.com/piicwacipipowwow
URL:https://aifcmn.org/event/prairie-island-indian-community-waniyetu-wacipi-winter-wacipi/2023-01-19/
LOCATION:Treasure Island Resort & Casino Island Event Center\, 5734 Sturgeon Lake Road\, Welch\, MN\, 55089\, United States
CATEGORIES:Community Events
ATTACH;FMTTYPE=image/jpeg:https://aifcmn.org/wp-content/uploads/2023/01/Prairie-Island-Indian-Community-Winter-Wacipi.jpg
END:VEVENT
BEGIN:VEVENT
DTSTART;TZID=America/Chicago:20220528T130000
DTEND;TZID=America/Chicago:20220528T130000
DTSTAMP:20260421T021434
CREATED:20220427T013840Z
LAST-MODIFIED:20220427T013840Z
UID:10001160-1653742800-1653742800@aifcmn.org
SUMMARY:Prairie Island Indian Community - Memorial Day Wacipi
DESCRIPTION:Sometimes called Wacipi (pronounced Wa chee pee)\, the powwow is a traditional Native American cultural celebration where the generations gather to socialize\, dance\, sing\, visit\, renew old friendships and make new ones. \nIn Dakota language\, the word “Wacipi” literally means “they dance.” \nThis is a time to renew thoughts of old ways\, educate our youth about Dakota culture\, and preserve our rich heritage. \nWacipi Traditions\nOften held over a weekend\, a Powwow is filled with songs and dances\, singers with drums\, and dancers in their regalia. Regalia (pronounced Re gail ya) is the proper term used to describe the highly decorated clothing worn by the powwow dancers. \nA Wacipi or Powwow is the celebration of life… of family…and the offering of honor and respect for dignitaries\, royalty\, our culture\, and of native people. \nThe Wacipi usually begins with a blessing of the arena\, which is considered sacred ground. \nThe Indian Way is about respect… \nRespect for culture\, family\, others\, veterans\, \nchildren\, elders\, life\, the Creator\, \nand respect for self.
URL:https://aifcmn.org/event/prairie-island-indian-community-memorial-day-wacipi/
LOCATION:5636 Sturgeon Lake Road\, 5636 Sturgeon Lake Road\, Welch\, MN\, 55089\, United States
CATEGORIES:Celebrate American Indian Month in Minnesota
ATTACH;FMTTYPE=image/jpeg:https://aifcmn.org/wp-content/uploads/2022/04/Memorial-Day-Powwow-2022.jpg
END:VEVENT
END:VCALENDAR