BEGIN:VCALENDAR
VERSION:2.0
PRODID:-//American Indian Family Center - ECPv6.15.17.1//NONSGML v1.0//EN
CALSCALE:GREGORIAN
METHOD:PUBLISH
X-ORIGINAL-URL:https://aifcmn.org
X-WR-CALDESC:Events for American Indian Family Center
REFRESH-INTERVAL;VALUE=DURATION:PT1H
X-Robots-Tag:noindex
X-PUBLISHED-TTL:PT1H
BEGIN:VTIMEZONE
TZID:America/Chicago
BEGIN:DAYLIGHT
TZOFFSETFROM:-0600
TZOFFSETTO:-0500
TZNAME:CDT
DTSTART:20220313T080000
END:DAYLIGHT
BEGIN:STANDARD
TZOFFSETFROM:-0500
TZOFFSETTO:-0600
TZNAME:CST
DTSTART:20221106T070000
END:STANDARD
BEGIN:DAYLIGHT
TZOFFSETFROM:-0600
TZOFFSETTO:-0500
TZNAME:CDT
DTSTART:20230312T080000
END:DAYLIGHT
BEGIN:STANDARD
TZOFFSETFROM:-0500
TZOFFSETTO:-0600
TZNAME:CST
DTSTART:20231105T070000
END:STANDARD
BEGIN:DAYLIGHT
TZOFFSETFROM:-0600
TZOFFSETTO:-0500
TZNAME:CDT
DTSTART:20240310T080000
END:DAYLIGHT
BEGIN:STANDARD
TZOFFSETFROM:-0500
TZOFFSETTO:-0600
TZNAME:CST
DTSTART:20241103T070000
END:STANDARD
END:VTIMEZONE
BEGIN:VEVENT
DTSTART;TZID=America/Chicago:20230308T113000
DTEND;TZID=America/Chicago:20230308T170000
DTSTAMP:20260421T142516
CREATED:20230203T164125Z
LAST-MODIFIED:20230203T164125Z
UID:10001919-1678275000-1678294800@aifcmn.org
SUMMARY:IHB - Bandolier Bag Workshop
DESCRIPTION:
URL:https://aifcmn.org/event/ihb-bandolier-bag-workshop/2023-03-08/
LOCATION:Indian Health Board (IHB)\, 1314 East 24th Street\, Minneapolis\, MN\, 55404\, United States
CATEGORIES:Community Events
ATTACH;FMTTYPE=image/jpeg:https://aifcmn.org/wp-content/uploads/2023/02/IHB-Bandolier-Bag-Workshop.jpg
ORGANIZER;CN="Indian Health Board (IHB)":MAILTO:info@indianhealthboard.com
END:VEVENT
BEGIN:VEVENT
DTSTART;TZID=America/Chicago:20230307T113000
DTEND;TZID=America/Chicago:20230307T170000
DTSTAMP:20260421T142516
CREATED:20230203T164125Z
LAST-MODIFIED:20230203T164125Z
UID:10001918-1678188600-1678208400@aifcmn.org
SUMMARY:IHB - Bandolier Bag Workshop
DESCRIPTION:
URL:https://aifcmn.org/event/ihb-bandolier-bag-workshop/2023-03-07/
LOCATION:Indian Health Board (IHB)\, 1314 East 24th Street\, Minneapolis\, MN\, 55404\, United States
CATEGORIES:Community Events
ATTACH;FMTTYPE=image/jpeg:https://aifcmn.org/wp-content/uploads/2023/02/IHB-Bandolier-Bag-Workshop.jpg
ORGANIZER;CN="Indian Health Board (IHB)":MAILTO:info@indianhealthboard.com
END:VEVENT
END:VCALENDAR