BEGIN:VCALENDAR
VERSION:2.0
PRODID:-//American Indian Family Center - ECPv6.15.17.1//NONSGML v1.0//EN
CALSCALE:GREGORIAN
METHOD:PUBLISH
X-ORIGINAL-URL:https://aifcmn.org
X-WR-CALDESC:Events for American Indian Family Center
REFRESH-INTERVAL;VALUE=DURATION:PT1H
X-Robots-Tag:noindex
X-PUBLISHED-TTL:PT1H
BEGIN:VTIMEZONE
TZID:America/Chicago
BEGIN:DAYLIGHT
TZOFFSETFROM:-0600
TZOFFSETTO:-0500
TZNAME:CDT
DTSTART:20210314T080000
END:DAYLIGHT
BEGIN:STANDARD
TZOFFSETFROM:-0500
TZOFFSETTO:-0600
TZNAME:CST
DTSTART:20211107T070000
END:STANDARD
BEGIN:DAYLIGHT
TZOFFSETFROM:-0600
TZOFFSETTO:-0500
TZNAME:CDT
DTSTART:20220313T080000
END:DAYLIGHT
BEGIN:STANDARD
TZOFFSETFROM:-0500
TZOFFSETTO:-0600
TZNAME:CST
DTSTART:20221106T070000
END:STANDARD
BEGIN:DAYLIGHT
TZOFFSETFROM:-0600
TZOFFSETTO:-0500
TZNAME:CDT
DTSTART:20230312T080000
END:DAYLIGHT
BEGIN:STANDARD
TZOFFSETFROM:-0500
TZOFFSETTO:-0600
TZNAME:CST
DTSTART:20231105T070000
END:STANDARD
END:VTIMEZONE
BEGIN:VEVENT
DTSTART;TZID=America/Chicago:20220525T120000
DTEND;TZID=America/Chicago:20220525T180000
DTSTAMP:20260423T080108
CREATED:20220504T171746Z
LAST-MODIFIED:20220504T171746Z
UID:10001169-1653480000-1653501600@aifcmn.org
SUMMARY:White Earth Nation Urban Office - Culture Event
DESCRIPTION:12:00 PM: Welcoming\n12:30-5 PM: Singing and Dancing\n5:00 PM: Closing Feast\n12-6 PM: Craft Vendor Fair
URL:https://aifcmn.org/event/white-earth-nation-urban-office-culture-event/
LOCATION:White Earth Nation Urban Office\, 1730 Clifton Place\, Minneapolis\, MN\, 55403\, United States
CATEGORIES:Celebrate American Indian Month in Minnesota
ATTACH;FMTTYPE=application/pdf:https://aifcmn.org/wp-content/uploads/2022/05/White-Earth-May-25th-Flyer.pdf
END:VEVENT
END:VCALENDAR