BEGIN:VCALENDAR
VERSION:2.0
PRODID:-//American Indian Family Center - ECPv6.15.17.1//NONSGML v1.0//EN
CALSCALE:GREGORIAN
METHOD:PUBLISH
X-ORIGINAL-URL:https://aifcmn.org
X-WR-CALDESC:Events for American Indian Family Center
REFRESH-INTERVAL;VALUE=DURATION:PT1H
X-Robots-Tag:noindex
X-PUBLISHED-TTL:PT1H
BEGIN:VTIMEZONE
TZID:America/Chicago
BEGIN:DAYLIGHT
TZOFFSETFROM:-0600
TZOFFSETTO:-0500
TZNAME:CDT
DTSTART:20220313T080000
END:DAYLIGHT
BEGIN:STANDARD
TZOFFSETFROM:-0500
TZOFFSETTO:-0600
TZNAME:CST
DTSTART:20221106T070000
END:STANDARD
BEGIN:DAYLIGHT
TZOFFSETFROM:-0600
TZOFFSETTO:-0500
TZNAME:CDT
DTSTART:20230312T080000
END:DAYLIGHT
BEGIN:STANDARD
TZOFFSETFROM:-0500
TZOFFSETTO:-0600
TZNAME:CST
DTSTART:20231105T070000
END:STANDARD
BEGIN:DAYLIGHT
TZOFFSETFROM:-0600
TZOFFSETTO:-0500
TZNAME:CDT
DTSTART:20240310T080000
END:DAYLIGHT
BEGIN:STANDARD
TZOFFSETFROM:-0500
TZOFFSETTO:-0600
TZNAME:CST
DTSTART:20241103T070000
END:STANDARD
END:VTIMEZONE
BEGIN:VEVENT
DTSTART;TZID=America/Chicago:20230125T130000
DTEND;TZID=America/Chicago:20230125T143000
DTSTAMP:20260421T064653
CREATED:20230106T190316Z
LAST-MODIFIED:20230106T190316Z
UID:10001657-1674651600-1674657000@aifcmn.org
SUMMARY:Indian Health Board (IHB) - Manashkikwiwe: A Winter Gathering Event
DESCRIPTION:
URL:https://aifcmn.org/event/indian-health-board-ihb-manashkikwiwe-a-winter-gathering-event/
LOCATION:Indian Health Board Administrative and Specialty Services Center\, 2020 Minnehaha Avenue South\, Minneapolis\, MN\, 55404\, United States
CATEGORIES:Community Events
ATTACH;FMTTYPE=image/jpeg:https://aifcmn.org/wp-content/uploads/2023/01/IHB-Winter-Gathering-Event.jpg
ORGANIZER;CN="Indian Health Board (IHB)":MAILTO:info@indianhealthboard.com
END:VEVENT
END:VCALENDAR