BEGIN:VCALENDAR
VERSION:2.0
PRODID:-//American Indian Family Center - ECPv6.15.17.1//NONSGML v1.0//EN
CALSCALE:GREGORIAN
METHOD:PUBLISH
X-ORIGINAL-URL:https://aifcmn.org
X-WR-CALDESC:Events for American Indian Family Center
REFRESH-INTERVAL;VALUE=DURATION:PT1H
X-Robots-Tag:noindex
X-PUBLISHED-TTL:PT1H
BEGIN:VTIMEZONE
TZID:America/Chicago
BEGIN:DAYLIGHT
TZOFFSETFROM:-0600
TZOFFSETTO:-0500
TZNAME:CDT
DTSTART:20210314T080000
END:DAYLIGHT
BEGIN:STANDARD
TZOFFSETFROM:-0500
TZOFFSETTO:-0600
TZNAME:CST
DTSTART:20211107T070000
END:STANDARD
BEGIN:DAYLIGHT
TZOFFSETFROM:-0600
TZOFFSETTO:-0500
TZNAME:CDT
DTSTART:20220313T080000
END:DAYLIGHT
BEGIN:STANDARD
TZOFFSETFROM:-0500
TZOFFSETTO:-0600
TZNAME:CST
DTSTART:20221106T070000
END:STANDARD
BEGIN:DAYLIGHT
TZOFFSETFROM:-0600
TZOFFSETTO:-0500
TZNAME:CDT
DTSTART:20230312T080000
END:DAYLIGHT
BEGIN:STANDARD
TZOFFSETFROM:-0500
TZOFFSETTO:-0600
TZNAME:CST
DTSTART:20231105T070000
END:STANDARD
END:VTIMEZONE
BEGIN:VEVENT
DTSTART;TZID=America/Chicago:20221009T120000
DTEND;TZID=America/Chicago:20221009T140000
DTSTAMP:20260421T033718
CREATED:20221006T220118Z
LAST-MODIFIED:20221006T220118Z
UID:10001338-1665316800-1665324000@aifcmn.org
SUMMARY:Midtown Global Market - Indigenous Peoples Day
DESCRIPTION:
URL:https://aifcmn.org/event/midtown-global-market-indigenous-peoples-day/
LOCATION:Midtown Global Market\, 920 East Lake Street\, Minneapolis\, MN\, 55407\, United States
CATEGORIES:Community Events
ATTACH;FMTTYPE=image/jpeg:https://aifcmn.org/wp-content/uploads/2022/10/Midtown-Global-Market-Indigenous-Peoples-Day-2022.jpg
END:VEVENT
END:VCALENDAR