BEGIN:VCALENDAR
VERSION:2.0
PRODID:-//American Indian Family Center - ECPv6.15.17.1//NONSGML v1.0//EN
CALSCALE:GREGORIAN
METHOD:PUBLISH
X-WR-CALNAME:American Indian Family Center
X-ORIGINAL-URL:https://aifcmn.org
X-WR-CALDESC:Events for American Indian Family Center
REFRESH-INTERVAL;VALUE=DURATION:PT1H
X-Robots-Tag:noindex
X-PUBLISHED-TTL:PT1H
BEGIN:VTIMEZONE
TZID:America/Chicago
BEGIN:DAYLIGHT
TZOFFSETFROM:-0600
TZOFFSETTO:-0500
TZNAME:CDT
DTSTART:20210314T080000
END:DAYLIGHT
BEGIN:STANDARD
TZOFFSETFROM:-0500
TZOFFSETTO:-0600
TZNAME:CST
DTSTART:20211107T070000
END:STANDARD
BEGIN:DAYLIGHT
TZOFFSETFROM:-0600
TZOFFSETTO:-0500
TZNAME:CDT
DTSTART:20220313T080000
END:DAYLIGHT
BEGIN:STANDARD
TZOFFSETFROM:-0500
TZOFFSETTO:-0600
TZNAME:CST
DTSTART:20221106T070000
END:STANDARD
BEGIN:DAYLIGHT
TZOFFSETFROM:-0600
TZOFFSETTO:-0500
TZNAME:CDT
DTSTART:20230312T080000
END:DAYLIGHT
BEGIN:STANDARD
TZOFFSETFROM:-0500
TZOFFSETTO:-0600
TZNAME:CST
DTSTART:20231105T070000
END:STANDARD
BEGIN:DAYLIGHT
TZOFFSETFROM:-0600
TZOFFSETTO:-0500
TZNAME:CDT
DTSTART:20240310T080000
END:DAYLIGHT
BEGIN:STANDARD
TZOFFSETFROM:-0500
TZOFFSETTO:-0600
TZNAME:CST
DTSTART:20241103T070000
END:STANDARD
END:VTIMEZONE
BEGIN:VEVENT
DTSTART;TZID=America/Chicago:20230613T183000
DTEND;TZID=America/Chicago:20230613T200000
DTSTAMP:20260421T030216
CREATED:20230308T201955Z
LAST-MODIFIED:20230308T201955Z
UID:10002014-1686681000-1686686400@aifcmn.org
SUMMARY:Culture Language Arts Network (CLAN) - Drum & Dance
DESCRIPTION:
URL:https://aifcmn.org/event/culture-language-arts-network-clan-drum-dance/2023-06-13/
LOCATION:Minnesota Indian Women’s Resource Center (MIWRC)\, 2300 15th Avenue South\, Minneapolis\, MN\, United States
CATEGORIES:Community Events
ATTACH;FMTTYPE=image/jpeg:https://aifcmn.org/wp-content/uploads/2023/03/CLAN-Drum-and-Dance.jpg
END:VEVENT
BEGIN:VEVENT
DTSTART;TZID=America/Chicago:20230606T183000
DTEND;TZID=America/Chicago:20230606T200000
DTSTAMP:20260421T030216
CREATED:20230308T201955Z
LAST-MODIFIED:20230308T201955Z
UID:10002013-1686076200-1686081600@aifcmn.org
SUMMARY:Culture Language Arts Network (CLAN) - Drum & Dance
DESCRIPTION:
URL:https://aifcmn.org/event/culture-language-arts-network-clan-drum-dance/2023-06-06/
LOCATION:Minnesota Indian Women’s Resource Center (MIWRC)\, 2300 15th Avenue South\, Minneapolis\, MN\, United States
CATEGORIES:Community Events
ATTACH;FMTTYPE=image/jpeg:https://aifcmn.org/wp-content/uploads/2023/03/CLAN-Drum-and-Dance.jpg
END:VEVENT
BEGIN:VEVENT
DTSTART;TZID=America/Chicago:20230530T183000
DTEND;TZID=America/Chicago:20230530T200000
DTSTAMP:20260421T030216
CREATED:20230308T201955Z
LAST-MODIFIED:20230308T201955Z
UID:10002012-1685471400-1685476800@aifcmn.org
SUMMARY:Culture Language Arts Network (CLAN) - Drum & Dance
DESCRIPTION:
URL:https://aifcmn.org/event/culture-language-arts-network-clan-drum-dance/2023-05-30/
LOCATION:Minnesota Indian Women’s Resource Center (MIWRC)\, 2300 15th Avenue South\, Minneapolis\, MN\, United States
CATEGORIES:Community Events
ATTACH;FMTTYPE=image/jpeg:https://aifcmn.org/wp-content/uploads/2023/03/CLAN-Drum-and-Dance.jpg
END:VEVENT
BEGIN:VEVENT
DTSTART;TZID=America/Chicago:20230523T183000
DTEND;TZID=America/Chicago:20230523T200000
DTSTAMP:20260421T030216
CREATED:20230308T201955Z
LAST-MODIFIED:20230308T201955Z
UID:10002011-1684866600-1684872000@aifcmn.org
SUMMARY:Culture Language Arts Network (CLAN) - Drum & Dance
DESCRIPTION:
URL:https://aifcmn.org/event/culture-language-arts-network-clan-drum-dance/2023-05-23/
LOCATION:Minnesota Indian Women’s Resource Center (MIWRC)\, 2300 15th Avenue South\, Minneapolis\, MN\, United States
CATEGORIES:Community Events
ATTACH;FMTTYPE=image/jpeg:https://aifcmn.org/wp-content/uploads/2023/03/CLAN-Drum-and-Dance.jpg
END:VEVENT
BEGIN:VEVENT
DTSTART;TZID=America/Chicago:20230516T183000
DTEND;TZID=America/Chicago:20230516T200000
DTSTAMP:20260421T030216
CREATED:20230308T201955Z
LAST-MODIFIED:20230308T201955Z
UID:10002010-1684261800-1684267200@aifcmn.org
SUMMARY:Culture Language Arts Network (CLAN) - Drum & Dance
DESCRIPTION:
URL:https://aifcmn.org/event/culture-language-arts-network-clan-drum-dance/2023-05-16/
LOCATION:Minnesota Indian Women’s Resource Center (MIWRC)\, 2300 15th Avenue South\, Minneapolis\, MN\, United States
CATEGORIES:Community Events
ATTACH;FMTTYPE=image/jpeg:https://aifcmn.org/wp-content/uploads/2023/03/CLAN-Drum-and-Dance.jpg
END:VEVENT
BEGIN:VEVENT
DTSTART;TZID=America/Chicago:20230509T183000
DTEND;TZID=America/Chicago:20230509T200000
DTSTAMP:20260421T030216
CREATED:20230308T201955Z
LAST-MODIFIED:20230308T201955Z
UID:10002009-1683657000-1683662400@aifcmn.org
SUMMARY:Culture Language Arts Network (CLAN) - Drum & Dance
DESCRIPTION:
URL:https://aifcmn.org/event/culture-language-arts-network-clan-drum-dance/2023-05-09/
LOCATION:Minnesota Indian Women’s Resource Center (MIWRC)\, 2300 15th Avenue South\, Minneapolis\, MN\, United States
CATEGORIES:Community Events
ATTACH;FMTTYPE=image/jpeg:https://aifcmn.org/wp-content/uploads/2023/03/CLAN-Drum-and-Dance.jpg
END:VEVENT
BEGIN:VEVENT
DTSTART;TZID=America/Chicago:20230502T183000
DTEND;TZID=America/Chicago:20230502T200000
DTSTAMP:20260421T030216
CREATED:20230308T201955Z
LAST-MODIFIED:20230308T201955Z
UID:10002008-1683052200-1683057600@aifcmn.org
SUMMARY:Culture Language Arts Network (CLAN) - Drum & Dance
DESCRIPTION:
URL:https://aifcmn.org/event/culture-language-arts-network-clan-drum-dance/2023-05-02/
LOCATION:Minnesota Indian Women’s Resource Center (MIWRC)\, 2300 15th Avenue South\, Minneapolis\, MN\, United States
CATEGORIES:Community Events
ATTACH;FMTTYPE=image/jpeg:https://aifcmn.org/wp-content/uploads/2023/03/CLAN-Drum-and-Dance.jpg
END:VEVENT
BEGIN:VEVENT
DTSTART;TZID=America/Chicago:20230425T183000
DTEND;TZID=America/Chicago:20230425T200000
DTSTAMP:20260421T030216
CREATED:20230308T201955Z
LAST-MODIFIED:20230308T201955Z
UID:10002007-1682447400-1682452800@aifcmn.org
SUMMARY:Culture Language Arts Network (CLAN) - Drum & Dance
DESCRIPTION:
URL:https://aifcmn.org/event/culture-language-arts-network-clan-drum-dance/2023-04-25/
LOCATION:Minnesota Indian Women’s Resource Center (MIWRC)\, 2300 15th Avenue South\, Minneapolis\, MN\, United States
CATEGORIES:Community Events
ATTACH;FMTTYPE=image/jpeg:https://aifcmn.org/wp-content/uploads/2023/03/CLAN-Drum-and-Dance.jpg
END:VEVENT
BEGIN:VEVENT
DTSTART;TZID=America/Chicago:20230418T183000
DTEND;TZID=America/Chicago:20230418T200000
DTSTAMP:20260421T030216
CREATED:20230308T201955Z
LAST-MODIFIED:20230308T201955Z
UID:10002006-1681842600-1681848000@aifcmn.org
SUMMARY:Culture Language Arts Network (CLAN) - Drum & Dance
DESCRIPTION:
URL:https://aifcmn.org/event/culture-language-arts-network-clan-drum-dance/2023-04-18/
LOCATION:Minnesota Indian Women’s Resource Center (MIWRC)\, 2300 15th Avenue South\, Minneapolis\, MN\, United States
CATEGORIES:Community Events
ATTACH;FMTTYPE=image/jpeg:https://aifcmn.org/wp-content/uploads/2023/03/CLAN-Drum-and-Dance.jpg
END:VEVENT
BEGIN:VEVENT
DTSTART;TZID=America/Chicago:20230411T183000
DTEND;TZID=America/Chicago:20230411T200000
DTSTAMP:20260421T030216
CREATED:20230308T201955Z
LAST-MODIFIED:20230308T201955Z
UID:10002005-1681237800-1681243200@aifcmn.org
SUMMARY:Culture Language Arts Network (CLAN) - Drum & Dance
DESCRIPTION:
URL:https://aifcmn.org/event/culture-language-arts-network-clan-drum-dance/2023-04-11/
LOCATION:Minnesota Indian Women’s Resource Center (MIWRC)\, 2300 15th Avenue South\, Minneapolis\, MN\, United States
CATEGORIES:Community Events
ATTACH;FMTTYPE=image/jpeg:https://aifcmn.org/wp-content/uploads/2023/03/CLAN-Drum-and-Dance.jpg
END:VEVENT
BEGIN:VEVENT
DTSTART;TZID=America/Chicago:20230404T183000
DTEND;TZID=America/Chicago:20230404T200000
DTSTAMP:20260421T030216
CREATED:20230308T201955Z
LAST-MODIFIED:20230308T201955Z
UID:10002004-1680633000-1680638400@aifcmn.org
SUMMARY:Culture Language Arts Network (CLAN) - Drum & Dance
DESCRIPTION:
URL:https://aifcmn.org/event/culture-language-arts-network-clan-drum-dance/2023-04-04/
LOCATION:Minnesota Indian Women’s Resource Center (MIWRC)\, 2300 15th Avenue South\, Minneapolis\, MN\, United States
CATEGORIES:Community Events
ATTACH;FMTTYPE=image/jpeg:https://aifcmn.org/wp-content/uploads/2023/03/CLAN-Drum-and-Dance.jpg
END:VEVENT
BEGIN:VEVENT
DTSTART;TZID=America/Chicago:20230328T183000
DTEND;TZID=America/Chicago:20230328T200000
DTSTAMP:20260421T030216
CREATED:20230308T201955Z
LAST-MODIFIED:20230308T201955Z
UID:10002003-1680028200-1680033600@aifcmn.org
SUMMARY:Culture Language Arts Network (CLAN) - Drum & Dance
DESCRIPTION:
URL:https://aifcmn.org/event/culture-language-arts-network-clan-drum-dance/2023-03-28/
LOCATION:Minnesota Indian Women’s Resource Center (MIWRC)\, 2300 15th Avenue South\, Minneapolis\, MN\, United States
CATEGORIES:Community Events
ATTACH;FMTTYPE=image/jpeg:https://aifcmn.org/wp-content/uploads/2023/03/CLAN-Drum-and-Dance.jpg
END:VEVENT
BEGIN:VEVENT
DTSTART;TZID=America/Chicago:20230323T140000
DTEND;TZID=America/Chicago:20230323T180000
DTSTAMP:20260421T030216
CREATED:20230308T205524Z
LAST-MODIFIED:20230308T205524Z
UID:10002053-1679580000-1679594400@aifcmn.org
SUMMARY:MIWRC - Moccasin Workshop
DESCRIPTION:
URL:https://aifcmn.org/event/miwrc-moccasin-workshop/2023-03-23/
LOCATION:Minnesota Indian Women’s Resource Center (MIWRC)\, 2300 15th Avenue South\, Minneapolis\, MN\, United States
CATEGORIES:Community Events
ATTACH;FMTTYPE=image/jpeg:https://aifcmn.org/wp-content/uploads/2023/03/MIWRC-Moccasin-Workshop.jpg
END:VEVENT
BEGIN:VEVENT
DTSTART;TZID=America/Chicago:20230322T140000
DTEND;TZID=America/Chicago:20230322T180000
DTSTAMP:20260421T030216
CREATED:20230308T205524Z
LAST-MODIFIED:20230308T205524Z
UID:10002052-1679493600-1679508000@aifcmn.org
SUMMARY:MIWRC - Moccasin Workshop
DESCRIPTION:
URL:https://aifcmn.org/event/miwrc-moccasin-workshop/2023-03-22/
LOCATION:Minnesota Indian Women’s Resource Center (MIWRC)\, 2300 15th Avenue South\, Minneapolis\, MN\, United States
CATEGORIES:Community Events
ATTACH;FMTTYPE=image/jpeg:https://aifcmn.org/wp-content/uploads/2023/03/MIWRC-Moccasin-Workshop.jpg
END:VEVENT
BEGIN:VEVENT
DTSTART;TZID=America/Chicago:20230321T183000
DTEND;TZID=America/Chicago:20230321T200000
DTSTAMP:20260421T030216
CREATED:20230308T201955Z
LAST-MODIFIED:20230308T201955Z
UID:10002002-1679423400-1679428800@aifcmn.org
SUMMARY:Culture Language Arts Network (CLAN) - Drum & Dance
DESCRIPTION:
URL:https://aifcmn.org/event/culture-language-arts-network-clan-drum-dance/2023-03-21/
LOCATION:Minnesota Indian Women’s Resource Center (MIWRC)\, 2300 15th Avenue South\, Minneapolis\, MN\, United States
CATEGORIES:Community Events
ATTACH;FMTTYPE=image/jpeg:https://aifcmn.org/wp-content/uploads/2023/03/CLAN-Drum-and-Dance.jpg
END:VEVENT
BEGIN:VEVENT
DTSTART;TZID=America/Chicago:20230319T090000
DTEND;TZID=America/Chicago:20230319T150000
DTSTAMP:20260421T030216
CREATED:20230308T202332Z
LAST-MODIFIED:20230308T202332Z
UID:10002028-1679216400-1679238000@aifcmn.org
SUMMARY:NACC - Wamasake
DESCRIPTION:
URL:https://aifcmn.org/event/nacc-wamasake/2023-03-19/
LOCATION:Minnesota Indian Women’s Resource Center (MIWRC)\, 2300 15th Avenue South\, Minneapolis\, MN\, United States
CATEGORIES:Community Events
ATTACH;FMTTYPE=image/jpeg:https://aifcmn.org/wp-content/uploads/2023/03/NACC-Wamasake.jpg
END:VEVENT
BEGIN:VEVENT
DTSTART;TZID=America/Chicago:20230318T090000
DTEND;TZID=America/Chicago:20230318T150000
DTSTAMP:20260421T030216
CREATED:20230308T202332Z
LAST-MODIFIED:20230308T202332Z
UID:10002027-1679130000-1679151600@aifcmn.org
SUMMARY:NACC - Wamasake
DESCRIPTION:
URL:https://aifcmn.org/event/nacc-wamasake/2023-03-18/
LOCATION:Minnesota Indian Women’s Resource Center (MIWRC)\, 2300 15th Avenue South\, Minneapolis\, MN\, United States
CATEGORIES:Community Events
ATTACH;FMTTYPE=image/jpeg:https://aifcmn.org/wp-content/uploads/2023/03/NACC-Wamasake.jpg
END:VEVENT
BEGIN:VEVENT
DTSTART;TZID=America/Chicago:20230316T140000
DTEND;TZID=America/Chicago:20230316T180000
DTSTAMP:20260421T030216
CREATED:20230308T205524Z
LAST-MODIFIED:20230308T205524Z
UID:10002051-1678975200-1678989600@aifcmn.org
SUMMARY:MIWRC - Moccasin Workshop
DESCRIPTION:
URL:https://aifcmn.org/event/miwrc-moccasin-workshop/2023-03-16/
LOCATION:Minnesota Indian Women’s Resource Center (MIWRC)\, 2300 15th Avenue South\, Minneapolis\, MN\, United States
CATEGORIES:Community Events
ATTACH;FMTTYPE=image/jpeg:https://aifcmn.org/wp-content/uploads/2023/03/MIWRC-Moccasin-Workshop.jpg
END:VEVENT
BEGIN:VEVENT
DTSTART;TZID=America/Chicago:20230315T140000
DTEND;TZID=America/Chicago:20230315T180000
DTSTAMP:20260421T030216
CREATED:20230308T205524Z
LAST-MODIFIED:20230308T205524Z
UID:10002050-1678888800-1678903200@aifcmn.org
SUMMARY:MIWRC - Moccasin Workshop
DESCRIPTION:
URL:https://aifcmn.org/event/miwrc-moccasin-workshop/2023-03-15/
LOCATION:Minnesota Indian Women’s Resource Center (MIWRC)\, 2300 15th Avenue South\, Minneapolis\, MN\, United States
CATEGORIES:Community Events
ATTACH;FMTTYPE=image/jpeg:https://aifcmn.org/wp-content/uploads/2023/03/MIWRC-Moccasin-Workshop.jpg
END:VEVENT
BEGIN:VEVENT
DTSTART;TZID=America/Chicago:20230314T183000
DTEND;TZID=America/Chicago:20230314T200000
DTSTAMP:20260421T030216
CREATED:20230308T201955Z
LAST-MODIFIED:20230308T201955Z
UID:10002001-1678818600-1678824000@aifcmn.org
SUMMARY:Culture Language Arts Network (CLAN) - Drum & Dance
DESCRIPTION:
URL:https://aifcmn.org/event/culture-language-arts-network-clan-drum-dance/2023-03-14/
LOCATION:Minnesota Indian Women’s Resource Center (MIWRC)\, 2300 15th Avenue South\, Minneapolis\, MN\, United States
CATEGORIES:Community Events
ATTACH;FMTTYPE=image/jpeg:https://aifcmn.org/wp-content/uploads/2023/03/CLAN-Drum-and-Dance.jpg
END:VEVENT
BEGIN:VEVENT
DTSTART;TZID=America/Chicago:20230213T170000
DTEND;TZID=America/Chicago:20230213T200000
DTSTAMP:20260421T030216
CREATED:20230131T170400Z
LAST-MODIFIED:20230131T170400Z
UID:10001909-1676307600-1676318400@aifcmn.org
SUMMARY:MIWRC - MMIWR Ribbon Skirt Making
DESCRIPTION:
URL:https://aifcmn.org/event/miwrc-mmiwr-ribbon-skirt-making/2023-02-13/
LOCATION:Minnesota Indian Women’s Resource Center (MIWRC)\, 2300 15th Avenue South\, Minneapolis\, MN\, United States
CATEGORIES:Community Events
ATTACH;FMTTYPE=image/png:https://aifcmn.org/wp-content/uploads/2023/01/MIWRC-MMIW-Ribbon-Skirt-Making.png
END:VEVENT
BEGIN:VEVENT
DTSTART;TZID=America/Chicago:20230208T160000
DTEND;TZID=America/Chicago:20230208T190000
DTSTAMP:20260421T030216
CREATED:20230131T172157Z
LAST-MODIFIED:20230131T172157Z
UID:10001914-1675872000-1675882800@aifcmn.org
SUMMARY:MIWRC - Star Stories
DESCRIPTION:
URL:https://aifcmn.org/event/miwrc-star-stories/
LOCATION:Minnesota Indian Women’s Resource Center (MIWRC)\, 2300 15th Avenue South\, Minneapolis\, MN\, United States
CATEGORIES:Community Events
ATTACH;FMTTYPE=image/png:https://aifcmn.org/wp-content/uploads/2023/01/MIWRC-Star-Stories.png
END:VEVENT
BEGIN:VEVENT
DTSTART;TZID=America/Chicago:20230207T110000
DTEND;TZID=America/Chicago:20230207T150000
DTSTAMP:20260421T030216
CREATED:20230203T162942Z
LAST-MODIFIED:20230203T162942Z
UID:10001917-1675767600-1675782000@aifcmn.org
SUMMARY:Hennepin County Native American Project Diversity Committee: MMIW March Screen Printing
DESCRIPTION:
URL:https://aifcmn.org/event/hennepin-county-native-american-project-diversity-committee-mmiw-march-screen-printing/
LOCATION:Minnesota Indian Women’s Resource Center (MIWRC)\, 2300 15th Avenue South\, Minneapolis\, MN\, United States
CATEGORIES:Community Events
ATTACH;FMTTYPE=image/jpeg:https://aifcmn.org/wp-content/uploads/2023/02/MMIW-March-Screen-Printing.jpg
END:VEVENT
BEGIN:VEVENT
DTSTART;TZID=America/Chicago:20230206T170000
DTEND;TZID=America/Chicago:20230206T200000
DTSTAMP:20260421T030216
CREATED:20230131T170400Z
LAST-MODIFIED:20230131T170400Z
UID:10001908-1675702800-1675713600@aifcmn.org
SUMMARY:MIWRC - MMIWR Ribbon Skirt Making
DESCRIPTION:
URL:https://aifcmn.org/event/miwrc-mmiwr-ribbon-skirt-making/2023-02-06/
LOCATION:Minnesota Indian Women’s Resource Center (MIWRC)\, 2300 15th Avenue South\, Minneapolis\, MN\, United States
CATEGORIES:Community Events
ATTACH;FMTTYPE=image/png:https://aifcmn.org/wp-content/uploads/2023/01/MIWRC-MMIW-Ribbon-Skirt-Making.png
END:VEVENT
BEGIN:VEVENT
DTSTART;TZID=America/Chicago:20230120T170000
DTEND;TZID=America/Chicago:20230120T200000
DTSTAMP:20260421T030216
CREATED:20230111T185344Z
LAST-MODIFIED:20230111T194005Z
UID:10001666-1674234000-1674244800@aifcmn.org
SUMMARY:Culture Language and Arts Network (CLAN) - Star Knowledge Family Fun Night
DESCRIPTION:
URL:https://aifcmn.org/event/culture-language-and-arts-network-clan-star-knowledge-family-fun-night/
LOCATION:Minnesota Indian Women’s Resource Center (MIWRC)\, 2300 15th Avenue South\, Minneapolis\, MN\, United States
CATEGORIES:Community Events
ATTACH;FMTTYPE=image/jpeg:https://aifcmn.org/wp-content/uploads/2023/01/MAIC-CLAN-Star-Knowledge.jpg
END:VEVENT
BEGIN:VEVENT
DTSTART;TZID=America/Chicago:20230105T120000
DTEND;TZID=America/Chicago:20230105T160000
DTSTAMP:20260421T030216
CREATED:20221222T165551Z
LAST-MODIFIED:20221222T165551Z
UID:10001533-1672920000-1672934400@aifcmn.org
SUMMARY:Minnesota Indian Affairs Council (MIAC) - Urban Indian Advisory Board Quarterly Meeting
DESCRIPTION:
URL:https://aifcmn.org/event/minnesota-indian-affairs-council-miac-urban-indian-advisory-board-quarterly-meeting/
LOCATION:Minnesota Indian Women’s Resource Center (MIWRC)\, 2300 15th Avenue South\, Minneapolis\, MN\, United States
CATEGORIES:Community Events
ATTACH;FMTTYPE=image/jpeg:https://aifcmn.org/wp-content/uploads/2022/12/MIAC-Urban-Indian-Advisory-Board-Quarterly-Meeting-2023.jpg
END:VEVENT
BEGIN:VEVENT
DTSTART;TZID=America/Chicago:20221214T170000
DTEND;TZID=America/Chicago:20221214T193000
DTSTAMP:20260421T030216
CREATED:20221208T182224Z
LAST-MODIFIED:20221208T182224Z
UID:10001521-1671037200-1671046200@aifcmn.org
SUMMARY:MIWRC - Women’s Conversations: Walking with our Ancestors
DESCRIPTION:MIWRC is hosting\, Women’s Conversations: Walking with our Ancestors \nWednesday\, December 14th from 5-7:30 PM\nCommunity Room at MIWRC- 2300 15th Ave. South \nA meal will be provided! \nContact: Erin Dixon at edixon@miwrc.org\, or (612)-512-9476.
URL:https://aifcmn.org/event/miwrc-womens-conversations-walking-with-our-ancestors/
LOCATION:Minnesota Indian Women’s Resource Center (MIWRC)\, 2300 15th Avenue South\, Minneapolis\, MN\, United States
CATEGORIES:Community Events
ATTACH;FMTTYPE=image/png:https://aifcmn.org/wp-content/uploads/2022/12/MIWRC-Womens-Conversations-Walking-with-Our-Ancestors.png
END:VEVENT
BEGIN:VEVENT
DTSTART;TZID=America/Chicago:20221209T100000
DTEND;TZID=America/Chicago:20221209T150000
DTSTAMP:20260421T030216
CREATED:20221118T182956Z
LAST-MODIFIED:20221118T182956Z
UID:10001403-1670580000-1670598000@aifcmn.org
SUMMARY:MIWRC - 2022 Native Holiday Bazaar
DESCRIPTION:
URL:https://aifcmn.org/event/miwrc-2022-native-holiday-bazaar/
LOCATION:Minnesota Indian Women’s Resource Center (MIWRC)\, 2300 15th Avenue South\, Minneapolis\, MN\, United States
CATEGORIES:Community Events
ATTACH;FMTTYPE=image/png:https://aifcmn.org/wp-content/uploads/2022/11/MIWRC-2022-Native-Holiday-bazaar.png
END:VEVENT
BEGIN:VEVENT
DTSTART;TZID=America/Chicago:20221114T113000
DTEND;TZID=America/Chicago:20221114T133000
DTSTAMP:20260421T030216
CREATED:20221107T204912Z
LAST-MODIFIED:20221107T204912Z
UID:10001398-1668425400-1668432600@aifcmn.org
SUMMARY:Metropolitan Urban Indian Directors (MUID) Family Preservation Subcommittee - ICWA Meet and Greet
DESCRIPTION:
URL:https://aifcmn.org/event/metropolitan-urban-indian-directors-muid-family-preservation-subcommittee-icwa-meet-and-greet/
LOCATION:Minnesota Indian Women’s Resource Center (MIWRC)\, 2300 15th Avenue South\, Minneapolis\, MN\, United States
CATEGORIES:Community Events
ATTACH;FMTTYPE=application/pdf:https://aifcmn.org/wp-content/uploads/2022/11/ICWA-Meet-and-Greet-Flyer-2022.pdf
END:VEVENT
BEGIN:VEVENT
DTSTART;TZID=America/Chicago:20221028T160000
DTEND;TZID=America/Chicago:20221028T190000
DTSTAMP:20260421T030216
CREATED:20221019T171234Z
LAST-MODIFIED:20221019T171234Z
UID:10001389-1666972800-1666983600@aifcmn.org
SUMMARY:Minnesota Indian Women's Resource Center (MIWRC) - Community Halloween Party
DESCRIPTION:
URL:https://aifcmn.org/event/minnesota-indian-womens-resource-center-miwrc-community-halloween-party/
LOCATION:Minnesota Indian Women’s Resource Center (MIWRC)\, 2300 15th Avenue South\, Minneapolis\, MN\, United States
CATEGORIES:Community Events
ATTACH;FMTTYPE=image/jpeg:https://aifcmn.org/wp-content/uploads/2022/10/MIWRC-Community-Halloween-Party.jpg
END:VEVENT
END:VCALENDAR