BEGIN:VCALENDAR
VERSION:2.0
PRODID:-//American Indian Family Center - ECPv6.15.17.1//NONSGML v1.0//EN
CALSCALE:GREGORIAN
METHOD:PUBLISH
X-WR-CALNAME:American Indian Family Center
X-ORIGINAL-URL:https://aifcmn.org
X-WR-CALDESC:Events for American Indian Family Center
REFRESH-INTERVAL;VALUE=DURATION:PT1H
X-Robots-Tag:noindex
X-PUBLISHED-TTL:PT1H
BEGIN:VTIMEZONE
TZID:America/Chicago
BEGIN:DAYLIGHT
TZOFFSETFROM:-0600
TZOFFSETTO:-0500
TZNAME:CDT
DTSTART:20210314T080000
END:DAYLIGHT
BEGIN:STANDARD
TZOFFSETFROM:-0500
TZOFFSETTO:-0600
TZNAME:CST
DTSTART:20211107T070000
END:STANDARD
BEGIN:DAYLIGHT
TZOFFSETFROM:-0600
TZOFFSETTO:-0500
TZNAME:CDT
DTSTART:20220313T080000
END:DAYLIGHT
BEGIN:STANDARD
TZOFFSETFROM:-0500
TZOFFSETTO:-0600
TZNAME:CST
DTSTART:20221106T070000
END:STANDARD
BEGIN:DAYLIGHT
TZOFFSETFROM:-0600
TZOFFSETTO:-0500
TZNAME:CDT
DTSTART:20230312T080000
END:DAYLIGHT
BEGIN:STANDARD
TZOFFSETFROM:-0500
TZOFFSETTO:-0600
TZNAME:CST
DTSTART:20231105T070000
END:STANDARD
BEGIN:DAYLIGHT
TZOFFSETFROM:-0600
TZOFFSETTO:-0500
TZNAME:CDT
DTSTART:20240310T080000
END:DAYLIGHT
BEGIN:STANDARD
TZOFFSETFROM:-0500
TZOFFSETTO:-0600
TZNAME:CST
DTSTART:20241103T070000
END:STANDARD
END:VTIMEZONE
BEGIN:VEVENT
DTSTART;TZID=America/Chicago:20230120T170000
DTEND;TZID=America/Chicago:20230120T200000
DTSTAMP:20260423T045359
CREATED:20230111T185344Z
LAST-MODIFIED:20230111T194005Z
UID:10001666-1674234000-1674244800@aifcmn.org
SUMMARY:Culture Language and Arts Network (CLAN) - Star Knowledge Family Fun Night
DESCRIPTION:
URL:https://aifcmn.org/event/culture-language-and-arts-network-clan-star-knowledge-family-fun-night/
LOCATION:Minnesota Indian Women’s Resource Center (MIWRC)\, 2300 15th Avenue South\, Minneapolis\, MN\, United States
CATEGORIES:Community Events
ATTACH;FMTTYPE=image/jpeg:https://aifcmn.org/wp-content/uploads/2023/01/MAIC-CLAN-Star-Knowledge.jpg
END:VEVENT
BEGIN:VEVENT
DTSTART;TZID=America/Chicago:20230105T120000
DTEND;TZID=America/Chicago:20230105T160000
DTSTAMP:20260423T045359
CREATED:20221222T165551Z
LAST-MODIFIED:20221222T165551Z
UID:10001533-1672920000-1672934400@aifcmn.org
SUMMARY:Minnesota Indian Affairs Council (MIAC) - Urban Indian Advisory Board Quarterly Meeting
DESCRIPTION:
URL:https://aifcmn.org/event/minnesota-indian-affairs-council-miac-urban-indian-advisory-board-quarterly-meeting/
LOCATION:Minnesota Indian Women’s Resource Center (MIWRC)\, 2300 15th Avenue South\, Minneapolis\, MN\, United States
CATEGORIES:Community Events
ATTACH;FMTTYPE=image/jpeg:https://aifcmn.org/wp-content/uploads/2022/12/MIAC-Urban-Indian-Advisory-Board-Quarterly-Meeting-2023.jpg
END:VEVENT
BEGIN:VEVENT
DTSTART;TZID=America/Chicago:20221214T170000
DTEND;TZID=America/Chicago:20221214T193000
DTSTAMP:20260423T045359
CREATED:20221208T182224Z
LAST-MODIFIED:20221208T182224Z
UID:10001521-1671037200-1671046200@aifcmn.org
SUMMARY:MIWRC - Women’s Conversations: Walking with our Ancestors
DESCRIPTION:MIWRC is hosting\, Women’s Conversations: Walking with our Ancestors \nWednesday\, December 14th from 5-7:30 PM\nCommunity Room at MIWRC- 2300 15th Ave. South \nA meal will be provided! \nContact: Erin Dixon at edixon@miwrc.org\, or (612)-512-9476.
URL:https://aifcmn.org/event/miwrc-womens-conversations-walking-with-our-ancestors/
LOCATION:Minnesota Indian Women’s Resource Center (MIWRC)\, 2300 15th Avenue South\, Minneapolis\, MN\, United States
CATEGORIES:Community Events
ATTACH;FMTTYPE=image/png:https://aifcmn.org/wp-content/uploads/2022/12/MIWRC-Womens-Conversations-Walking-with-Our-Ancestors.png
END:VEVENT
BEGIN:VEVENT
DTSTART;TZID=America/Chicago:20221209T100000
DTEND;TZID=America/Chicago:20221209T150000
DTSTAMP:20260423T045359
CREATED:20221118T182956Z
LAST-MODIFIED:20221118T182956Z
UID:10001403-1670580000-1670598000@aifcmn.org
SUMMARY:MIWRC - 2022 Native Holiday Bazaar
DESCRIPTION:
URL:https://aifcmn.org/event/miwrc-2022-native-holiday-bazaar/
LOCATION:Minnesota Indian Women’s Resource Center (MIWRC)\, 2300 15th Avenue South\, Minneapolis\, MN\, United States
CATEGORIES:Community Events
ATTACH;FMTTYPE=image/png:https://aifcmn.org/wp-content/uploads/2022/11/MIWRC-2022-Native-Holiday-bazaar.png
END:VEVENT
BEGIN:VEVENT
DTSTART;TZID=America/Chicago:20221114T113000
DTEND;TZID=America/Chicago:20221114T133000
DTSTAMP:20260423T045359
CREATED:20221107T204912Z
LAST-MODIFIED:20221107T204912Z
UID:10001398-1668425400-1668432600@aifcmn.org
SUMMARY:Metropolitan Urban Indian Directors (MUID) Family Preservation Subcommittee - ICWA Meet and Greet
DESCRIPTION:
URL:https://aifcmn.org/event/metropolitan-urban-indian-directors-muid-family-preservation-subcommittee-icwa-meet-and-greet/
LOCATION:Minnesota Indian Women’s Resource Center (MIWRC)\, 2300 15th Avenue South\, Minneapolis\, MN\, United States
CATEGORIES:Community Events
ATTACH;FMTTYPE=application/pdf:https://aifcmn.org/wp-content/uploads/2022/11/ICWA-Meet-and-Greet-Flyer-2022.pdf
END:VEVENT
BEGIN:VEVENT
DTSTART;TZID=America/Chicago:20221028T160000
DTEND;TZID=America/Chicago:20221028T190000
DTSTAMP:20260423T045359
CREATED:20221019T171234Z
LAST-MODIFIED:20221019T171234Z
UID:10001389-1666972800-1666983600@aifcmn.org
SUMMARY:Minnesota Indian Women's Resource Center (MIWRC) - Community Halloween Party
DESCRIPTION:
URL:https://aifcmn.org/event/minnesota-indian-womens-resource-center-miwrc-community-halloween-party/
LOCATION:Minnesota Indian Women’s Resource Center (MIWRC)\, 2300 15th Avenue South\, Minneapolis\, MN\, United States
CATEGORIES:Community Events
ATTACH;FMTTYPE=image/jpeg:https://aifcmn.org/wp-content/uploads/2022/10/MIWRC-Community-Halloween-Party.jpg
END:VEVENT
BEGIN:VEVENT
DTSTART;TZID=America/Chicago:20221027T180000
DTEND;TZID=America/Chicago:20221027T200000
DTSTAMP:20260423T045359
CREATED:20221006T220442Z
LAST-MODIFIED:20221019T163948Z
UID:10001339-1666893600-1666900800@aifcmn.org
SUMMARY:[Hybrid Event] ICWA Under Attack Community Discussion
DESCRIPTION:Come learn about the case before the United States Supreme Court challenging the Indian Child Welfare Act (ICWA). Also learn about the efforts here in Minnesota to strengthen our state Minnesota Indian Family Preservation Act (MIFPA). \nThe event will be held in person at the Minnesota Indian Women’s Resource Center (2300 S 15th Ave\, Minneapolis\, MN 55404) and virtually on Zoom and Facebook Live. \nA meal will be served at 5:30 pm for those attending in person at the Minnesota Indian Women’s Resource Center. \nHosted by the Metropolitan Urban Indian Directors Family Preservation Subcommittee. \nRegister here: https://www.eventbrite.com/e/icwa-under-attack-free-hybrid-event-tickets-409907864457?aff=ebdssbdestsearch
URL:https://aifcmn.org/event/icwa-under-attack-community-discussion/
LOCATION:Minnesota Indian Women’s Resource Center (MIWRC)\, 2300 15th Avenue South\, Minneapolis\, MN\, United States
CATEGORIES:Community Events
ATTACH;FMTTYPE=image/jpeg:https://aifcmn.org/wp-content/uploads/2022/10/ICWA-Under-Attack-Community-Discussion.jpg
END:VEVENT
BEGIN:VEVENT
DTSTART;TZID=America/Chicago:20221027T170000
DTEND;TZID=America/Chicago:20221027T200000
DTSTAMP:20260423T045359
CREATED:20221019T164251Z
LAST-MODIFIED:20221019T164321Z
UID:10001343-1666890000-1666900800@aifcmn.org
SUMMARY:Minnesota Indian Women's Resource Center (MIWRC) - Kwe/Winyan Night In
DESCRIPTION:
URL:https://aifcmn.org/event/minnesota-indian-womens-resource-center-miwrc-kwe-winyan-night-in/
LOCATION:Minnesota Indian Women’s Resource Center (MIWRC)\, 2300 15th Avenue South\, Minneapolis\, MN\, United States
CATEGORIES:Community Events
ATTACH;FMTTYPE=image/png:https://aifcmn.org/wp-content/uploads/2022/10/309549759_2842772265867842_6124755025012407378_n.png
END:VEVENT
BEGIN:VEVENT
DTSTART;TZID=America/Chicago:20220930T160000
DTEND;TZID=America/Chicago:20220930T160000
DTSTAMP:20260423T045359
CREATED:20220919T214919Z
LAST-MODIFIED:20220930T155955Z
UID:10001335-1664553600-1664553600@aifcmn.org
SUMMARY:Minnesota Indian Women's Resource Center (MIWRC) - Boarding School Community Healing Event (Orange Shirt Day)
DESCRIPTION:
URL:https://aifcmn.org/event/minnesota-indian-womens-resource-center-miwrc-boarding-school-community-healing-event-orange-shirt-day/
LOCATION:Minnesota Indian Women’s Resource Center (MIWRC)\, 2300 15th Avenue South\, Minneapolis\, MN\, United States
CATEGORIES:Community Events
ATTACH;FMTTYPE=image/png:https://aifcmn.org/wp-content/uploads/2022/09/MIWRC-Orange-Shirt-Day-2022.png
END:VEVENT
BEGIN:VEVENT
DTSTART;TZID=America/Chicago:20220901T160000
DTEND;TZID=America/Chicago:20220901T200000
DTSTAMP:20260423T045359
CREATED:20220823T195832Z
LAST-MODIFIED:20220823T195832Z
UID:10001312-1662048000-1662062400@aifcmn.org
SUMMARY:Minnesota Indian Women's Resource Center (MIWRC) - Back to School Cookout and Free School Supplies Giveaway
DESCRIPTION:
URL:https://aifcmn.org/event/minnesota-indian-womens-resource-center-miwrc-back-to-school-cookout-and-free-school-supplies-giveaway/
LOCATION:Minnesota Indian Women’s Resource Center (MIWRC)\, 2300 15th Avenue South\, Minneapolis\, MN\, United States
CATEGORIES:Community Events
ATTACH;FMTTYPE=image/png:https://aifcmn.org/wp-content/uploads/2022/08/MIWRC.png
END:VEVENT
BEGIN:VEVENT
DTSTART;TZID=America/Chicago:20220813T120000
DTEND;TZID=America/Chicago:20220813T160000
DTSTAMP:20260423T045359
CREATED:20220803T162552Z
LAST-MODIFIED:20220803T162552Z
UID:10001305-1660392000-1660406400@aifcmn.org
SUMMARY:Minnesota Indian Women's Resource Center (MIWRC) - Ribbon Skirt Making Workshop
DESCRIPTION:MIWRC will be holding a Ribbon Skirt Making Workshop!\n\n\nIt will be a 2-day workshop\, happening on Friday\, August 12th\, and Saturday\, August 12th from 12-4 PM.\nIt will be held in the Community Room at MIWRC.\n\n\nA light meal and beverages will be provided!
URL:https://aifcmn.org/event/minnesota-indian-womens-resource-center-miwrc-ribbon-skirt-making-workshop/2022-08-13/
LOCATION:Minnesota Indian Women’s Resource Center (MIWRC)\, 2300 15th Avenue South\, Minneapolis\, MN\, United States
CATEGORIES:Community Events
ATTACH;FMTTYPE=image/jpeg:https://aifcmn.org/wp-content/uploads/2022/08/MIWRC-Ribbon-Skirt-Making.jpg
END:VEVENT
BEGIN:VEVENT
DTSTART;TZID=America/Chicago:20220812T120000
DTEND;TZID=America/Chicago:20220812T160000
DTSTAMP:20260423T045359
CREATED:20220803T162552Z
LAST-MODIFIED:20220803T162552Z
UID:10001304-1660305600-1660320000@aifcmn.org
SUMMARY:Minnesota Indian Women's Resource Center (MIWRC) - Ribbon Skirt Making Workshop
DESCRIPTION:MIWRC will be holding a Ribbon Skirt Making Workshop!\n\n\nIt will be a 2-day workshop\, happening on Friday\, August 12th\, and Saturday\, August 12th from 12-4 PM.\nIt will be held in the Community Room at MIWRC.\n\n\nA light meal and beverages will be provided!
URL:https://aifcmn.org/event/minnesota-indian-womens-resource-center-miwrc-ribbon-skirt-making-workshop/2022-08-12/
LOCATION:Minnesota Indian Women’s Resource Center (MIWRC)\, 2300 15th Avenue South\, Minneapolis\, MN\, United States
CATEGORIES:Community Events
ATTACH;FMTTYPE=image/jpeg:https://aifcmn.org/wp-content/uploads/2022/08/MIWRC-Ribbon-Skirt-Making.jpg
END:VEVENT
BEGIN:VEVENT
DTSTART;TZID=America/Chicago:20220802T183000
DTEND;TZID=America/Chicago:20220802T200000
DTSTAMP:20260423T045359
CREATED:20220801T201634Z
LAST-MODIFIED:20220801T201634Z
UID:10001301-1659465000-1659470400@aifcmn.org
SUMMARY:MIWRC - MMIW Community Conversations: Listening to Our Intuitions
DESCRIPTION:MIWRC is hosting MMIW Community Conversations! The first topic will be “Listening to Our Intuitions.” \nCommunity facilitators will be Hannah Lussier\, Erin Dixon\, and Dorene Day. \nTuesday\, August 2nd\, from 6:30-8 PM with a Zoom option also available. Dinner will be provided! \nClick the link to register: https://miwrc.salsalabs.org/mmiwcommunityconversations
URL:https://aifcmn.org/event/miwrc-mmiw-community-conversations-listening-to-our-intuitions/
LOCATION:Minnesota Indian Women’s Resource Center (MIWRC)\, 2300 15th Avenue South\, Minneapolis\, MN\, United States
CATEGORIES:Community Events
ATTACH;FMTTYPE=image/jpeg:https://aifcmn.org/wp-content/uploads/2022/08/MIWRC-8.2.2022.jpg
END:VEVENT
BEGIN:VEVENT
DTSTART;TZID=America/Chicago:20220526T160000
DTEND;TZID=America/Chicago:20220526T190000
DTSTAMP:20260423T045359
CREATED:20220511T201639Z
LAST-MODIFIED:20220511T201639Z
UID:10001175-1653580800-1653591600@aifcmn.org
SUMMARY:Minnesota Indian Women's Resource Center (MIWRC) - Job Fair & Open House
DESCRIPTION:
URL:https://aifcmn.org/event/minnesota-indian-womens-resource-center-miwrc-job-fair-open-house/
LOCATION:Minnesota Indian Women’s Resource Center (MIWRC)\, 2300 15th Avenue South\, Minneapolis\, MN\, United States
CATEGORIES:Celebrate American Indian Month in Minnesota
ATTACH;FMTTYPE=image/jpeg:https://aifcmn.org/wp-content/uploads/2022/05/MIWRC-job-fair-and-open-house.jpg
END:VEVENT
BEGIN:VEVENT
DTSTART;TZID=America/Chicago:20220507T100000
DTEND;TZID=America/Chicago:20220507T150000
DTSTAMP:20260423T045359
CREATED:20220427T215540Z
LAST-MODIFIED:20220427T215540Z
UID:10001163-1651917600-1651935600@aifcmn.org
SUMMARY:Minnesota Women's Resource Center (MIWRC) -  Ribbon Skirt/Shirt Making for MPS 2022 Graduates
DESCRIPTION:Do you enjoy sewing? \nMIWRC is calling volunteers to help make ribbon skirts/shirts for our Native MPS 2022 Graduates. \nClick here to register for this volunteer event!
URL:https://aifcmn.org/event/minnesota-womens-resource-center-miwrc-ribbon-skirt-shirt-making-for-mps-2022-graduates/
LOCATION:Minnesota Indian Women’s Resource Center (MIWRC)\, 2300 15th Avenue South\, Minneapolis\, MN\, United States
CATEGORIES:Celebrate American Indian Month in Minnesota
ATTACH;FMTTYPE=image/jpeg:https://aifcmn.org/wp-content/uploads/2022/04/miwrc.jpg
END:VEVENT
BEGIN:VEVENT
DTSTART;TZID=America/Chicago:20220506T110000
DTEND;TZID=America/Chicago:20220506T140000
DTSTAMP:20260423T045359
CREATED:20220429T162448Z
LAST-MODIFIED:20220429T162448Z
UID:10001166-1651834800-1651845600@aifcmn.org
SUMMARY:Minnesota Indian Women's Resource Center (MIWRC) - Indian Month Open House
DESCRIPTION:
URL:https://aifcmn.org/event/minnesota-indian-womens-resource-center-miwrc-indian-month-open-house/
LOCATION:Minnesota Indian Women’s Resource Center (MIWRC)\, 2300 15th Avenue South\, Minneapolis\, MN\, United States
CATEGORIES:Celebrate American Indian Month in Minnesota
ATTACH;FMTTYPE=image/jpeg:https://aifcmn.org/wp-content/uploads/2022/04/MIWRC-May-2022-Open-House.jpg
END:VEVENT
END:VCALENDAR